BEGIN:VCALENDAR
VERSION:2.0
PRODID:-//Peel Compton Foundation - ECPv6.15.20//NONSGML v1.0//EN
CALSCALE:GREGORIAN
METHOD:PUBLISH
X-ORIGINAL-URL:https://peelcompton.org
X-WR-CALDESC:Events for Peel Compton Foundation
REFRESH-INTERVAL;VALUE=DURATION:PT1H
X-Robots-Tag:noindex
X-PUBLISHED-TTL:PT1H
BEGIN:VTIMEZONE
TZID:America/Chicago
BEGIN:DAYLIGHT
TZOFFSETFROM:-0600
TZOFFSETTO:-0500
TZNAME:CDT
DTSTART:20250309T080000
END:DAYLIGHT
BEGIN:STANDARD
TZOFFSETFROM:-0500
TZOFFSETTO:-0600
TZNAME:CST
DTSTART:20251102T070000
END:STANDARD
BEGIN:DAYLIGHT
TZOFFSETFROM:-0600
TZOFFSETTO:-0500
TZNAME:CDT
DTSTART:20260308T080000
END:DAYLIGHT
BEGIN:STANDARD
TZOFFSETFROM:-0500
TZOFFSETTO:-0600
TZNAME:CST
DTSTART:20261101T070000
END:STANDARD
BEGIN:DAYLIGHT
TZOFFSETFROM:-0600
TZOFFSETTO:-0500
TZNAME:CDT
DTSTART:20270314T080000
END:DAYLIGHT
BEGIN:STANDARD
TZOFFSETFROM:-0500
TZOFFSETTO:-0600
TZNAME:CST
DTSTART:20271107T070000
END:STANDARD
END:VTIMEZONE
BEGIN:VEVENT
DTSTART;TZID=America/Chicago:20260423T170000
DTEND;TZID=America/Chicago:20260423T190000
DTSTAMP:20260422T143052
CREATED:20260302T213815Z
LAST-MODIFIED:20260302T213815Z
UID:10002696-1776963600-1776970800@peelcompton.org
SUMMARY:Spring League Nights
DESCRIPTION:Spring Archery League: A Community of Fun and Friendly Competition \nOur members-only archery league offers the best of both a club and a competition experience. Whether you’re new to archery or a seasoned pro\, the League is a fantastic opportunity to meet fellow archers\, learn from one another\, and build a supportive archery community. All ages and skill levels are welcome\, and we encourage everyone to join\, no matter your experience. \nLeague Structure:\nThe Spring Archery League will run for 6 consecutive weeks. League nights take place every Thursday from 5pm-7pm. During each week\, participants will fill out a scorecard when they come to the range\, and scores will be tallied at the end of the season. Winners in each division and class will be announced at the awards night. \nFlexibility for Your Schedule:\nParticipate on your own schedule! You’re welcome to come in anytime during the League week (Wednesday-Sunday) to complete your scorecard. Whether you’re shooting after work or on the weekend\, we make it easy to fit archery into your life. \nScoring:\nYour final score for the League will be based on your top 4 scores. The two weeks with your lowest scores will be dropped\, allowing more flexibility and the opportunity to improve throughout the season. \nSign Up Now
URL:https://peelcompton.org/event/spring-league-nights/2026-04-23/
LOCATION:The Quiver Archery Range\, 1701 SW F St\, Bentonville\, AR\, United States
CATEGORIES:The Quiver Archery Range
ATTACH;FMTTYPE=image/png:https://peelcompton.org/wp-content/uploads/2026/03/Spring-League-Individuals.png
ORGANIZER;CN="Peel Compton Foundation":MAILTO:info@peelcompton.org
END:VEVENT
BEGIN:VEVENT
DTSTART;TZID=America/Chicago:20260425T130000
DTEND;TZID=America/Chicago:20260425T140000
DTSTAMP:20260422T143052
CREATED:20250701T185959Z
LAST-MODIFIED:20260327T181729Z
UID:10002000-1777122000-1777125600@peelcompton.org
SUMMARY:Try Archery
DESCRIPTION:Want to try archery\, but don’t know where to start? Sign up for our Try Archery program and learn from our certified archery instructors! \nIn this program\, you’ll be introduced to shooting and range safety before taking aim and participating in archery games with balloons! Everything is provided\, just come ready to learn and have some fun! \nAdded bonus: If you enjoy this program and want to take the next step in your archer journey\, your registration fee can be applied to an annual membership at The Quiver. \nPrograms at The Quiver are led by Level 1+ USA Archery & Safesport Certified Staff \n  \n\n\n\n\n\n\n\nSign Up Now
URL:https://peelcompton.org/event/try-archery-42/2026-04-25/
LOCATION:The Quiver Archery Range\, 1701 SW F St\, Bentonville\, AR\, United States
CATEGORIES:The Quiver Archery Range
ATTACH;FMTTYPE=image/png:https://peelcompton.org/wp-content/uploads/2025/07/AmiliaWebsite-Photos-1020-x-680-px-2026-01-06T094347.259.png
END:VEVENT
BEGIN:VEVENT
DTSTART;TZID=America/Chicago:20260426T130000
DTEND;TZID=America/Chicago:20260426T140000
DTSTAMP:20260422T143052
CREATED:20250701T185959Z
LAST-MODIFIED:20260327T181729Z
UID:10002001-1777208400-1777212000@peelcompton.org
SUMMARY:Try Archery
DESCRIPTION:Want to try archery\, but don’t know where to start? Sign up for our Try Archery program and learn from our certified archery instructors! \nIn this program\, you’ll be introduced to shooting and range safety before taking aim and participating in archery games with balloons! Everything is provided\, just come ready to learn and have some fun! \nAdded bonus: If you enjoy this program and want to take the next step in your archer journey\, your registration fee can be applied to an annual membership at The Quiver. \nPrograms at The Quiver are led by Level 1+ USA Archery & Safesport Certified Staff \n  \n\n\n\n\n\n\n\nSign Up Now
URL:https://peelcompton.org/event/try-archery-42/2026-04-26/
LOCATION:The Quiver Archery Range\, 1701 SW F St\, Bentonville\, AR\, United States
CATEGORIES:The Quiver Archery Range
ATTACH;FMTTYPE=image/png:https://peelcompton.org/wp-content/uploads/2025/07/AmiliaWebsite-Photos-1020-x-680-px-2026-01-06T094347.259.png
END:VEVENT
BEGIN:VEVENT
DTSTART;TZID=America/Chicago:20260426T130000
DTEND;TZID=America/Chicago:20260426T180000
DTSTAMP:20260422T143052
CREATED:20250701T191318Z
LAST-MODIFIED:20260407T205302Z
UID:10003031-1777208400-1777226400@peelcompton.org
SUMMARY:April Community Day
DESCRIPTION:Join us for Community Days presented by the Arvest Foundation! \nAll experience levels are welcome for a fun day of free access to The Quiver Archery Range. You’ll get instruction and safety guidelines from certified staff before you begin. Free popcorn provided by Arvest Bank! \nSchedule: \n\nApril: 4/26\nMay: 5/10\nJune: 6/19 – Kids’ Night\n\nDinner Sponsor: Arvest Bank\n\n\nJuly: 7/26\nAugust: 8/30\nSeptember: 9/11 – First Responders’ Night\n\nDinner Sponsor: Arvest Bank\n\n\nOctober: 10/4\n\n  \nHere’s how it works: \n\nRegister here and attend for free.\nPre-registration is highly recommended\nIf you can’t make it\, call so we can open the space up for someone to enjoy!\n\n  \nRegister\n 
URL:https://peelcompton.org/event/community-day-5/
LOCATION:The Quiver Archery Range\, 1701 SW F St\, Bentonville\, AR\, United States
CATEGORIES:The Quiver Archery Range
ATTACH;FMTTYPE=image/png:https://peelcompton.org/wp-content/uploads/2025/09/AmiliaWebsite-Photos-1020-x-680-px-2026-03-05T161623.274.png
ORGANIZER;CN="Peel Compton Foundation":MAILTO:info@peelcompton.org
END:VEVENT
BEGIN:VEVENT
DTSTART;TZID=America/Chicago:20260430T170000
DTEND;TZID=America/Chicago:20260430T190000
DTSTAMP:20260422T143052
CREATED:20260302T213815Z
LAST-MODIFIED:20260302T213815Z
UID:10002697-1777568400-1777575600@peelcompton.org
SUMMARY:Spring League Nights
DESCRIPTION:Spring Archery League: A Community of Fun and Friendly Competition \nOur members-only archery league offers the best of both a club and a competition experience. Whether you’re new to archery or a seasoned pro\, the League is a fantastic opportunity to meet fellow archers\, learn from one another\, and build a supportive archery community. All ages and skill levels are welcome\, and we encourage everyone to join\, no matter your experience. \nLeague Structure:\nThe Spring Archery League will run for 6 consecutive weeks. League nights take place every Thursday from 5pm-7pm. During each week\, participants will fill out a scorecard when they come to the range\, and scores will be tallied at the end of the season. Winners in each division and class will be announced at the awards night. \nFlexibility for Your Schedule:\nParticipate on your own schedule! You’re welcome to come in anytime during the League week (Wednesday-Sunday) to complete your scorecard. Whether you’re shooting after work or on the weekend\, we make it easy to fit archery into your life. \nScoring:\nYour final score for the League will be based on your top 4 scores. The two weeks with your lowest scores will be dropped\, allowing more flexibility and the opportunity to improve throughout the season. \nSign Up Now
URL:https://peelcompton.org/event/spring-league-nights/2026-04-30/
LOCATION:The Quiver Archery Range\, 1701 SW F St\, Bentonville\, AR\, United States
CATEGORIES:The Quiver Archery Range
ATTACH;FMTTYPE=image/png:https://peelcompton.org/wp-content/uploads/2026/03/Spring-League-Individuals.png
ORGANIZER;CN="Peel Compton Foundation":MAILTO:info@peelcompton.org
END:VEVENT
END:VCALENDAR