BEGIN:VCALENDAR
VERSION:2.0
PRODID:-//Peel Compton Foundation - ECPv6.15.20//NONSGML v1.0//EN
CALSCALE:GREGORIAN
METHOD:PUBLISH
X-WR-CALNAME:Peel Compton Foundation
X-ORIGINAL-URL:https://peelcompton.org
X-WR-CALDESC:Events for Peel Compton Foundation
REFRESH-INTERVAL;VALUE=DURATION:PT1H
X-Robots-Tag:noindex
X-PUBLISHED-TTL:PT1H
BEGIN:VTIMEZONE
TZID:America/Chicago
BEGIN:DAYLIGHT
TZOFFSETFROM:-0600
TZOFFSETTO:-0500
TZNAME:CDT
DTSTART:20250309T080000
END:DAYLIGHT
BEGIN:STANDARD
TZOFFSETFROM:-0500
TZOFFSETTO:-0600
TZNAME:CST
DTSTART:20251102T070000
END:STANDARD
BEGIN:DAYLIGHT
TZOFFSETFROM:-0600
TZOFFSETTO:-0500
TZNAME:CDT
DTSTART:20260308T080000
END:DAYLIGHT
BEGIN:STANDARD
TZOFFSETFROM:-0500
TZOFFSETTO:-0600
TZNAME:CST
DTSTART:20261101T070000
END:STANDARD
BEGIN:DAYLIGHT
TZOFFSETFROM:-0600
TZOFFSETTO:-0500
TZNAME:CDT
DTSTART:20270314T080000
END:DAYLIGHT
BEGIN:STANDARD
TZOFFSETFROM:-0500
TZOFFSETTO:-0600
TZNAME:CST
DTSTART:20271107T070000
END:STANDARD
END:VTIMEZONE
BEGIN:VEVENT
DTSTART;TZID=America/Chicago:20260301T130000
DTEND;TZID=America/Chicago:20260301T140000
DTSTAMP:20260422T184844
CREATED:20250701T185959Z
LAST-MODIFIED:20260327T181729Z
UID:10001994-1772370000-1772373600@peelcompton.org
SUMMARY:Try Archery
DESCRIPTION:Want to try archery\, but don’t know where to start? Sign up for our Try Archery program and learn from our certified archery instructors! \nIn this program\, you’ll be introduced to shooting and range safety before taking aim and participating in archery games with balloons! Everything is provided\, just come ready to learn and have some fun! \nAdded bonus: If you enjoy this program and want to take the next step in your archer journey\, your registration fee can be applied to an annual membership at The Quiver. \nPrograms at The Quiver are led by Level 1+ USA Archery & Safesport Certified Staff \n  \n\n\n\n\n\n\n\nSign Up Now
URL:https://peelcompton.org/event/try-archery-42/2026-03-01/
LOCATION:The Quiver Archery Range\, 1701 SW F St\, Bentonville\, AR\, United States
CATEGORIES:The Quiver Archery Range
ATTACH;FMTTYPE=image/png:https://peelcompton.org/wp-content/uploads/2025/07/AmiliaWebsite-Photos-1020-x-680-px-2026-01-06T094347.259.png
END:VEVENT
BEGIN:VEVENT
DTSTART;TZID=America/Chicago:20260307T100000
DTEND;TZID=America/Chicago:20260307T170000
DTSTAMP:20260422T184844
CREATED:20260105T204839Z
LAST-MODIFIED:20260213T202201Z
UID:10001956-1772877600-1772902800@peelcompton.org
SUMMARY:3D Archery Days
DESCRIPTION:Get ready to experience the wild side of archery at The Quiver! On the first weekend of each month\, we bring out our collection of 3D\, animal-shaped targets for you to shoot at. From deer to our fierce velociraptor\, take aim at a variety of unique critters. Of course\, our regular targets will also be available. \nThis is a FREE event for members! \nWhen you register\, you’ll get access to shoot for one hour at your convenience—just come during the event hours and enjoy the experience. Whether you’re looking to hone your skills or just have fun with some wild targets\, it’s an exciting way to spend your time at The Quiver! \nSign Up Now
URL:https://peelcompton.org/event/3d-days-26-2/2026-03-07/
LOCATION:The Quiver Archery Range\, 1701 SW F St\, Bentonville\, AR\, United States
CATEGORIES:The Quiver Archery Range
ATTACH;FMTTYPE=image/png:https://peelcompton.org/wp-content/uploads/2025/12/AmiliaWebsite-Photos-1020-x-680-px-2026-01-05T144805.483.png
END:VEVENT
BEGIN:VEVENT
DTSTART;TZID=America/Chicago:20260308T100000
DTEND;TZID=America/Chicago:20260308T170000
DTSTAMP:20260422T184844
CREATED:20260105T204839Z
LAST-MODIFIED:20260213T202201Z
UID:10001957-1772964000-1772989200@peelcompton.org
SUMMARY:3D Archery Days
DESCRIPTION:Get ready to experience the wild side of archery at The Quiver! On the first weekend of each month\, we bring out our collection of 3D\, animal-shaped targets for you to shoot at. From deer to our fierce velociraptor\, take aim at a variety of unique critters. Of course\, our regular targets will also be available. \nThis is a FREE event for members! \nWhen you register\, you’ll get access to shoot for one hour at your convenience—just come during the event hours and enjoy the experience. Whether you’re looking to hone your skills or just have fun with some wild targets\, it’s an exciting way to spend your time at The Quiver! \nSign Up Now
URL:https://peelcompton.org/event/3d-days-26-2/2026-03-08/
LOCATION:The Quiver Archery Range\, 1701 SW F St\, Bentonville\, AR\, United States
CATEGORIES:The Quiver Archery Range
ATTACH;FMTTYPE=image/png:https://peelcompton.org/wp-content/uploads/2025/12/AmiliaWebsite-Photos-1020-x-680-px-2026-01-05T144805.483.png
END:VEVENT
BEGIN:VEVENT
DTSTART;TZID=America/Chicago:20260314T130000
DTEND;TZID=America/Chicago:20260314T140000
DTSTAMP:20260422T184844
CREATED:20250701T185959Z
LAST-MODIFIED:20260327T181729Z
UID:10001995-1773493200-1773496800@peelcompton.org
SUMMARY:Try Archery
DESCRIPTION:Want to try archery\, but don’t know where to start? Sign up for our Try Archery program and learn from our certified archery instructors! \nIn this program\, you’ll be introduced to shooting and range safety before taking aim and participating in archery games with balloons! Everything is provided\, just come ready to learn and have some fun! \nAdded bonus: If you enjoy this program and want to take the next step in your archer journey\, your registration fee can be applied to an annual membership at The Quiver. \nPrograms at The Quiver are led by Level 1+ USA Archery & Safesport Certified Staff \n  \n\n\n\n\n\n\n\nSign Up Now
URL:https://peelcompton.org/event/try-archery-42/2026-03-14/
LOCATION:The Quiver Archery Range\, 1701 SW F St\, Bentonville\, AR\, United States
CATEGORIES:The Quiver Archery Range
ATTACH;FMTTYPE=image/png:https://peelcompton.org/wp-content/uploads/2025/07/AmiliaWebsite-Photos-1020-x-680-px-2026-01-06T094347.259.png
END:VEVENT
BEGIN:VEVENT
DTSTART;TZID=America/Chicago:20260315T130000
DTEND;TZID=America/Chicago:20260315T140000
DTSTAMP:20260422T184844
CREATED:20250701T185959Z
LAST-MODIFIED:20260327T181729Z
UID:10001996-1773579600-1773583200@peelcompton.org
SUMMARY:Try Archery
DESCRIPTION:Want to try archery\, but don’t know where to start? Sign up for our Try Archery program and learn from our certified archery instructors! \nIn this program\, you’ll be introduced to shooting and range safety before taking aim and participating in archery games with balloons! Everything is provided\, just come ready to learn and have some fun! \nAdded bonus: If you enjoy this program and want to take the next step in your archer journey\, your registration fee can be applied to an annual membership at The Quiver. \nPrograms at The Quiver are led by Level 1+ USA Archery & Safesport Certified Staff \n  \n\n\n\n\n\n\n\nSign Up Now
URL:https://peelcompton.org/event/try-archery-42/2026-03-15/
LOCATION:The Quiver Archery Range\, 1701 SW F St\, Bentonville\, AR\, United States
CATEGORIES:The Quiver Archery Range
ATTACH;FMTTYPE=image/png:https://peelcompton.org/wp-content/uploads/2025/07/AmiliaWebsite-Photos-1020-x-680-px-2026-01-06T094347.259.png
END:VEVENT
BEGIN:VEVENT
DTSTART;TZID=America/Chicago:20260323T130000
DTEND;TZID=America/Chicago:20260323T143000
DTSTAMP:20260422T184844
CREATED:20260129T193251Z
LAST-MODIFIED:20260129T194638Z
UID:10002270-1774270800-1774276200@peelcompton.org
SUMMARY:Spring Break Series: Archery Art
DESCRIPTION:Unleash your creativity in this one-of-a-kind active art experience at The Quiver! As part of our Summer Series\, Archery Art combines precision shooting with bold\, expressive artwork. \nParticipants will arrange paint-filled balloons on a paper-covered target to create a custom design. Then\, after receiving basic archery instruction\, you’ll take aim and pop the balloons\, turning each shot into a vibrant splatter of color. When you’re finished\, you’ll have a one-of-a-kind painting to take home—created by you! \n  \nSign Up Now
URL:https://peelcompton.org/event/spring-break-series-archery-art/
LOCATION:The Quiver Archery Range\, 1701 SW F St\, Bentonville\, AR\, United States
CATEGORIES:The Quiver Archery Range
ATTACH;FMTTYPE=image/png:https://peelcompton.org/wp-content/uploads/2025/07/Summer-Series_-Archery-Art-1PIqBQ.png
ORGANIZER;CN="Peel Compton Foundation":MAILTO:info@peelcompton.org
END:VEVENT
BEGIN:VEVENT
DTSTART;TZID=America/Chicago:20260328T130000
DTEND;TZID=America/Chicago:20260328T140000
DTSTAMP:20260422T184844
CREATED:20250701T185959Z
LAST-MODIFIED:20260327T181729Z
UID:10001997-1774702800-1774706400@peelcompton.org
SUMMARY:Try Archery
DESCRIPTION:Want to try archery\, but don’t know where to start? Sign up for our Try Archery program and learn from our certified archery instructors! \nIn this program\, you’ll be introduced to shooting and range safety before taking aim and participating in archery games with balloons! Everything is provided\, just come ready to learn and have some fun! \nAdded bonus: If you enjoy this program and want to take the next step in your archer journey\, your registration fee can be applied to an annual membership at The Quiver. \nPrograms at The Quiver are led by Level 1+ USA Archery & Safesport Certified Staff \n  \n\n\n\n\n\n\n\nSign Up Now
URL:https://peelcompton.org/event/try-archery-42/2026-03-28/
LOCATION:The Quiver Archery Range\, 1701 SW F St\, Bentonville\, AR\, United States
CATEGORIES:The Quiver Archery Range
ATTACH;FMTTYPE=image/png:https://peelcompton.org/wp-content/uploads/2025/07/AmiliaWebsite-Photos-1020-x-680-px-2026-01-06T094347.259.png
END:VEVENT
BEGIN:VEVENT
DTSTART;TZID=America/Chicago:20260329T130000
DTEND;TZID=America/Chicago:20260329T140000
DTSTAMP:20260422T184844
CREATED:20250701T185959Z
LAST-MODIFIED:20260327T181729Z
UID:10001998-1774789200-1774792800@peelcompton.org
SUMMARY:Try Archery
DESCRIPTION:Want to try archery\, but don’t know where to start? Sign up for our Try Archery program and learn from our certified archery instructors! \nIn this program\, you’ll be introduced to shooting and range safety before taking aim and participating in archery games with balloons! Everything is provided\, just come ready to learn and have some fun! \nAdded bonus: If you enjoy this program and want to take the next step in your archer journey\, your registration fee can be applied to an annual membership at The Quiver. \nPrograms at The Quiver are led by Level 1+ USA Archery & Safesport Certified Staff \n  \n\n\n\n\n\n\n\nSign Up Now
URL:https://peelcompton.org/event/try-archery-42/2026-03-29/
LOCATION:The Quiver Archery Range\, 1701 SW F St\, Bentonville\, AR\, United States
CATEGORIES:The Quiver Archery Range
ATTACH;FMTTYPE=image/png:https://peelcompton.org/wp-content/uploads/2025/07/AmiliaWebsite-Photos-1020-x-680-px-2026-01-06T094347.259.png
END:VEVENT
END:VCALENDAR