BEGIN:VCALENDAR
VERSION:2.0
PRODID:-//Peel Compton Foundation - ECPv6.15.20//NONSGML v1.0//EN
CALSCALE:GREGORIAN
METHOD:PUBLISH
X-WR-CALNAME:Peel Compton Foundation
X-ORIGINAL-URL:https://peelcompton.org
X-WR-CALDESC:Events for Peel Compton Foundation
REFRESH-INTERVAL;VALUE=DURATION:PT1H
X-Robots-Tag:noindex
X-PUBLISHED-TTL:PT1H
BEGIN:VTIMEZONE
TZID:America/Chicago
BEGIN:DAYLIGHT
TZOFFSETFROM:-0600
TZOFFSETTO:-0500
TZNAME:CDT
DTSTART:20250309T080000
END:DAYLIGHT
BEGIN:STANDARD
TZOFFSETFROM:-0500
TZOFFSETTO:-0600
TZNAME:CST
DTSTART:20251102T070000
END:STANDARD
BEGIN:DAYLIGHT
TZOFFSETFROM:-0600
TZOFFSETTO:-0500
TZNAME:CDT
DTSTART:20260308T080000
END:DAYLIGHT
BEGIN:STANDARD
TZOFFSETFROM:-0500
TZOFFSETTO:-0600
TZNAME:CST
DTSTART:20261101T070000
END:STANDARD
BEGIN:DAYLIGHT
TZOFFSETFROM:-0600
TZOFFSETTO:-0500
TZNAME:CDT
DTSTART:20270314T080000
END:DAYLIGHT
BEGIN:STANDARD
TZOFFSETFROM:-0500
TZOFFSETTO:-0600
TZNAME:CST
DTSTART:20271107T070000
END:STANDARD
END:VTIMEZONE
BEGIN:VEVENT
DTSTART;TZID=America/Chicago:20260422T173000
DTEND;TZID=America/Chicago:20260422T193000
DTSTAMP:20260419T073417
CREATED:20251204T153013Z
LAST-MODIFIED:20260213T204005Z
UID:10002055-1776879000-1776886200@peelcompton.org
SUMMARY:Mountain Biking: Intro to Cornering
DESCRIPTION:Coler’s Mountain Biking Intro to Cornering Class is the perfect place for you to expand your skill set. Coler’s PMBIA certified instructors will walk you through all aspects of cornering – including body position\, bike position\, and more. This class will help provide a solid foundation for you to take your skills to the next level! \nNo refunds will be issued for this purchase unless Peel Compton Foundation cancels the program due to low participation or weather. \n  \nSign Up Now
URL:https://peelcompton.org/event/mountain-biking-intro-to-cornering-6/2026-04-22/
LOCATION:Coler Mountain Bike Preserve\, 2500 NW Grove Lane\, Bentonville\, AR\, United States
CATEGORIES:Coler Mountain Bike Preserve
ATTACH;FMTTYPE=image/png:https://peelcompton.org/wp-content/uploads/2025/12/AmiliaWebsite-Photos-1020-x-680-px-2026-01-12T115018.000.png
ORGANIZER;CN="Peel Compton Foundation":MAILTO:info@peelcompton.org
END:VEVENT
BEGIN:VEVENT
DTSTART;TZID=America/Chicago:20260504T173000
DTEND;TZID=America/Chicago:20260504T193000
DTSTAMP:20260419T073417
CREATED:20250701T191132Z
LAST-MODIFIED:20260112T182729Z
UID:10002063-1777915800-1777923000@peelcompton.org
SUMMARY:Mountain Biking: Intro to Technical Terrain
DESCRIPTION:Ready to ride rock gardens? Coler’s Intro to Technical Riding Class is the perfect place for you to expand your skill set. Coler’s PMBIA certified instructor will walk you through all aspects of navigating roots and rocks- including body position\, bike body separation and more. This class will help provide a solid foundation for you to take your skills to the next level! \nNo refunds will be issued for this purchase unless Peel Compton Foundation cancels the program due to low participation or weather. \nRegister\n 
URL:https://peelcompton.org/event/mountain-biking-technical-terrain/2026-05-04/
LOCATION:Coler Mountain Bike Preserve\, 2500 NW Grove Lane\, Bentonville\, AR\, United States
CATEGORIES:Coler Mountain Bike Preserve
ATTACH;FMTTYPE=image/png:https://peelcompton.org/wp-content/uploads/2025/07/AmiliaWebsite-Photos-1020-x-680-px-2026-01-12T122215.074.png
END:VEVENT
BEGIN:VEVENT
DTSTART;TZID=America/Chicago:20260601T173000
DTEND;TZID=America/Chicago:20260601T193000
DTSTAMP:20260419T073417
CREATED:20251204T153013Z
LAST-MODIFIED:20260213T204005Z
UID:10002057-1780335000-1780342200@peelcompton.org
SUMMARY:Mountain Biking: Intro to Cornering
DESCRIPTION:Coler’s Mountain Biking Intro to Cornering Class is the perfect place for you to expand your skill set. Coler’s PMBIA certified instructors will walk you through all aspects of cornering – including body position\, bike position\, and more. This class will help provide a solid foundation for you to take your skills to the next level! \nNo refunds will be issued for this purchase unless Peel Compton Foundation cancels the program due to low participation or weather. \n  \nSign Up Now
URL:https://peelcompton.org/event/mountain-biking-intro-to-cornering-6/2026-06-01/
LOCATION:Coler Mountain Bike Preserve\, 2500 NW Grove Lane\, Bentonville\, AR\, United States
CATEGORIES:Coler Mountain Bike Preserve
ATTACH;FMTTYPE=image/png:https://peelcompton.org/wp-content/uploads/2025/12/AmiliaWebsite-Photos-1020-x-680-px-2026-01-12T115018.000.png
ORGANIZER;CN="Peel Compton Foundation":MAILTO:info@peelcompton.org
END:VEVENT
BEGIN:VEVENT
DTSTART;TZID=America/Chicago:20260613T103000
DTEND;TZID=America/Chicago:20260613T123000
DTSTAMP:20260419T073417
CREATED:20250701T191132Z
LAST-MODIFIED:20260112T182729Z
UID:10002064-1781346600-1781353800@peelcompton.org
SUMMARY:Mountain Biking: Intro to Technical Terrain
DESCRIPTION:Ready to ride rock gardens? Coler’s Intro to Technical Riding Class is the perfect place for you to expand your skill set. Coler’s PMBIA certified instructor will walk you through all aspects of navigating roots and rocks- including body position\, bike body separation and more. This class will help provide a solid foundation for you to take your skills to the next level! \nNo refunds will be issued for this purchase unless Peel Compton Foundation cancels the program due to low participation or weather. \nRegister\n 
URL:https://peelcompton.org/event/mountain-biking-technical-terrain/2026-06-13/
LOCATION:Coler Mountain Bike Preserve\, 2500 NW Grove Lane\, Bentonville\, AR\, United States
CATEGORIES:Coler Mountain Bike Preserve
ATTACH;FMTTYPE=image/png:https://peelcompton.org/wp-content/uploads/2025/07/AmiliaWebsite-Photos-1020-x-680-px-2026-01-12T122215.074.png
END:VEVENT
BEGIN:VEVENT
DTSTART;TZID=America/Chicago:20260615T173000
DTEND;TZID=America/Chicago:20260615T193000
DTSTAMP:20260419T073417
CREATED:20251204T153013Z
LAST-MODIFIED:20260213T204005Z
UID:10002058-1781544600-1781551800@peelcompton.org
SUMMARY:Mountain Biking: Intro to Cornering
DESCRIPTION:Coler’s Mountain Biking Intro to Cornering Class is the perfect place for you to expand your skill set. Coler’s PMBIA certified instructors will walk you through all aspects of cornering – including body position\, bike position\, and more. This class will help provide a solid foundation for you to take your skills to the next level! \nNo refunds will be issued for this purchase unless Peel Compton Foundation cancels the program due to low participation or weather. \n  \nSign Up Now
URL:https://peelcompton.org/event/mountain-biking-intro-to-cornering-6/2026-06-15/
LOCATION:Coler Mountain Bike Preserve\, 2500 NW Grove Lane\, Bentonville\, AR\, United States
CATEGORIES:Coler Mountain Bike Preserve
ATTACH;FMTTYPE=image/png:https://peelcompton.org/wp-content/uploads/2025/12/AmiliaWebsite-Photos-1020-x-680-px-2026-01-12T115018.000.png
ORGANIZER;CN="Peel Compton Foundation":MAILTO:info@peelcompton.org
END:VEVENT
BEGIN:VEVENT
DTSTART;TZID=America/Chicago:20260708T173000
DTEND;TZID=America/Chicago:20260708T193000
DTSTAMP:20260419T073417
CREATED:20251204T153013Z
LAST-MODIFIED:20260213T204005Z
UID:10002059-1783531800-1783539000@peelcompton.org
SUMMARY:Mountain Biking: Intro to Cornering
DESCRIPTION:Coler’s Mountain Biking Intro to Cornering Class is the perfect place for you to expand your skill set. Coler’s PMBIA certified instructors will walk you through all aspects of cornering – including body position\, bike position\, and more. This class will help provide a solid foundation for you to take your skills to the next level! \nNo refunds will be issued for this purchase unless Peel Compton Foundation cancels the program due to low participation or weather. \n  \nSign Up Now
URL:https://peelcompton.org/event/mountain-biking-intro-to-cornering-6/2026-07-08/
LOCATION:Coler Mountain Bike Preserve\, 2500 NW Grove Lane\, Bentonville\, AR\, United States
CATEGORIES:Coler Mountain Bike Preserve
ATTACH;FMTTYPE=image/png:https://peelcompton.org/wp-content/uploads/2025/12/AmiliaWebsite-Photos-1020-x-680-px-2026-01-12T115018.000.png
ORGANIZER;CN="Peel Compton Foundation":MAILTO:info@peelcompton.org
END:VEVENT
BEGIN:VEVENT
DTSTART;TZID=America/Chicago:20260725T103000
DTEND;TZID=America/Chicago:20260725T123000
DTSTAMP:20260419T073417
CREATED:20250701T191132Z
LAST-MODIFIED:20260112T182729Z
UID:10002065-1784975400-1784982600@peelcompton.org
SUMMARY:Mountain Biking: Intro to Technical Terrain
DESCRIPTION:Ready to ride rock gardens? Coler’s Intro to Technical Riding Class is the perfect place for you to expand your skill set. Coler’s PMBIA certified instructor will walk you through all aspects of navigating roots and rocks- including body position\, bike body separation and more. This class will help provide a solid foundation for you to take your skills to the next level! \nNo refunds will be issued for this purchase unless Peel Compton Foundation cancels the program due to low participation or weather. \nRegister\n 
URL:https://peelcompton.org/event/mountain-biking-technical-terrain/2026-07-25/
LOCATION:Coler Mountain Bike Preserve\, 2500 NW Grove Lane\, Bentonville\, AR\, United States
CATEGORIES:Coler Mountain Bike Preserve
ATTACH;FMTTYPE=image/png:https://peelcompton.org/wp-content/uploads/2025/07/AmiliaWebsite-Photos-1020-x-680-px-2026-01-12T122215.074.png
END:VEVENT
BEGIN:VEVENT
DTSTART;TZID=America/Chicago:20260824T173000
DTEND;TZID=America/Chicago:20260824T193000
DTSTAMP:20260419T073417
CREATED:20250701T191132Z
LAST-MODIFIED:20260112T182729Z
UID:10002066-1787592600-1787599800@peelcompton.org
SUMMARY:Mountain Biking: Intro to Technical Terrain
DESCRIPTION:Ready to ride rock gardens? Coler’s Intro to Technical Riding Class is the perfect place for you to expand your skill set. Coler’s PMBIA certified instructor will walk you through all aspects of navigating roots and rocks- including body position\, bike body separation and more. This class will help provide a solid foundation for you to take your skills to the next level! \nNo refunds will be issued for this purchase unless Peel Compton Foundation cancels the program due to low participation or weather. \nRegister\n 
URL:https://peelcompton.org/event/mountain-biking-technical-terrain/2026-08-24/
LOCATION:Coler Mountain Bike Preserve\, 2500 NW Grove Lane\, Bentonville\, AR\, United States
CATEGORIES:Coler Mountain Bike Preserve
ATTACH;FMTTYPE=image/png:https://peelcompton.org/wp-content/uploads/2025/07/AmiliaWebsite-Photos-1020-x-680-px-2026-01-12T122215.074.png
END:VEVENT
BEGIN:VEVENT
DTSTART;TZID=America/Chicago:20260831T173000
DTEND;TZID=America/Chicago:20260831T193000
DTSTAMP:20260419T073418
CREATED:20251204T153013Z
LAST-MODIFIED:20260213T204005Z
UID:10002060-1788197400-1788204600@peelcompton.org
SUMMARY:Mountain Biking: Intro to Cornering
DESCRIPTION:Coler’s Mountain Biking Intro to Cornering Class is the perfect place for you to expand your skill set. Coler’s PMBIA certified instructors will walk you through all aspects of cornering – including body position\, bike position\, and more. This class will help provide a solid foundation for you to take your skills to the next level! \nNo refunds will be issued for this purchase unless Peel Compton Foundation cancels the program due to low participation or weather. \n  \nSign Up Now
URL:https://peelcompton.org/event/mountain-biking-intro-to-cornering-6/2026-08-31/
LOCATION:Coler Mountain Bike Preserve\, 2500 NW Grove Lane\, Bentonville\, AR\, United States
CATEGORIES:Coler Mountain Bike Preserve
ATTACH;FMTTYPE=image/png:https://peelcompton.org/wp-content/uploads/2025/12/AmiliaWebsite-Photos-1020-x-680-px-2026-01-12T115018.000.png
ORGANIZER;CN="Peel Compton Foundation":MAILTO:info@peelcompton.org
END:VEVENT
BEGIN:VEVENT
DTSTART;TZID=America/Chicago:20260905T103000
DTEND;TZID=America/Chicago:20260905T123000
DTSTAMP:20260419T073418
CREATED:20250701T191132Z
LAST-MODIFIED:20260112T182729Z
UID:10002067-1788604200-1788611400@peelcompton.org
SUMMARY:Mountain Biking: Intro to Technical Terrain
DESCRIPTION:Ready to ride rock gardens? Coler’s Intro to Technical Riding Class is the perfect place for you to expand your skill set. Coler’s PMBIA certified instructor will walk you through all aspects of navigating roots and rocks- including body position\, bike body separation and more. This class will help provide a solid foundation for you to take your skills to the next level! \nNo refunds will be issued for this purchase unless Peel Compton Foundation cancels the program due to low participation or weather. \nRegister\n 
URL:https://peelcompton.org/event/mountain-biking-technical-terrain/2026-09-05/
LOCATION:Coler Mountain Bike Preserve\, 2500 NW Grove Lane\, Bentonville\, AR\, United States
CATEGORIES:Coler Mountain Bike Preserve
ATTACH;FMTTYPE=image/png:https://peelcompton.org/wp-content/uploads/2025/07/AmiliaWebsite-Photos-1020-x-680-px-2026-01-12T122215.074.png
END:VEVENT
BEGIN:VEVENT
DTSTART;TZID=America/Chicago:20261031T103000
DTEND;TZID=America/Chicago:20261031T123000
DTSTAMP:20260419T073418
CREATED:20250701T191132Z
LAST-MODIFIED:20260112T182729Z
UID:10002068-1793442600-1793449800@peelcompton.org
SUMMARY:Mountain Biking: Intro to Technical Terrain
DESCRIPTION:Ready to ride rock gardens? Coler’s Intro to Technical Riding Class is the perfect place for you to expand your skill set. Coler’s PMBIA certified instructor will walk you through all aspects of navigating roots and rocks- including body position\, bike body separation and more. This class will help provide a solid foundation for you to take your skills to the next level! \nNo refunds will be issued for this purchase unless Peel Compton Foundation cancels the program due to low participation or weather. \nRegister\n 
URL:https://peelcompton.org/event/mountain-biking-technical-terrain/2026-10-31/
LOCATION:Coler Mountain Bike Preserve\, 2500 NW Grove Lane\, Bentonville\, AR\, United States
CATEGORIES:Coler Mountain Bike Preserve
ATTACH;FMTTYPE=image/png:https://peelcompton.org/wp-content/uploads/2025/07/AmiliaWebsite-Photos-1020-x-680-px-2026-01-12T122215.074.png
END:VEVENT
END:VCALENDAR