BEGIN:VCALENDAR
VERSION:2.0
PRODID:-//Peel Compton Foundation - ECPv6.15.20//NONSGML v1.0//EN
CALSCALE:GREGORIAN
METHOD:PUBLISH
X-ORIGINAL-URL:https://peelcompton.org
X-WR-CALDESC:Events for Peel Compton Foundation
REFRESH-INTERVAL;VALUE=DURATION:PT1H
X-Robots-Tag:noindex
X-PUBLISHED-TTL:PT1H
BEGIN:VTIMEZONE
TZID:America/Chicago
BEGIN:DAYLIGHT
TZOFFSETFROM:-0600
TZOFFSETTO:-0500
TZNAME:CDT
DTSTART:20240310T080000
END:DAYLIGHT
BEGIN:STANDARD
TZOFFSETFROM:-0500
TZOFFSETTO:-0600
TZNAME:CST
DTSTART:20241103T070000
END:STANDARD
BEGIN:DAYLIGHT
TZOFFSETFROM:-0600
TZOFFSETTO:-0500
TZNAME:CDT
DTSTART:20250309T080000
END:DAYLIGHT
BEGIN:STANDARD
TZOFFSETFROM:-0500
TZOFFSETTO:-0600
TZNAME:CST
DTSTART:20251102T070000
END:STANDARD
BEGIN:DAYLIGHT
TZOFFSETFROM:-0600
TZOFFSETTO:-0500
TZNAME:CDT
DTSTART:20260308T080000
END:DAYLIGHT
BEGIN:STANDARD
TZOFFSETFROM:-0500
TZOFFSETTO:-0600
TZNAME:CST
DTSTART:20261101T070000
END:STANDARD
END:VTIMEZONE
BEGIN:VEVENT
DTSTART;TZID=America/Chicago:20250702T063000
DTEND;TZID=America/Chicago:20250702T193000
DTSTAMP:20260421T043152
CREATED:20250701T192737Z
LAST-MODIFIED:20250717T192730Z
UID:10000497-1751437800-1751484600@peelcompton.org
SUMMARY:The Rise Meetup
DESCRIPTION:Wednesdays at 6:30 AM | June 18 – August 6Free | Coler Mountain Bike Preserve \nLooking for a fresh way to start your morning? Join us every Wednesday at 6:30 AM for The Rise Meetup—an energizing community workout that takes you up 185 steps (equal to 11 flights of stairs) for a one-of-a-kind fitness experience. \nThis free\, 8-week series is a chance to challenge yourself physically\, meet new people\, and connect with the Coler community in a unique and uplifting setting. Whether you’re training for The Rise Challenge on August 9 or just looking for a new way to move\, you’re welcome here—no sign-up required. \nPerks for showing up: \n\nAttend 4 meetups and earn a Coler sticker\nAttend all 8 meetups and receive a limited-edition Coler canteen mug\n\nWhere to Meet:The Rise staircase is located about 200 yards north of Airship Coffee\, on the east side of the greenway. For the fastest access\, park in the North Lot off Peach Orchard Road (11840–11850 Peach Orchard Rd\, Bentonville). You can also reach The Rise via the Applegate Trail\, which runs between SW 8th St and NW 3rd St. \nMark your calendar: The final meetup is Wednesday\, August 6\, just days before The Rise Challenge—our fun\, all-levels stair race. Participation in the challenge is optional\, but this meetup is a great way to train if you’re interested.
URL:https://peelcompton.org/event/the-rise-meetup-3/
LOCATION:Coler Mountain Bike Preserve\, 2500 NW Grove Lane\, Bentonville\, AR\, United States
CATEGORIES:Coler Mountain Bike Preserve
ATTACH;FMTTYPE=image/png:https://peelcompton.org/wp-content/uploads/2025/07/AmiliaWebsite-Photos-1020-x-680-px-50-u2y5Sj.png
END:VEVENT
BEGIN:VEVENT
DTSTART;TZID=America/Chicago:20250705T080000
DTEND;TZID=America/Chicago:20250705T090000
DTSTAMP:20260421T043152
CREATED:20250701T192018Z
LAST-MODIFIED:20250715T182304Z
UID:10000414-1751702400-1751706000@peelcompton.org
SUMMARY:Yoga in the Garden
DESCRIPTION:Grab your mat and join us every Saturday at 8 am in June & July for FREE yoga in the Peel Botanical Garden! We thank our friends at Yoga Story for leading this fundamentals class. \nAll ages are welcome!
URL:https://peelcompton.org/event/yoga-in-the-garden-5/
LOCATION:Peel Museum & Botanical Garden\, 400 S. Walton Blvd\, Bentonville\, AR\, United States
CATEGORIES:Peel Museum & Botanical Garden
ATTACH;FMTTYPE=image/png:https://peelcompton.org/wp-content/uploads/2025/07/AmiliaWebsite-Photos-1020-x-680-px-15-n1hVZB.png
END:VEVENT
BEGIN:VEVENT
DTSTART;TZID=America/Chicago:20250709T063000
DTEND;TZID=America/Chicago:20250709T193000
DTSTAMP:20260421T043152
CREATED:20250701T192738Z
LAST-MODIFIED:20250717T192632Z
UID:10000498-1752042600-1752089400@peelcompton.org
SUMMARY:The Rise Meetup
DESCRIPTION:Wednesdays at 6:30 AM | June 18 – August 6Free | Coler Mountain Bike Preserve \nLooking for a fresh way to start your morning? Join us every Wednesday at 6:30 AM for The Rise Meetup—an energizing community workout that takes you up 185 steps (equal to 11 flights of stairs) for a one-of-a-kind fitness experience. \nThis free\, 8-week series is a chance to challenge yourself physically\, meet new people\, and connect with the Coler community in a unique and uplifting setting. Whether you’re training for The Rise Challenge on August 9 or just looking for a new way to move\, you’re welcome here—no sign-up required. \nPerks for showing up: \n\nAttend 4 meetups and earn a Coler sticker\nAttend all 8 meetups and receive a limited-edition Coler canteen mug\n\nWhere to Meet:The Rise staircase is located about 200 yards north of Airship Coffee\, on the east side of the greenway. For the fastest access\, park in the North Lot off Peach Orchard Road (11840–11850 Peach Orchard Rd\, Bentonville). You can also reach The Rise via the Applegate Trail\, which runs between SW 8th St and NW 3rd St. \nMark your calendar: The final meetup is Wednesday\, August 6\, just days before The Rise Challenge—our fun\, all-levels stair race. Participation in the challenge is optional\, but this meetup is a great way to train if you’re interested.
URL:https://peelcompton.org/event/the-rise-meetup-4/
LOCATION:Coler Mountain Bike Preserve\, 2500 NW Grove Lane\, Bentonville\, AR\, United States
CATEGORIES:Coler Mountain Bike Preserve
ATTACH;FMTTYPE=image/png:https://peelcompton.org/wp-content/uploads/2025/07/AmiliaWebsite-Photos-1020-x-680-px-50-u2y5Sj.png
END:VEVENT
BEGIN:VEVENT
DTSTART;TZID=America/Chicago:20250712T080000
DTEND;TZID=America/Chicago:20250712T090000
DTSTAMP:20260421T043152
CREATED:20250701T192019Z
LAST-MODIFIED:20250715T182245Z
UID:10000415-1752307200-1752310800@peelcompton.org
SUMMARY:Yoga in the Garden
DESCRIPTION:Grab your mat and join us every Saturday at 8 am in June & July for FREE yoga in the Peel Botanical Garden! We thank our friends at Yoga Story for leading this fundamentals class. \nAll ages are welcome!
URL:https://peelcompton.org/event/yoga-in-the-garden-6/
LOCATION:Peel Museum & Botanical Garden\, 400 S. Walton Blvd\, Bentonville\, AR\, United States
CATEGORIES:Peel Museum & Botanical Garden
ATTACH;FMTTYPE=image/png:https://peelcompton.org/wp-content/uploads/2025/07/AmiliaWebsite-Photos-1020-x-680-px-15-n1hVZB.png
END:VEVENT
BEGIN:VEVENT
DTSTART;TZID=America/Chicago:20250716T063000
DTEND;TZID=America/Chicago:20250716T193000
DTSTAMP:20260421T043152
CREATED:20250701T192739Z
LAST-MODIFIED:20250717T192443Z
UID:10000499-1752647400-1752694200@peelcompton.org
SUMMARY:The Rise Meetup
DESCRIPTION:Wednesdays at 6:30 AM | June 18 – August 6Free | Coler Mountain Bike Preserve \nLooking for a fresh way to start your morning? Join us every Wednesday at 6:30 AM for The Rise Meetup—an energizing community workout that takes you up 185 steps (equal to 11 flights of stairs) for a one-of-a-kind fitness experience. \nThis free\, 8-week series is a chance to challenge yourself physically\, meet new people\, and connect with the Coler community in a unique and uplifting setting. Whether you’re training for The Rise Challenge on August 9 or just looking for a new way to move\, you’re welcome here—no sign-up required. \nPerks for showing up: \n\nAttend 4 meetups and earn a Coler sticker\nAttend all 8 meetups and receive a limited-edition Coler canteen mug\n\nWhere to Meet:The Rise staircase is located about 200 yards north of Airship Coffee\, on the east side of the greenway. For the fastest access\, park in the North Lot off Peach Orchard Road (11840–11850 Peach Orchard Rd\, Bentonville). You can also reach The Rise via the Applegate Trail\, which runs between SW 8th St and NW 3rd St. \nMark your calendar: The final meetup is Wednesday\, August 6\, just days before The Rise Challenge—our fun\, all-levels stair race. Participation in the challenge is optional\, but this meetup is a great way to train if you’re interested.
URL:https://peelcompton.org/event/the-rise-meetup-5/
LOCATION:Coler Mountain Bike Preserve\, 2500 NW Grove Lane\, Bentonville\, AR\, United States
CATEGORIES:Coler Mountain Bike Preserve
ATTACH;FMTTYPE=image/png:https://peelcompton.org/wp-content/uploads/2025/07/AmiliaWebsite-Photos-1020-x-680-px-50-u2y5Sj.png
END:VEVENT
BEGIN:VEVENT
DTSTART;TZID=America/Chicago:20250719T080000
DTEND;TZID=America/Chicago:20250719T090000
DTSTAMP:20260421T043152
CREATED:20250701T192020Z
LAST-MODIFIED:20250715T182245Z
UID:10000416-1752912000-1752915600@peelcompton.org
SUMMARY:Yoga in the Garden
DESCRIPTION:Grab your mat and join us every Saturday at 8 am in June & July for FREE yoga in the Peel Botanical Garden! We thank our friends at Yoga Story for leading this fundamentals class. \n All ages are welcome!
URL:https://peelcompton.org/event/yoga-in-the-garden-7/
LOCATION:Peel Museum & Botanical Garden\, 400 S. Walton Blvd\, Bentonville\, AR\, United States
CATEGORIES:Peel Museum & Botanical Garden
ATTACH;FMTTYPE=image/png:https://peelcompton.org/wp-content/uploads/2025/07/AmiliaWebsite-Photos-1020-x-680-px-15-n1hVZB.png
END:VEVENT
BEGIN:VEVENT
DTSTART;TZID=America/Chicago:20250723T063000
DTEND;TZID=America/Chicago:20250723T193000
DTSTAMP:20260421T043152
CREATED:20250701T192740Z
LAST-MODIFIED:20250715T181615Z
UID:10000500-1753252200-1753299000@peelcompton.org
SUMMARY:The Rise Meetup
DESCRIPTION:Wednesdays at 6:30 AM | June 18 – August 6Free | Coler Mountain Bike Preserve \nLooking for a fresh way to start your morning? Join us every Wednesday at 6:30 AM for The Rise Meetup—an energizing community workout that takes you up 185 steps (equal to 11 flights of stairs) for a one-of-a-kind fitness experience. \nThis free\, 8-week series is a chance to challenge yourself physically\, meet new people\, and connect with the Coler community in a unique and uplifting setting. Whether you’re training for The Rise Challenge on August 9 or just looking for a new way to move\, you’re welcome here—no sign-up required. \nPerks for showing up: \n\nAttend 4 meetups and earn a Coler sticker\nAttend all 8 meetups and receive a limited-edition Coler canteen mug\n\nWhere to Meet:The Rise staircase is located about 200 yards north of Airship Coffee\, on the east side of the greenway. For the fastest access\, park in the North Lot off Peach Orchard Road (11840–11850 Peach Orchard Rd\, Bentonville). You can also reach The Rise via the Applegate Trail\, which runs between SW 8th St and NW 3rd St. \nMark your calendar: The final meetup is Wednesday\, August 6\, just days before The Rise Challenge—our fun\, all-levels stair race. Participation in the challenge is optional\, but this meetup is a great way to train if you’re interested.
URL:https://peelcompton.org/event/the-rise-meetup-6/
LOCATION:Coler Mountain Bike Preserve\, 2500 NW Grove Lane\, Bentonville\, AR\, United States
CATEGORIES:Coler Mountain Bike Preserve
ATTACH;FMTTYPE=image/png:https://peelcompton.org/wp-content/uploads/2025/07/AmiliaWebsite-Photos-1020-x-680-px-50-u2y5Sj.png
END:VEVENT
BEGIN:VEVENT
DTSTART;TZID=America/Chicago:20250726T080000
DTEND;TZID=America/Chicago:20250726T090000
DTSTAMP:20260421T043152
CREATED:20250701T192030Z
LAST-MODIFIED:20250715T182245Z
UID:10000417-1753516800-1753520400@peelcompton.org
SUMMARY:Yoga in the Garden
DESCRIPTION:Grab your mat and join us every Saturday at 8 am in June & July for FREE yoga in the Peel Botanical Garden! We thank our friends at Yoga Story for leading this fundamentals class. \n All ages are welcome!
URL:https://peelcompton.org/event/yoga-in-the-garden-8/
LOCATION:Peel Museum & Botanical Garden\, 400 S. Walton Blvd\, Bentonville\, AR\, United States
CATEGORIES:Peel Museum & Botanical Garden
ATTACH;FMTTYPE=image/png:https://peelcompton.org/wp-content/uploads/2025/07/AmiliaWebsite-Photos-1020-x-680-px-15-n1hVZB.png
END:VEVENT
BEGIN:VEVENT
DTSTART;TZID=America/Chicago:20250730T063000
DTEND;TZID=America/Chicago:20250730T193000
DTSTAMP:20260421T043153
CREATED:20250701T192742Z
LAST-MODIFIED:20250715T181615Z
UID:10000501-1753857000-1753903800@peelcompton.org
SUMMARY:The Rise Meetup
DESCRIPTION:Wednesdays at 6:30 AM | June 18 – August 6Free | Coler Mountain Bike Preserve \nLooking for a fresh way to start your morning? Join us every Wednesday at 6:30 AM for The Rise Meetup—an energizing community workout that takes you up 185 steps (equal to 11 flights of stairs) for a one-of-a-kind fitness experience. \nThis free\, 8-week series is a chance to challenge yourself physically\, meet new people\, and connect with the Coler community in a unique and uplifting setting. Whether you’re training for The Rise Challenge on August 9 or just looking for a new way to move\, you’re welcome here—no sign-up required. \nPerks for showing up: \n\nAttend 4 meetups and earn a Coler sticker\nAttend all 8 meetups and receive a limited-edition Coler canteen mug\n\nWhere to Meet:The Rise staircase is located about 200 yards north of Airship Coffee\, on the east side of the greenway. For the fastest access\, park in the North Lot off Peach Orchard Road (11840–11850 Peach Orchard Rd\, Bentonville). You can also reach The Rise via the Applegate Trail\, which runs between SW 8th St and NW 3rd St. \nMark your calendar: The final meetup is Wednesday\, August 6\, just days before The Rise Challenge—our fun\, all-levels stair race. Participation in the challenge is optional\, but this meetup is a great way to train if you’re interested.
URL:https://peelcompton.org/event/the-rise-meetup-7/
LOCATION:Coler Mountain Bike Preserve\, 2500 NW Grove Lane\, Bentonville\, AR\, United States
CATEGORIES:Coler Mountain Bike Preserve
ATTACH;FMTTYPE=image/png:https://peelcompton.org/wp-content/uploads/2025/07/AmiliaWebsite-Photos-1020-x-680-px-50-u2y5Sj.png
END:VEVENT
END:VCALENDAR