BEGIN:VCALENDAR
VERSION:2.0
PRODID:-//Peel Compton Foundation - ECPv6.15.20//NONSGML v1.0//EN
CALSCALE:GREGORIAN
METHOD:PUBLISH
X-WR-CALNAME:Peel Compton Foundation
X-ORIGINAL-URL:https://peelcompton.org
X-WR-CALDESC:Events for Peel Compton Foundation
REFRESH-INTERVAL;VALUE=DURATION:PT1H
X-Robots-Tag:noindex
X-PUBLISHED-TTL:PT1H
BEGIN:VTIMEZONE
TZID:America/Chicago
BEGIN:DAYLIGHT
TZOFFSETFROM:-0600
TZOFFSETTO:-0500
TZNAME:CDT
DTSTART:20250309T080000
END:DAYLIGHT
BEGIN:STANDARD
TZOFFSETFROM:-0500
TZOFFSETTO:-0600
TZNAME:CST
DTSTART:20251102T070000
END:STANDARD
BEGIN:DAYLIGHT
TZOFFSETFROM:-0600
TZOFFSETTO:-0500
TZNAME:CDT
DTSTART:20260308T080000
END:DAYLIGHT
BEGIN:STANDARD
TZOFFSETFROM:-0500
TZOFFSETTO:-0600
TZNAME:CST
DTSTART:20261101T070000
END:STANDARD
BEGIN:DAYLIGHT
TZOFFSETFROM:-0600
TZOFFSETTO:-0500
TZNAME:CDT
DTSTART:20270314T080000
END:DAYLIGHT
BEGIN:STANDARD
TZOFFSETFROM:-0500
TZOFFSETTO:-0600
TZNAME:CST
DTSTART:20271107T070000
END:STANDARD
END:VTIMEZONE
BEGIN:VEVENT
DTSTART;TZID=America/Chicago:20260418T100000
DTEND;TZID=America/Chicago:20260418T113000
DTSTAMP:20260424T030344
CREATED:20260226T203825Z
LAST-MODIFIED:20260226T204006Z
UID:10002672-1776506400-1776511800@peelcompton.org
SUMMARY:Invasive Management Workshop
DESCRIPTION:Join us at Osage Park for a hands-on invasive species management workshop led by our site managers. Participants will learn to identify common invasive plants in Northwest Arkansas and understand how they impact local ecosystems and home landscapes. Our team will share practical\, easy-to-apply techniques for managing invasive species—whether in your yard\, neighborhood\, or shared green spaces—using the same approaches we use at Osage Park. \nThrough on-site demonstrations and guided discussion\, you’ll gain valuable tools and knowledge to make informed decisions\, support native plants\, and create healthier\, more resilient landscapes at home. This workshop is ideal for homeowners\, volunteers\, and anyone interested in caring for their land with confidence and purpose. \nRegister
URL:https://peelcompton.org/event/invasive-management-workshop/
LOCATION:Osage Park\, 700 SW 16th St\, Bentonville\, AR\, United States
CATEGORIES:Osage Park
ATTACH;FMTTYPE=image/png:https://peelcompton.org/wp-content/uploads/2026/02/AmiliaWebsite-Photos-1020-x-680-px-2026-02-26T143809.079.png
ORGANIZER;CN="Peel Compton Foundation":MAILTO:info@peelcompton.org
END:VEVENT
END:VCALENDAR