BEGIN:VCALENDAR
VERSION:2.0
PRODID:-//Peel Compton Foundation - ECPv6.15.20//NONSGML v1.0//EN
CALSCALE:GREGORIAN
METHOD:PUBLISH
X-WR-CALNAME:Peel Compton Foundation
X-ORIGINAL-URL:https://peelcompton.org
X-WR-CALDESC:Events for Peel Compton Foundation
REFRESH-INTERVAL;VALUE=DURATION:PT1H
X-Robots-Tag:noindex
X-PUBLISHED-TTL:PT1H
BEGIN:VTIMEZONE
TZID:America/Chicago
BEGIN:DAYLIGHT
TZOFFSETFROM:-0600
TZOFFSETTO:-0500
TZNAME:CDT
DTSTART:20240310T080000
END:DAYLIGHT
BEGIN:STANDARD
TZOFFSETFROM:-0500
TZOFFSETTO:-0600
TZNAME:CST
DTSTART:20241103T070000
END:STANDARD
BEGIN:DAYLIGHT
TZOFFSETFROM:-0600
TZOFFSETTO:-0500
TZNAME:CDT
DTSTART:20250309T080000
END:DAYLIGHT
BEGIN:STANDARD
TZOFFSETFROM:-0500
TZOFFSETTO:-0600
TZNAME:CST
DTSTART:20251102T070000
END:STANDARD
BEGIN:DAYLIGHT
TZOFFSETFROM:-0600
TZOFFSETTO:-0500
TZNAME:CDT
DTSTART:20260308T080000
END:DAYLIGHT
BEGIN:STANDARD
TZOFFSETFROM:-0500
TZOFFSETTO:-0600
TZNAME:CST
DTSTART:20261101T070000
END:STANDARD
END:VTIMEZONE
BEGIN:VEVENT
DTSTART;TZID=America/Chicago:20250906T100000
DTEND;TZID=America/Chicago:20250906T120000
DTSTAMP:20260425T072511
CREATED:20250717T202906Z
LAST-MODIFIED:20250818T192143Z
UID:10000657-1757152800-1757160000@peelcompton.org
SUMMARY:Level 1 Mountain Biking Basics
DESCRIPTION:Learn all the essentials to become a better rider! We cover bike safety checks\, gear\, the three essentials to mountain biking\, riding positions\, mounting/dismounting\, braking techniques\, shifting\, and trail etiquette. Coler’s PMBIA certified instructors will guide you through the skills you need to gain confidence on your bike and build a solid base of mountain biking skills. This class was designed for those who are new to mountain biking or haven’t had formal instruction previously. \nNo refunds will be issued for this purchase unless Peel Compton Foundation cancels the program due to low participation or weather. \n  \nSign Up Now \n 
URL:https://peelcompton.org/event/level-1-mountain-biking-basics-7/
LOCATION:Coler Mountain Bike Preserve\, 2500 NW Grove Lane\, Bentonville\, AR\, United States
CATEGORIES:Coler Mountain Bike Preserve
ATTACH;FMTTYPE=image/png:https://peelcompton.org/wp-content/uploads/2025/07/Level-1-Mountain-Biking-Basics-1.png
ORGANIZER;CN="Peel Compton Foundation":MAILTO:info@peelcompton.org
END:VEVENT
BEGIN:VEVENT
DTSTART;TZID=America/Chicago:20250927T130000
DTEND;TZID=America/Chicago:20250927T150000
DTSTAMP:20260425T072511
CREATED:20250902T150229Z
LAST-MODIFIED:20250902T150229Z
UID:10001307-1758978000-1758985200@peelcompton.org
SUMMARY:Advanced MTB Jump Clinic
DESCRIPTION:Crank it up MTB & Coler MTB Advanced Jump Clinic\nWhat You’ll Learn:\nThis 2 hour course will help you learn Advanced jump skills. Anneke and Nate will explain the process of jumping\, how to build confidence while getting air in a safe way\, enhancing your airtime and improving overall bike skills. \nThis advanced clinic will be held at Coler Mountain Bike Preserve and the trail we’ll be teaching on will be Cease and Desist. This is perfect trail to progress you’re jumping and build that confidence. \n\nStep-by-step breakdown of jumping technique\nHow to build momentum and flow on jumps and trail features\nHow to approach airtime with control and confidence\nKey bike-body positions for safe landings\nPersonalized video feedback during the session\nSmall group sizes for plenty of 1-on-1 attention\n\n  \nSign Up Now
URL:https://peelcompton.org/event/advanced-mtb-jump-clinic/
LOCATION:Coler Mountain Bike Preserve\, 2500 NW Grove Lane\, Bentonville\, AR\, United States
CATEGORIES:Coler Mountain Bike Preserve
ATTACH;FMTTYPE=image/png:https://peelcompton.org/wp-content/uploads/2025/07/Anneke-Beerten-mcviVP.png
END:VEVENT
END:VCALENDAR