BEGIN:VCALENDAR
VERSION:2.0
PRODID:-//Peel Compton Foundation - ECPv6.15.20//NONSGML v1.0//EN
CALSCALE:GREGORIAN
METHOD:PUBLISH
X-WR-CALNAME:Peel Compton Foundation
X-ORIGINAL-URL:https://peelcompton.org
X-WR-CALDESC:Events for Peel Compton Foundation
REFRESH-INTERVAL;VALUE=DURATION:PT1H
X-Robots-Tag:noindex
X-PUBLISHED-TTL:PT1H
BEGIN:VTIMEZONE
TZID:America/Chicago
BEGIN:DAYLIGHT
TZOFFSETFROM:-0600
TZOFFSETTO:-0500
TZNAME:CDT
DTSTART:20240310T080000
END:DAYLIGHT
BEGIN:STANDARD
TZOFFSETFROM:-0500
TZOFFSETTO:-0600
TZNAME:CST
DTSTART:20241103T070000
END:STANDARD
BEGIN:DAYLIGHT
TZOFFSETFROM:-0600
TZOFFSETTO:-0500
TZNAME:CDT
DTSTART:20250309T080000
END:DAYLIGHT
BEGIN:STANDARD
TZOFFSETFROM:-0500
TZOFFSETTO:-0600
TZNAME:CST
DTSTART:20251102T070000
END:STANDARD
BEGIN:DAYLIGHT
TZOFFSETFROM:-0600
TZOFFSETTO:-0500
TZNAME:CDT
DTSTART:20260308T080000
END:DAYLIGHT
BEGIN:STANDARD
TZOFFSETFROM:-0500
TZOFFSETTO:-0600
TZNAME:CST
DTSTART:20261101T070000
END:STANDARD
END:VTIMEZONE
BEGIN:VEVENT
DTSTART;TZID=America/Chicago:20251004T090000
DTEND;TZID=America/Chicago:20251004T100000
DTSTAMP:20260420T002350
CREATED:20250902T151549Z
LAST-MODIFIED:20250905T144822Z
UID:10001312-1759568400-1759572000@peelcompton.org
SUMMARY:Coffee with the Site Manager
DESCRIPTION:Join us for a relaxed and engaging conversation over coffee with the site managers At Osage Park—free of charge! This is a great opportunity to learn about the park’s unique wetland ecosystem\, hear behind-the-scenes stories\, and ask any questions about conservation efforts\, wildlife\, and upcoming projects. Whether you’re a regular visitor or new to the park\, this informal gathering is the perfect way to connect with our team and your fellow nature enthusiasts. \nCoffee will be provided\, or you can bring your own! \n  \nSign Up Now
URL:https://peelcompton.org/event/coffee-with-the-site-manager-6/2025-10-04/
LOCATION:Osage Park\, 700 SW 16th St\, Bentonville\, AR\, United States
CATEGORIES:Osage Park
ATTACH;FMTTYPE=image/jpeg:https://peelcompton.org/wp-content/uploads/2025/09/thirdspace.coffee-Instagram-3722-ig-18134318017419193-e1756997262753.jpg
END:VEVENT
END:VCALENDAR