BEGIN:VCALENDAR
VERSION:2.0
PRODID:-//Peel Compton Foundation - ECPv6.15.20//NONSGML v1.0//EN
CALSCALE:GREGORIAN
METHOD:PUBLISH
X-WR-CALNAME:Peel Compton Foundation
X-ORIGINAL-URL:https://peelcompton.org
X-WR-CALDESC:Events for Peel Compton Foundation
REFRESH-INTERVAL;VALUE=DURATION:PT1H
X-Robots-Tag:noindex
X-PUBLISHED-TTL:PT1H
BEGIN:VTIMEZONE
TZID:America/Chicago
BEGIN:DAYLIGHT
TZOFFSETFROM:-0600
TZOFFSETTO:-0500
TZNAME:CDT
DTSTART:20240310T080000
END:DAYLIGHT
BEGIN:STANDARD
TZOFFSETFROM:-0500
TZOFFSETTO:-0600
TZNAME:CST
DTSTART:20241103T070000
END:STANDARD
BEGIN:DAYLIGHT
TZOFFSETFROM:-0600
TZOFFSETTO:-0500
TZNAME:CDT
DTSTART:20250309T080000
END:DAYLIGHT
BEGIN:STANDARD
TZOFFSETFROM:-0500
TZOFFSETTO:-0600
TZNAME:CST
DTSTART:20251102T070000
END:STANDARD
BEGIN:DAYLIGHT
TZOFFSETFROM:-0600
TZOFFSETTO:-0500
TZNAME:CDT
DTSTART:20260308T080000
END:DAYLIGHT
BEGIN:STANDARD
TZOFFSETFROM:-0500
TZOFFSETTO:-0600
TZNAME:CST
DTSTART:20261101T070000
END:STANDARD
END:VTIMEZONE
BEGIN:VEVENT
DTSTART;TZID=America/Chicago:20250508T090000
DTEND;TZID=America/Chicago:20250508T140000
DTSTAMP:20260423T134402
CREATED:20250701T184910Z
LAST-MODIFIED:20250714T213645Z
UID:10000104-1746694800-1746712800@peelcompton.org
SUMMARY:Hanging Basket Sale
DESCRIPTION:Refresh your porch for spring! \n With the cold weather this week\, we’re getting more excited for sunnier days! Shop our Hanging Basket Sale and grab gorgeous plants to brighten up your space or gift to someone special. All hanging baskets are just $20! \n Pre-order today and pick up in early May\, just in time to refresh your porch for spring or celebrate someone special for Mother’s Day on May 11th. \n   \n Pick Up Dates & Times \n Thursday\, May 8th | 9am-2pm \n Friday\, May 9th | 9am-2pm \n Saturday\, May 10th | 10am-12pm \n   \n [fusion_button link=”https://peelcompton.org/events/hanging-basket-sale/” title=”” target=”_self” link_attributes=”” aria_role_button=”0″ alignment_medium=”” alignment_small=”” alignment=”” modal=”” hide_on_mobile=”small-visibility\,medium-visibility\,large-visibility” sticky_display=”normal\,sticky” class=”” id=”” color=”default” button_gradient_top_color_hover=”” hue=”” saturation=”” lightness=”” alpha=”” button_gradient_top_color=”” button_gradient_bottom_color_hover=”” button_gradient_bottom_color=”” gradient_start_position=”” gradient_end_position=”” gradient_type=”” radial_direction=”” linear_angle=”” accent_hover_color=”” accent_color=”” type=”” bevel_color=”” bevel_color_hover=”” border_top=”” border_right=”” border_bottom=”” border_left=”” border_radius_top_left=”” border_radius_top_right=”” border_radius_bottom_right=”” border_radius_bottom_left=”” border_hover_color=”” border_color=”” size=”” padding_top=”” padding_right=”” padding_bottom=”” padding_left=”” fusion_font_family_button_font=”” fusion_font_variant_button_font=”” font_size=”” line_height=”” letter_spacing=”” text_transform=”” stretch=”default” margin_top=”” margin_right=”” margin_bottom=”” margin_left=”” icon=”” icon_position=”left” icon_divider=”no” hover_transition=”none” animation_type=”” animation_direction=”left” animation_color=”” animation_speed=”0.3″ animation_delay=”0″ animation_offset=””]Pre-Order Hanging Baskets[/fusion_button]
URL:https://peelcompton.org/event/hanging-basket-sale/
LOCATION:Peel Museum & Botanical Garden\, 400 S. Walton Blvd\, Bentonville\, AR\, United States
CATEGORIES:Peel Museum & Botanical Garden
ATTACH;FMTTYPE=image/png:https://peelcompton.org/wp-content/uploads/2025/07/Newsletter-2025-02-10T140007.988-igFkfh.png
END:VEVENT
BEGIN:VEVENT
DTSTART;TZID=America/Chicago:20250509T090000
DTEND;TZID=America/Chicago:20250509T140000
DTSTAMP:20260423T134402
CREATED:20250701T191217Z
LAST-MODIFIED:20250714T213639Z
UID:10000335-1746781200-1746799200@peelcompton.org
SUMMARY:Hanging Basket Sale
DESCRIPTION:Refresh your porch for spring! \nWith the cold weather this week\, we’re getting more excited for sunnier days! Shop our Hanging Basket Sale and grab gorgeous plants to brighten up your space or gift to someone special. All hanging baskets are just $20! \nPre-order today and pick up in early May\, just in time to refresh your porch for spring or celebrate someone special for Mother’s Day on May 11th. \n  \nPick Up Dates & Times \nThursday\, May 8th | 9am-2pm \nFriday\, May 9th | 9am-2pm \nSaturday\, May 10th | 10am-12pm \n  \n[fusion_button link=”https://peelcompton.org/events/hanging-basket-sale/” title=”” target=”_self” link_attributes=”” aria_role_button=”0″ alignment_medium=”” alignment_small=”” alignment=”” modal=”” hide_on_mobile=”small-visibility\,medium-visibility\,large-visibility” sticky_display=”normal\,sticky” class=”” id=”” color=”default” button_gradient_top_color_hover=”” hue=”” saturation=”” lightness=”” alpha=”” button_gradient_top_color=”” button_gradient_bottom_color_hover=”” button_gradient_bottom_color=”” gradient_start_position=”” gradient_end_position=”” gradient_type=”” radial_direction=”” linear_angle=”” accent_hover_color=”” accent_color=”” type=”” bevel_color=”” bevel_color_hover=”” border_top=”” border_right=”” border_bottom=”” border_left=”” border_radius_top_left=”” border_radius_top_right=”” border_radius_bottom_right=”” border_radius_bottom_left=”” border_hover_color=”” border_color=”” size=”” padding_top=”” padding_right=”” padding_bottom=”” padding_left=”” fusion_font_family_button_font=”” fusion_font_variant_button_font=”” font_size=”” line_height=”” letter_spacing=”” text_transform=”” stretch=”default” margin_top=”” margin_right=”” margin_bottom=”” margin_left=”” icon=”” icon_position=”left” icon_divider=”no” hover_transition=”none” animation_type=”” animation_direction=”left” animation_color=”” animation_speed=”0.3″ animation_delay=”0″ animation_offset=””]Pre-Order Hanging Baskets[/fusion_button]
URL:https://peelcompton.org/event/hanging-basket-sale-2/
LOCATION:Peel Museum & Botanical Garden\, 400 S. Walton Blvd\, Bentonville\, AR\, United States
CATEGORIES:Peel Museum & Botanical Garden
ATTACH;FMTTYPE=image/png:https://peelcompton.org/wp-content/uploads/2025/07/Newsletter-2025-02-10T140007.988-igFkfh.png
END:VEVENT
BEGIN:VEVENT
DTSTART;TZID=America/Chicago:20250510T100000
DTEND;TZID=America/Chicago:20250510T120000
DTSTAMP:20260423T134402
CREATED:20250701T191218Z
LAST-MODIFIED:20250714T213634Z
UID:10000336-1746871200-1746878400@peelcompton.org
SUMMARY:Hanging Basket Sale
DESCRIPTION:Refresh your porch for spring! \n With the cold weather this week\, we’re getting more excited for sunnier days! Shop our Hanging Basket Sale and grab gorgeous plants to brighten up your space or gift to someone special. All hanging baskets are just $20! \n Pre-order today and pick up in early May\, just in time to refresh your porch for spring or celebrate someone special for Mother’s Day on May 11th. \n   \n Pick Up Dates & Times \n Thursday\, May 8th | 9am-2pm \n Friday\, May 9th | 9am-2pm \n Saturday\, May 10th | 10am-12pm \n   \n [fusion_button link=”https://peelcompton.org/events/hanging-basket-sale/” title=”” target=”_self” link_attributes=”” aria_role_button=”0″ alignment_medium=”” alignment_small=”” alignment=”” modal=”” hide_on_mobile=”small-visibility\,medium-visibility\,large-visibility” sticky_display=”normal\,sticky” class=”” id=”” color=”default” button_gradient_top_color_hover=”” hue=”” saturation=”” lightness=”” alpha=”” button_gradient_top_color=”” button_gradient_bottom_color_hover=”” button_gradient_bottom_color=”” gradient_start_position=”” gradient_end_position=”” gradient_type=”” radial_direction=”” linear_angle=”” accent_hover_color=”” accent_color=”” type=”” bevel_color=”” bevel_color_hover=”” border_top=”” border_right=”” border_bottom=”” border_left=”” border_radius_top_left=”” border_radius_top_right=”” border_radius_bottom_right=”” border_radius_bottom_left=”” border_hover_color=”” border_color=”” size=”” padding_top=”” padding_right=”” padding_bottom=”” padding_left=”” fusion_font_family_button_font=”” fusion_font_variant_button_font=”” font_size=”” line_height=”” letter_spacing=”” text_transform=”” stretch=”default” margin_top=”” margin_right=”” margin_bottom=”” margin_left=”” icon=”” icon_position=”left” icon_divider=”no” hover_transition=”none” animation_type=”” animation_direction=”left” animation_color=”” animation_speed=”0.3″ animation_delay=”0″ animation_offset=””]Pre-Order Hanging Baskets[/fusion_button]
URL:https://peelcompton.org/event/hanging-basket-sale-3/
LOCATION:Peel Museum & Botanical Garden\, 400 S. Walton Blvd\, Bentonville\, AR\, United States
CATEGORIES:Peel Museum & Botanical Garden
ATTACH;FMTTYPE=image/png:https://peelcompton.org/wp-content/uploads/2025/07/Newsletter-2025-02-10T140007.988-igFkfh.png
END:VEVENT
END:VCALENDAR