BEGIN:VCALENDAR
VERSION:2.0
PRODID:-//Peel Compton Foundation - ECPv6.15.20//NONSGML v1.0//EN
CALSCALE:GREGORIAN
METHOD:PUBLISH
X-WR-CALNAME:Peel Compton Foundation
X-ORIGINAL-URL:https://peelcompton.org
X-WR-CALDESC:Events for Peel Compton Foundation
REFRESH-INTERVAL;VALUE=DURATION:PT1H
X-Robots-Tag:noindex
X-PUBLISHED-TTL:PT1H
BEGIN:VTIMEZONE
TZID:America/Chicago
BEGIN:DAYLIGHT
TZOFFSETFROM:-0600
TZOFFSETTO:-0500
TZNAME:CDT
DTSTART:20240310T080000
END:DAYLIGHT
BEGIN:STANDARD
TZOFFSETFROM:-0500
TZOFFSETTO:-0600
TZNAME:CST
DTSTART:20241103T070000
END:STANDARD
BEGIN:DAYLIGHT
TZOFFSETFROM:-0600
TZOFFSETTO:-0500
TZNAME:CDT
DTSTART:20250309T080000
END:DAYLIGHT
BEGIN:STANDARD
TZOFFSETFROM:-0500
TZOFFSETTO:-0600
TZNAME:CST
DTSTART:20251102T070000
END:STANDARD
BEGIN:DAYLIGHT
TZOFFSETFROM:-0600
TZOFFSETTO:-0500
TZNAME:CDT
DTSTART:20260308T080000
END:DAYLIGHT
BEGIN:STANDARD
TZOFFSETFROM:-0500
TZOFFSETTO:-0600
TZNAME:CST
DTSTART:20261101T070000
END:STANDARD
END:VTIMEZONE
BEGIN:VEVENT
DTSTART;TZID=America/Chicago:20250920T080000
DTEND;TZID=America/Chicago:20250920T190000
DTSTAMP:20260421T082200
CREATED:20250715T213536Z
LAST-MODIFIED:20250730T190622Z
UID:10000633-1758355200-1758394800@peelcompton.org
SUMMARY:1001 Arrow Challenge
DESCRIPTION:Think you’ve got what it takes to shoot over a thousand arrows in one day? Step up and find out in the 1001 Arrow Challenge — the ultimate test of stamina\, consistency\, and pure archery determination. \nThe Challenge:\n\nShoot as many arrows as you can in a day.\nUse a lightweight bow to keep up your endurance.\nTake breaks\, pace yourself — come and go as you need throughout the day.\nNo pressure to hit the target — just get that arrow off the string and into the air!\n\nHow it Works:\n\nGrab an arrow counter from the front desk to track your shots.\nA timer will be running to help pace your ends.\nShoot solo or with friends\, as many arrows per end as you can handle.\nCome back for more rounds whenever you’re ready — just keep adding to your total.\n\nThe Reward:\n\nAll participants will receive a certificate with their final arrow count.\nShoot 1001 arrows or more? You’ll earn an exclusive Challenge Prize to mark your achievement!\n\nMissed the mark?\nDidn’t quite hit your goal? No worries — a Second Shot Challenge is coming soon. Train up and try again! \nPlan on coming to both? Sign up as a Session to get a discount! \nReady to push your limits? Grab your bow\, grab your counter\, and start clicking — let’s see how many you can shoot! \nSign Up Now
URL:https://peelcompton.org/event/1001-archery-challenge/2025-09-20/
LOCATION:The Quiver Archery Range\, 1701 SW F St\, Bentonville\, AR\, United States
CATEGORIES:The Quiver Archery Range
ATTACH;FMTTYPE=image/png:https://peelcompton.org/wp-content/uploads/2025/07/AmiliaWebsite-Photos-1020-x-680-px-59.png
ORGANIZER;CN="Peel Compton Foundation":MAILTO:info@peelcompton.org
END:VEVENT
END:VCALENDAR