BEGIN:VCALENDAR
VERSION:2.0
PRODID:-//Peel Compton Foundation - ECPv6.15.20//NONSGML v1.0//EN
CALSCALE:GREGORIAN
METHOD:PUBLISH
X-ORIGINAL-URL:https://peelcompton.org
X-WR-CALDESC:Events for Peel Compton Foundation
REFRESH-INTERVAL;VALUE=DURATION:PT1H
X-Robots-Tag:noindex
X-PUBLISHED-TTL:PT1H
BEGIN:VTIMEZONE
TZID:America/Chicago
BEGIN:DAYLIGHT
TZOFFSETFROM:-0600
TZOFFSETTO:-0500
TZNAME:CDT
DTSTART:20250309T080000
END:DAYLIGHT
BEGIN:STANDARD
TZOFFSETFROM:-0500
TZOFFSETTO:-0600
TZNAME:CST
DTSTART:20251102T070000
END:STANDARD
BEGIN:DAYLIGHT
TZOFFSETFROM:-0600
TZOFFSETTO:-0500
TZNAME:CDT
DTSTART:20260308T080000
END:DAYLIGHT
BEGIN:STANDARD
TZOFFSETFROM:-0500
TZOFFSETTO:-0600
TZNAME:CST
DTSTART:20261101T070000
END:STANDARD
BEGIN:DAYLIGHT
TZOFFSETFROM:-0600
TZOFFSETTO:-0500
TZNAME:CDT
DTSTART:20270314T080000
END:DAYLIGHT
BEGIN:STANDARD
TZOFFSETFROM:-0500
TZOFFSETTO:-0600
TZNAME:CST
DTSTART:20271107T070000
END:STANDARD
END:VTIMEZONE
BEGIN:VEVENT
DTSTART;TZID=America/Chicago:20260912T115000
DTEND;TZID=America/Chicago:20260912T183000
DTSTAMP:20260420T000354
CREATED:20260413T183911Z
LAST-MODIFIED:20260413T183911Z
UID:10003105-1789213800-1789237800@peelcompton.org
SUMMARY:Noon2Moon: 6-Hour Race
DESCRIPTION:Noon2Moon is an endurance race\, and the only Coler Fundraiser event of the year! When you register to race\, you are supporting improvements to your favorite trails at Coler\, facilities\, and access to affordable classes that make Coler a unique destination for all! Coler Mountain Bike Preserve is a community space provided by the Peel Compton Foundation whose mission is to connect the community through nature\, education\, recreation\, and preservation. \nLearn More
URL:https://peelcompton.org/event/noon2moon-6-hour-race/
LOCATION:Coler Mountain Bike Preserve\, 2500 NW Grove Lane\, Bentonville\, AR\, United States
CATEGORIES:Coler Mountain Bike Preserve
ATTACH;FMTTYPE=image/png:https://peelcompton.org/wp-content/uploads/2026/04/AmiliaWebsite-Photos-1020-x-680-px-2026-04-13T133834.901.png
END:VEVENT
END:VCALENDAR