BEGIN:VCALENDAR
VERSION:2.0
PRODID:-//Peel Compton Foundation - ECPv6.15.20//NONSGML v1.0//EN
CALSCALE:GREGORIAN
METHOD:PUBLISH
X-WR-CALNAME:Peel Compton Foundation
X-ORIGINAL-URL:https://peelcompton.org
X-WR-CALDESC:Events for Peel Compton Foundation
REFRESH-INTERVAL;VALUE=DURATION:PT1H
X-Robots-Tag:noindex
X-PUBLISHED-TTL:PT1H
BEGIN:VTIMEZONE
TZID:America/Chicago
BEGIN:DAYLIGHT
TZOFFSETFROM:-0600
TZOFFSETTO:-0500
TZNAME:CDT
DTSTART:20250309T080000
END:DAYLIGHT
BEGIN:STANDARD
TZOFFSETFROM:-0500
TZOFFSETTO:-0600
TZNAME:CST
DTSTART:20251102T070000
END:STANDARD
BEGIN:DAYLIGHT
TZOFFSETFROM:-0600
TZOFFSETTO:-0500
TZNAME:CDT
DTSTART:20260308T080000
END:DAYLIGHT
BEGIN:STANDARD
TZOFFSETFROM:-0500
TZOFFSETTO:-0600
TZNAME:CST
DTSTART:20261101T070000
END:STANDARD
BEGIN:DAYLIGHT
TZOFFSETFROM:-0600
TZOFFSETTO:-0500
TZNAME:CDT
DTSTART:20270314T080000
END:DAYLIGHT
BEGIN:STANDARD
TZOFFSETFROM:-0500
TZOFFSETTO:-0600
TZNAME:CST
DTSTART:20271107T070000
END:STANDARD
END:VTIMEZONE
BEGIN:VEVENT
DTSTART;TZID=America/Chicago:20260510T130000
DTEND;TZID=America/Chicago:20260510T180000
DTSTAMP:20260422T235245
CREATED:20260327T145257Z
LAST-MODIFIED:20260422T181007Z
UID:10003032-1778418000-1778436000@peelcompton.org
SUMMARY:May Community Day: Mother's Day
DESCRIPTION:Celebrate Mother’s Day weekend with free family fun at The Quiver Archery Range during May Community Day\, presented by the Arvest Foundation. \nAll experience levels are welcome to enjoy free access to The Quiver Archery Range. Certified staff will provide instruction and safety guidance before you begin\, making it a great opportunity for first-timers and returning archers alike. \nBring Mom\, bring the family\, and enjoy a day outdoors together—plus free popcorn provided by the Arvest Foundation. \n\n\n\n\n\n\n\n\nSchedule: \n\nApril: 4/26\nMay: 5/10 – Mother’s Day\nJune: 6/19 – Kid’s Night (Dinner Sponsor: Arvest Foundation)\nJuly: 7/26\nAugust: 8/30\nSeptember: 9/11 – First Responders’ Night (Dinner Sponsor: Arvest Foundation)\nOctober: 10/4\n\nHere’s how it works: \n\nRegister here and attend for free.\nPre-registration is highly recommended\nIf you can’t make it\, call so we can open the space up for someone to enjoy!\n\n  \nRegister\n 
URL:https://peelcompton.org/event/may-community-day-mothers-day-archery-bentonville/
LOCATION:The Quiver Archery Range\, 1701 SW F St\, Bentonville\, AR\, United States
CATEGORIES:The Quiver Archery Range
ATTACH;FMTTYPE=image/png:https://peelcompton.org/wp-content/uploads/2026/03/AmiliaWebsite-Photos-1020-x-680-px-2026-04-22T130640.831.png
ORGANIZER;CN="Peel Compton Foundation":MAILTO:info@peelcompton.org
END:VEVENT
END:VCALENDAR