BEGIN:VCALENDAR
VERSION:2.0
PRODID:-//Peel Compton Foundation - ECPv6.15.20//NONSGML v1.0//EN
CALSCALE:GREGORIAN
METHOD:PUBLISH
X-ORIGINAL-URL:https://peelcompton.org
X-WR-CALDESC:Events for Peel Compton Foundation
REFRESH-INTERVAL;VALUE=DURATION:PT1H
X-Robots-Tag:noindex
X-PUBLISHED-TTL:PT1H
BEGIN:VTIMEZONE
TZID:America/Chicago
BEGIN:DAYLIGHT
TZOFFSETFROM:-0600
TZOFFSETTO:-0500
TZNAME:CDT
DTSTART:20240310T080000
END:DAYLIGHT
BEGIN:STANDARD
TZOFFSETFROM:-0500
TZOFFSETTO:-0600
TZNAME:CST
DTSTART:20241103T070000
END:STANDARD
BEGIN:DAYLIGHT
TZOFFSETFROM:-0600
TZOFFSETTO:-0500
TZNAME:CDT
DTSTART:20250309T080000
END:DAYLIGHT
BEGIN:STANDARD
TZOFFSETFROM:-0500
TZOFFSETTO:-0600
TZNAME:CST
DTSTART:20251102T070000
END:STANDARD
BEGIN:DAYLIGHT
TZOFFSETFROM:-0600
TZOFFSETTO:-0500
TZNAME:CDT
DTSTART:20260308T080000
END:DAYLIGHT
BEGIN:STANDARD
TZOFFSETFROM:-0500
TZOFFSETTO:-0600
TZNAME:CST
DTSTART:20261101T070000
END:STANDARD
END:VTIMEZONE
BEGIN:VEVENT
DTSTART;TZID=America/Chicago:20250806T063000
DTEND;TZID=America/Chicago:20250806T193000
DTSTAMP:20260419T164436
CREATED:20250701T192845Z
LAST-MODIFIED:20250717T192247Z
UID:10000502-1754461800-1754508600@peelcompton.org
SUMMARY:The Rise Meetup
DESCRIPTION:Wednesdays at 6:30 AM | June 18 – August 6Free | Coler Mountain Bike Preserve \nLooking for a fresh way to start your morning? Join us every Wednesday at 6:30 AM for The Rise Meetup—an energizing community workout that takes you up 185 steps (equal to 11 flights of stairs) for a one-of-a-kind fitness experience. \nThis free\, 8-week series is a chance to challenge yourself physically\, meet new people\, and connect with the Coler community in a unique and uplifting setting. Whether you’re training for The Rise Challenge on August 9 or just looking for a new way to move\, you’re welcome here—no sign-up required. \nPerks for showing up: \n\nAttend 4 meetups and earn a Coler sticker\nAttend all 8 meetups and receive a limited-edition Coler canteen mug\n\nWhere to Meet:The Rise staircase is located about 200 yards north of Airship Coffee\, on the east side of the greenway. For the fastest access\, park in the North Lot off Peach Orchard Road (11840–11850 Peach Orchard Rd\, Bentonville). You can also reach The Rise via the Applegate Trail\, which runs between SW 8th St and NW 3rd St. \nMark your calendar: The final meetup is Wednesday\, August 6\, just days before The Rise Challenge—our fun\, all-levels stair race. Participation in the challenge is optional\, but this meetup is a great way to train if you’re interested.
URL:https://peelcompton.org/event/the-rise-meetup-8/
LOCATION:Coler Mountain Bike Preserve\, 2500 NW Grove Lane\, Bentonville\, AR\, United States
CATEGORIES:Coler Mountain Bike Preserve
ATTACH;FMTTYPE=image/png:https://peelcompton.org/wp-content/uploads/2025/07/AmiliaWebsite-Photos-1020-x-680-px-50-u2y5Sj.png
END:VEVENT
END:VCALENDAR