BEGIN:VCALENDAR
VERSION:2.0
PRODID:-//Peel Compton Foundation - ECPv6.15.20//NONSGML v1.0//EN
CALSCALE:GREGORIAN
METHOD:PUBLISH
X-ORIGINAL-URL:https://peelcompton.org
X-WR-CALDESC:Events for Peel Compton Foundation
REFRESH-INTERVAL;VALUE=DURATION:PT1H
X-Robots-Tag:noindex
X-PUBLISHED-TTL:PT1H
BEGIN:VTIMEZONE
TZID:America/Chicago
BEGIN:DAYLIGHT
TZOFFSETFROM:-0600
TZOFFSETTO:-0500
TZNAME:CDT
DTSTART:20250309T080000
END:DAYLIGHT
BEGIN:STANDARD
TZOFFSETFROM:-0500
TZOFFSETTO:-0600
TZNAME:CST
DTSTART:20251102T070000
END:STANDARD
BEGIN:DAYLIGHT
TZOFFSETFROM:-0600
TZOFFSETTO:-0500
TZNAME:CDT
DTSTART:20260308T080000
END:DAYLIGHT
BEGIN:STANDARD
TZOFFSETFROM:-0500
TZOFFSETTO:-0600
TZNAME:CST
DTSTART:20261101T070000
END:STANDARD
BEGIN:DAYLIGHT
TZOFFSETFROM:-0600
TZOFFSETTO:-0500
TZNAME:CDT
DTSTART:20270314T080000
END:DAYLIGHT
BEGIN:STANDARD
TZOFFSETFROM:-0500
TZOFFSETTO:-0600
TZNAME:CST
DTSTART:20271107T070000
END:STANDARD
END:VTIMEZONE
BEGIN:VEVENT
DTSTART;TZID=America/Chicago:20260613T060000
DTEND;TZID=America/Chicago:20260614T140000
DTSTAMP:20260424T215431
CREATED:20250701T191243Z
LAST-MODIFIED:20260408T214308Z
UID:10000342-1781330400-1781445600@peelcompton.org
SUMMARY:USA Archery Arkansas State Outdoor Target Championship
DESCRIPTION:Join us for the 2nd Annual USA Archery Arkansas State Outdoor Target Championship — where focus\, fun\, and record-breaking moments come together in The Natural State! This event offers a unique opportunity for archers of all levels to compete in a professionally sanctioned outdoor target archery tournament\, promoting the sport of archery across the state of Arkansas. \n  \nRegister
URL:https://peelcompton.org/event/usa-archery-arkansas-state-outdoor-target-championship/
LOCATION:The Quiver Archery Range\, 1701 SW F St\, Bentonville\, AR\, United States
CATEGORIES:The Quiver Archery Range
ATTACH;FMTTYPE=image/png:https://peelcompton.org/wp-content/uploads/2026/04/AmiliaWebsite-Photos-1020-x-680-px-2026-04-08T145324.815.png
ORGANIZER;CN="Peel Compton Foundation":MAILTO:info@peelcompton.org
END:VEVENT
BEGIN:VEVENT
DTSTART;TZID=America/Chicago:20261115T140000
DTEND;TZID=America/Chicago:20261115T170000
DTSTAMP:20260424T215431
CREATED:20250721T142554Z
LAST-MODIFIED:20260223T141917Z
UID:10000658-1794751200-1794762000@peelcompton.org
SUMMARY:The Tell Tourney
DESCRIPTION:An Archery Apple Adventure Awaits! \nYour mission\, should you choose to accept it\, is to shoot an apple at the greatest distance possible! \nApples will be set atop pumpkins to be shot at\, with each apple you hit\, your distance is increased. You’ll be given six arrows per distance to attempt the shot\, if you miss with all six\, you’ll have to start over at the beginning. \nYou will have 4 “lives” to start over with for Barebow archers\, and 2 for Compound. Extra lives may be purchased day-of. \nTie Breakers – If there are multiple competitors who achieve the same greatest distance\, we will have a shoot-off. One arrow at a time until a miss/hit happens. \nEquipment– Open Compound begins at 10M and Barebow begins at 5M \n\n\n\nClass\nAge \n\n\nYouth\n8-12yrs old\n\n\nTeen\n13-17yrs old\n\n\nAdult\n18+\n\n\nSenior\n50+ only\n\n\n\nYouth and Teen may compete in one class above their own. Seniors may sign up for the Adult Class. Only one class per person may be chosen. \nAwards – \nThe GOLDEN Apple Award – Given to the farthest hit apple in each Division \nThe RED Apple Award – Given to the farthest hit apple in each Class \nThe GREEN Apple Award – Given to each archer that dares the Tourney\, along with a certificate to record their longest distanced (successful) shot \nSign Up Now
URL:https://peelcompton.org/event/the-tell-tourney-2/
LOCATION:The Quiver Archery Range\, 1701 SW F St\, Bentonville\, AR\, United States
CATEGORIES:The Quiver Archery Range
ATTACH;FMTTYPE=image/png:https://peelcompton.org/wp-content/uploads/2025/07/Tell-Tourney-4-1.png
ORGANIZER;CN="Peel Compton Foundation":MAILTO:info@peelcompton.org
END:VEVENT
END:VCALENDAR