BEGIN:VCALENDAR
VERSION:2.0
PRODID:-//Peel Compton Foundation - ECPv6.15.20//NONSGML v1.0//EN
CALSCALE:GREGORIAN
METHOD:PUBLISH
X-ORIGINAL-URL:https://peelcompton.org
X-WR-CALDESC:Events for Peel Compton Foundation
REFRESH-INTERVAL;VALUE=DURATION:PT1H
X-Robots-Tag:noindex
X-PUBLISHED-TTL:PT1H
BEGIN:VTIMEZONE
TZID:America/Chicago
BEGIN:DAYLIGHT
TZOFFSETFROM:-0600
TZOFFSETTO:-0500
TZNAME:CDT
DTSTART:20240310T080000
END:DAYLIGHT
BEGIN:STANDARD
TZOFFSETFROM:-0500
TZOFFSETTO:-0600
TZNAME:CST
DTSTART:20241103T070000
END:STANDARD
BEGIN:DAYLIGHT
TZOFFSETFROM:-0600
TZOFFSETTO:-0500
TZNAME:CDT
DTSTART:20250309T080000
END:DAYLIGHT
BEGIN:STANDARD
TZOFFSETFROM:-0500
TZOFFSETTO:-0600
TZNAME:CST
DTSTART:20251102T070000
END:STANDARD
BEGIN:DAYLIGHT
TZOFFSETFROM:-0600
TZOFFSETTO:-0500
TZNAME:CDT
DTSTART:20260308T080000
END:DAYLIGHT
BEGIN:STANDARD
TZOFFSETFROM:-0500
TZOFFSETTO:-0600
TZNAME:CST
DTSTART:20261101T070000
END:STANDARD
END:VTIMEZONE
BEGIN:VEVENT
DTSTART;TZID=America/Chicago:20250717T173000
DTEND;TZID=America/Chicago:20250717T183000
DTSTAMP:20260419T212442
CREATED:20250701T192118Z
LAST-MODIFIED:20260311T154155Z
UID:10000434-1752773400-1752777000@peelcompton.org
SUMMARY:Summer Series: Game Night
DESCRIPTION:Looking for a new way to enjoy archery? Join us for Game Night at The Quiver\, where classic games get a fun and creative archery makeover! This lively event is part of our Summer Series and is perfect for families\, friends\, or solo participants who love a good challenge. \nYou’ll compete in archery versions of fan-favorite games like: \n\nBattleship – call your shots and try to sink your opponent’s fleet\nTic-Tac-Toe – line up your arrows for the win\nTwister – with a bow-and-arrow twist\nPlus more interactive\, target-based games!\n\nNo matter your skill level\, this event is designed for maximum fun and friendly competition. All equipment is provided\, and our certified staff will guide you through each game. \n  \nSign Up Now
URL:https://peelcompton.org/event/summer-series-game-night/
LOCATION:The Quiver Archery Range\, 1701 SW F St\, Bentonville\, AR\, United States
CATEGORIES:The Quiver Archery Range
ATTACH;FMTTYPE=image/jpeg:https://peelcompton.org/wp-content/uploads/2026/01/Battleship-Archery_Green.jpg
END:VEVENT
END:VCALENDAR