BEGIN:VCALENDAR
VERSION:2.0
PRODID:-//Peel Compton Foundation - ECPv6.15.20//NONSGML v1.0//EN
CALSCALE:GREGORIAN
METHOD:PUBLISH
X-WR-CALNAME:Peel Compton Foundation
X-ORIGINAL-URL:https://peelcompton.org
X-WR-CALDESC:Events for Peel Compton Foundation
REFRESH-INTERVAL;VALUE=DURATION:PT1H
X-Robots-Tag:noindex
X-PUBLISHED-TTL:PT1H
BEGIN:VTIMEZONE
TZID:America/Chicago
BEGIN:DAYLIGHT
TZOFFSETFROM:-0600
TZOFFSETTO:-0500
TZNAME:CDT
DTSTART:20250309T080000
END:DAYLIGHT
BEGIN:STANDARD
TZOFFSETFROM:-0500
TZOFFSETTO:-0600
TZNAME:CST
DTSTART:20251102T070000
END:STANDARD
BEGIN:DAYLIGHT
TZOFFSETFROM:-0600
TZOFFSETTO:-0500
TZNAME:CDT
DTSTART:20260308T080000
END:DAYLIGHT
BEGIN:STANDARD
TZOFFSETFROM:-0500
TZOFFSETTO:-0600
TZNAME:CST
DTSTART:20261101T070000
END:STANDARD
BEGIN:DAYLIGHT
TZOFFSETFROM:-0600
TZOFFSETTO:-0500
TZNAME:CDT
DTSTART:20270314T080000
END:DAYLIGHT
BEGIN:STANDARD
TZOFFSETFROM:-0500
TZOFFSETTO:-0600
TZNAME:CST
DTSTART:20271107T070000
END:STANDARD
END:VTIMEZONE
BEGIN:VEVENT
DTSTART;TZID=America/Chicago:20260425T100000
DTEND;TZID=America/Chicago:20260425T120000
DTSTAMP:20260425T072805
CREATED:20250701T190428Z
LAST-MODIFIED:20260128T221546Z
UID:10002172-1777111200-1777118400@peelcompton.org
SUMMARY:USA Archery Pin Shoot
DESCRIPTION:On the last Saturday of each month\, Club Members have the chance to earn their USA Archery JOAD or Adult Achievement Pins\, provided they are members of both USA Archery & The Quiver. \nThis is a great opportunity for archers of all ages to track their progress and earn recognition for their skills and dedication! \nFor more information on the program visit: USA Archery Achievement Awards Program \nMandatory membership(s): \n\nThe Quiver Family Membership\nThe Quiver Individual Membership\n\n  \nRegister
URL:https://peelcompton.org/event/usa-archery-pin-shoots/2026-04-25/
LOCATION:The Quiver Archery Range\, 1701 SW F St\, Bentonville\, AR\, United States
CATEGORIES:The Quiver Archery Range
ATTACH;FMTTYPE=image/png:https://peelcompton.org/wp-content/uploads/2025/07/Pin-Shoots-qEzylT.png
END:VEVENT
END:VCALENDAR