BEGIN:VCALENDAR
VERSION:2.0
PRODID:-//Peel Compton Foundation - ECPv6.15.20//NONSGML v1.0//EN
CALSCALE:GREGORIAN
METHOD:PUBLISH
X-WR-CALNAME:Peel Compton Foundation
X-ORIGINAL-URL:https://peelcompton.org
X-WR-CALDESC:Events for Peel Compton Foundation
REFRESH-INTERVAL;VALUE=DURATION:PT1H
X-Robots-Tag:noindex
X-PUBLISHED-TTL:PT1H
BEGIN:VTIMEZONE
TZID:America/Chicago
BEGIN:DAYLIGHT
TZOFFSETFROM:-0600
TZOFFSETTO:-0500
TZNAME:CDT
DTSTART:20250309T080000
END:DAYLIGHT
BEGIN:STANDARD
TZOFFSETFROM:-0500
TZOFFSETTO:-0600
TZNAME:CST
DTSTART:20251102T070000
END:STANDARD
BEGIN:DAYLIGHT
TZOFFSETFROM:-0600
TZOFFSETTO:-0500
TZNAME:CDT
DTSTART:20260308T080000
END:DAYLIGHT
BEGIN:STANDARD
TZOFFSETFROM:-0500
TZOFFSETTO:-0600
TZNAME:CST
DTSTART:20261101T070000
END:STANDARD
BEGIN:DAYLIGHT
TZOFFSETFROM:-0600
TZOFFSETTO:-0500
TZNAME:CDT
DTSTART:20270314T080000
END:DAYLIGHT
BEGIN:STANDARD
TZOFFSETFROM:-0500
TZOFFSETTO:-0600
TZNAME:CST
DTSTART:20271107T070000
END:STANDARD
END:VTIMEZONE
BEGIN:VEVENT
DTSTART;TZID=America/Chicago:20260603T160000
DTEND;TZID=America/Chicago:20260603T200000
DTSTAMP:20260422T210613
CREATED:20260422T131703Z
LAST-MODIFIED:20260422T132122Z
UID:10003107-1780502400-1780516800@peelcompton.org
SUMMARY:Warrior Wednesday | Archery Tag Open Play
DESCRIPTION:Looking for action-packed fun? Join our Open Play Archery Tag sessions! This is your chance to jump into the game\, meet new players\, and experience the thrill of archery combat in a safe\, supervised environment. \nOpen Play is perfect for individuals\, small groups\, and walk-ins. We’ll organize teams on-site\, or you can bring your own teammates (or competitors!) and jump straight into the action. No experience is necessary — our staff provides all equipment and conducts a full safety briefing before play begins\, so everyone can feel confident and ready to compete. \n\nSafe foam-tipped arrows & masks\nAll equipment included\nGreat for youth\, teens\, and adults\nPay by the hour\, per person\n\nWhether you’re practicing your aim\, blowing off steam\, or just looking for something different to do\, Open Play Archery Tag delivers nonstop excitement. \nReserve your spot today — space is limited per session! \nLearn More
URL:https://peelcompton.org/event/warrior-wednesday-archery-tag-open-play/2026-06-03/
LOCATION:The Quiver Archery Range\, 1701 SW F St\, Bentonville\, AR\, United States
CATEGORIES:The Quiver Archery Range
ATTACH;FMTTYPE=image/png:https://peelcompton.org/wp-content/uploads/2026/04/383.png
ORGANIZER;CN="Peel Compton Foundation":MAILTO:info@peelcompton.org
END:VEVENT
BEGIN:VEVENT
DTSTART;TZID=America/Chicago:20260610T160000
DTEND;TZID=America/Chicago:20260610T200000
DTSTAMP:20260422T210613
CREATED:20260422T131703Z
LAST-MODIFIED:20260422T132122Z
UID:10003108-1781107200-1781121600@peelcompton.org
SUMMARY:Warrior Wednesday | Archery Tag Open Play
DESCRIPTION:Looking for action-packed fun? Join our Open Play Archery Tag sessions! This is your chance to jump into the game\, meet new players\, and experience the thrill of archery combat in a safe\, supervised environment. \nOpen Play is perfect for individuals\, small groups\, and walk-ins. We’ll organize teams on-site\, or you can bring your own teammates (or competitors!) and jump straight into the action. No experience is necessary — our staff provides all equipment and conducts a full safety briefing before play begins\, so everyone can feel confident and ready to compete. \n\nSafe foam-tipped arrows & masks\nAll equipment included\nGreat for youth\, teens\, and adults\nPay by the hour\, per person\n\nWhether you’re practicing your aim\, blowing off steam\, or just looking for something different to do\, Open Play Archery Tag delivers nonstop excitement. \nReserve your spot today — space is limited per session! \nLearn More
URL:https://peelcompton.org/event/warrior-wednesday-archery-tag-open-play/2026-06-10/
LOCATION:The Quiver Archery Range\, 1701 SW F St\, Bentonville\, AR\, United States
CATEGORIES:The Quiver Archery Range
ATTACH;FMTTYPE=image/png:https://peelcompton.org/wp-content/uploads/2026/04/383.png
ORGANIZER;CN="Peel Compton Foundation":MAILTO:info@peelcompton.org
END:VEVENT
BEGIN:VEVENT
DTSTART;TZID=America/Chicago:20260617T160000
DTEND;TZID=America/Chicago:20260617T200000
DTSTAMP:20260422T210613
CREATED:20260422T131703Z
LAST-MODIFIED:20260422T132122Z
UID:10003109-1781712000-1781726400@peelcompton.org
SUMMARY:Warrior Wednesday | Archery Tag Open Play
DESCRIPTION:Looking for action-packed fun? Join our Open Play Archery Tag sessions! This is your chance to jump into the game\, meet new players\, and experience the thrill of archery combat in a safe\, supervised environment. \nOpen Play is perfect for individuals\, small groups\, and walk-ins. We’ll organize teams on-site\, or you can bring your own teammates (or competitors!) and jump straight into the action. No experience is necessary — our staff provides all equipment and conducts a full safety briefing before play begins\, so everyone can feel confident and ready to compete. \n\nSafe foam-tipped arrows & masks\nAll equipment included\nGreat for youth\, teens\, and adults\nPay by the hour\, per person\n\nWhether you’re practicing your aim\, blowing off steam\, or just looking for something different to do\, Open Play Archery Tag delivers nonstop excitement. \nReserve your spot today — space is limited per session! \nLearn More
URL:https://peelcompton.org/event/warrior-wednesday-archery-tag-open-play/2026-06-17/
LOCATION:The Quiver Archery Range\, 1701 SW F St\, Bentonville\, AR\, United States
CATEGORIES:The Quiver Archery Range
ATTACH;FMTTYPE=image/png:https://peelcompton.org/wp-content/uploads/2026/04/383.png
ORGANIZER;CN="Peel Compton Foundation":MAILTO:info@peelcompton.org
END:VEVENT
BEGIN:VEVENT
DTSTART;TZID=America/Chicago:20260624T160000
DTEND;TZID=America/Chicago:20260624T200000
DTSTAMP:20260422T210613
CREATED:20260422T131703Z
LAST-MODIFIED:20260422T132122Z
UID:10003110-1782316800-1782331200@peelcompton.org
SUMMARY:Warrior Wednesday | Archery Tag Open Play
DESCRIPTION:Looking for action-packed fun? Join our Open Play Archery Tag sessions! This is your chance to jump into the game\, meet new players\, and experience the thrill of archery combat in a safe\, supervised environment. \nOpen Play is perfect for individuals\, small groups\, and walk-ins. We’ll organize teams on-site\, or you can bring your own teammates (or competitors!) and jump straight into the action. No experience is necessary — our staff provides all equipment and conducts a full safety briefing before play begins\, so everyone can feel confident and ready to compete. \n\nSafe foam-tipped arrows & masks\nAll equipment included\nGreat for youth\, teens\, and adults\nPay by the hour\, per person\n\nWhether you’re practicing your aim\, blowing off steam\, or just looking for something different to do\, Open Play Archery Tag delivers nonstop excitement. \nReserve your spot today — space is limited per session! \nLearn More
URL:https://peelcompton.org/event/warrior-wednesday-archery-tag-open-play/2026-06-24/
LOCATION:The Quiver Archery Range\, 1701 SW F St\, Bentonville\, AR\, United States
CATEGORIES:The Quiver Archery Range
ATTACH;FMTTYPE=image/png:https://peelcompton.org/wp-content/uploads/2026/04/383.png
ORGANIZER;CN="Peel Compton Foundation":MAILTO:info@peelcompton.org
END:VEVENT
BEGIN:VEVENT
DTSTART;TZID=America/Chicago:20260701T160000
DTEND;TZID=America/Chicago:20260701T200000
DTSTAMP:20260422T210613
CREATED:20260422T131703Z
LAST-MODIFIED:20260422T132122Z
UID:10003111-1782921600-1782936000@peelcompton.org
SUMMARY:Warrior Wednesday | Archery Tag Open Play
DESCRIPTION:Looking for action-packed fun? Join our Open Play Archery Tag sessions! This is your chance to jump into the game\, meet new players\, and experience the thrill of archery combat in a safe\, supervised environment. \nOpen Play is perfect for individuals\, small groups\, and walk-ins. We’ll organize teams on-site\, or you can bring your own teammates (or competitors!) and jump straight into the action. No experience is necessary — our staff provides all equipment and conducts a full safety briefing before play begins\, so everyone can feel confident and ready to compete. \n\nSafe foam-tipped arrows & masks\nAll equipment included\nGreat for youth\, teens\, and adults\nPay by the hour\, per person\n\nWhether you’re practicing your aim\, blowing off steam\, or just looking for something different to do\, Open Play Archery Tag delivers nonstop excitement. \nReserve your spot today — space is limited per session! \nLearn More
URL:https://peelcompton.org/event/warrior-wednesday-archery-tag-open-play/2026-07-01/
LOCATION:The Quiver Archery Range\, 1701 SW F St\, Bentonville\, AR\, United States
CATEGORIES:The Quiver Archery Range
ATTACH;FMTTYPE=image/png:https://peelcompton.org/wp-content/uploads/2026/04/383.png
ORGANIZER;CN="Peel Compton Foundation":MAILTO:info@peelcompton.org
END:VEVENT
BEGIN:VEVENT
DTSTART;TZID=America/Chicago:20260708T160000
DTEND;TZID=America/Chicago:20260708T200000
DTSTAMP:20260422T210614
CREATED:20260422T131703Z
LAST-MODIFIED:20260422T132122Z
UID:10003112-1783526400-1783540800@peelcompton.org
SUMMARY:Warrior Wednesday | Archery Tag Open Play
DESCRIPTION:Looking for action-packed fun? Join our Open Play Archery Tag sessions! This is your chance to jump into the game\, meet new players\, and experience the thrill of archery combat in a safe\, supervised environment. \nOpen Play is perfect for individuals\, small groups\, and walk-ins. We’ll organize teams on-site\, or you can bring your own teammates (or competitors!) and jump straight into the action. No experience is necessary — our staff provides all equipment and conducts a full safety briefing before play begins\, so everyone can feel confident and ready to compete. \n\nSafe foam-tipped arrows & masks\nAll equipment included\nGreat for youth\, teens\, and adults\nPay by the hour\, per person\n\nWhether you’re practicing your aim\, blowing off steam\, or just looking for something different to do\, Open Play Archery Tag delivers nonstop excitement. \nReserve your spot today — space is limited per session! \nLearn More
URL:https://peelcompton.org/event/warrior-wednesday-archery-tag-open-play/2026-07-08/
LOCATION:The Quiver Archery Range\, 1701 SW F St\, Bentonville\, AR\, United States
CATEGORIES:The Quiver Archery Range
ATTACH;FMTTYPE=image/png:https://peelcompton.org/wp-content/uploads/2026/04/383.png
ORGANIZER;CN="Peel Compton Foundation":MAILTO:info@peelcompton.org
END:VEVENT
BEGIN:VEVENT
DTSTART;TZID=America/Chicago:20260715T160000
DTEND;TZID=America/Chicago:20260715T200000
DTSTAMP:20260422T210614
CREATED:20260422T131703Z
LAST-MODIFIED:20260422T132122Z
UID:10003113-1784131200-1784145600@peelcompton.org
SUMMARY:Warrior Wednesday | Archery Tag Open Play
DESCRIPTION:Looking for action-packed fun? Join our Open Play Archery Tag sessions! This is your chance to jump into the game\, meet new players\, and experience the thrill of archery combat in a safe\, supervised environment. \nOpen Play is perfect for individuals\, small groups\, and walk-ins. We’ll organize teams on-site\, or you can bring your own teammates (or competitors!) and jump straight into the action. No experience is necessary — our staff provides all equipment and conducts a full safety briefing before play begins\, so everyone can feel confident and ready to compete. \n\nSafe foam-tipped arrows & masks\nAll equipment included\nGreat for youth\, teens\, and adults\nPay by the hour\, per person\n\nWhether you’re practicing your aim\, blowing off steam\, or just looking for something different to do\, Open Play Archery Tag delivers nonstop excitement. \nReserve your spot today — space is limited per session! \nLearn More
URL:https://peelcompton.org/event/warrior-wednesday-archery-tag-open-play/2026-07-15/
LOCATION:The Quiver Archery Range\, 1701 SW F St\, Bentonville\, AR\, United States
CATEGORIES:The Quiver Archery Range
ATTACH;FMTTYPE=image/png:https://peelcompton.org/wp-content/uploads/2026/04/383.png
ORGANIZER;CN="Peel Compton Foundation":MAILTO:info@peelcompton.org
END:VEVENT
BEGIN:VEVENT
DTSTART;TZID=America/Chicago:20260722T160000
DTEND;TZID=America/Chicago:20260722T200000
DTSTAMP:20260422T210614
CREATED:20260422T131703Z
LAST-MODIFIED:20260422T132122Z
UID:10003114-1784736000-1784750400@peelcompton.org
SUMMARY:Warrior Wednesday | Archery Tag Open Play
DESCRIPTION:Looking for action-packed fun? Join our Open Play Archery Tag sessions! This is your chance to jump into the game\, meet new players\, and experience the thrill of archery combat in a safe\, supervised environment. \nOpen Play is perfect for individuals\, small groups\, and walk-ins. We’ll organize teams on-site\, or you can bring your own teammates (or competitors!) and jump straight into the action. No experience is necessary — our staff provides all equipment and conducts a full safety briefing before play begins\, so everyone can feel confident and ready to compete. \n\nSafe foam-tipped arrows & masks\nAll equipment included\nGreat for youth\, teens\, and adults\nPay by the hour\, per person\n\nWhether you’re practicing your aim\, blowing off steam\, or just looking for something different to do\, Open Play Archery Tag delivers nonstop excitement. \nReserve your spot today — space is limited per session! \nLearn More
URL:https://peelcompton.org/event/warrior-wednesday-archery-tag-open-play/2026-07-22/
LOCATION:The Quiver Archery Range\, 1701 SW F St\, Bentonville\, AR\, United States
CATEGORIES:The Quiver Archery Range
ATTACH;FMTTYPE=image/png:https://peelcompton.org/wp-content/uploads/2026/04/383.png
ORGANIZER;CN="Peel Compton Foundation":MAILTO:info@peelcompton.org
END:VEVENT
BEGIN:VEVENT
DTSTART;TZID=America/Chicago:20260729T160000
DTEND;TZID=America/Chicago:20260729T200000
DTSTAMP:20260422T210614
CREATED:20260422T131703Z
LAST-MODIFIED:20260422T132122Z
UID:10003115-1785340800-1785355200@peelcompton.org
SUMMARY:Warrior Wednesday | Archery Tag Open Play
DESCRIPTION:Looking for action-packed fun? Join our Open Play Archery Tag sessions! This is your chance to jump into the game\, meet new players\, and experience the thrill of archery combat in a safe\, supervised environment. \nOpen Play is perfect for individuals\, small groups\, and walk-ins. We’ll organize teams on-site\, or you can bring your own teammates (or competitors!) and jump straight into the action. No experience is necessary — our staff provides all equipment and conducts a full safety briefing before play begins\, so everyone can feel confident and ready to compete. \n\nSafe foam-tipped arrows & masks\nAll equipment included\nGreat for youth\, teens\, and adults\nPay by the hour\, per person\n\nWhether you’re practicing your aim\, blowing off steam\, or just looking for something different to do\, Open Play Archery Tag delivers nonstop excitement. \nReserve your spot today — space is limited per session! \nLearn More
URL:https://peelcompton.org/event/warrior-wednesday-archery-tag-open-play/2026-07-29/
LOCATION:The Quiver Archery Range\, 1701 SW F St\, Bentonville\, AR\, United States
CATEGORIES:The Quiver Archery Range
ATTACH;FMTTYPE=image/png:https://peelcompton.org/wp-content/uploads/2026/04/383.png
ORGANIZER;CN="Peel Compton Foundation":MAILTO:info@peelcompton.org
END:VEVENT
BEGIN:VEVENT
DTSTART;TZID=America/Chicago:20260805T160000
DTEND;TZID=America/Chicago:20260805T200000
DTSTAMP:20260422T210614
CREATED:20260422T131703Z
LAST-MODIFIED:20260422T132122Z
UID:10003116-1785945600-1785960000@peelcompton.org
SUMMARY:Warrior Wednesday | Archery Tag Open Play
DESCRIPTION:Looking for action-packed fun? Join our Open Play Archery Tag sessions! This is your chance to jump into the game\, meet new players\, and experience the thrill of archery combat in a safe\, supervised environment. \nOpen Play is perfect for individuals\, small groups\, and walk-ins. We’ll organize teams on-site\, or you can bring your own teammates (or competitors!) and jump straight into the action. No experience is necessary — our staff provides all equipment and conducts a full safety briefing before play begins\, so everyone can feel confident and ready to compete. \n\nSafe foam-tipped arrows & masks\nAll equipment included\nGreat for youth\, teens\, and adults\nPay by the hour\, per person\n\nWhether you’re practicing your aim\, blowing off steam\, or just looking for something different to do\, Open Play Archery Tag delivers nonstop excitement. \nReserve your spot today — space is limited per session! \nLearn More
URL:https://peelcompton.org/event/warrior-wednesday-archery-tag-open-play/2026-08-05/
LOCATION:The Quiver Archery Range\, 1701 SW F St\, Bentonville\, AR\, United States
CATEGORIES:The Quiver Archery Range
ATTACH;FMTTYPE=image/png:https://peelcompton.org/wp-content/uploads/2026/04/383.png
ORGANIZER;CN="Peel Compton Foundation":MAILTO:info@peelcompton.org
END:VEVENT
BEGIN:VEVENT
DTSTART;TZID=America/Chicago:20260812T160000
DTEND;TZID=America/Chicago:20260812T200000
DTSTAMP:20260422T210614
CREATED:20260422T131703Z
LAST-MODIFIED:20260422T132122Z
UID:10003117-1786550400-1786564800@peelcompton.org
SUMMARY:Warrior Wednesday | Archery Tag Open Play
DESCRIPTION:Looking for action-packed fun? Join our Open Play Archery Tag sessions! This is your chance to jump into the game\, meet new players\, and experience the thrill of archery combat in a safe\, supervised environment. \nOpen Play is perfect for individuals\, small groups\, and walk-ins. We’ll organize teams on-site\, or you can bring your own teammates (or competitors!) and jump straight into the action. No experience is necessary — our staff provides all equipment and conducts a full safety briefing before play begins\, so everyone can feel confident and ready to compete. \n\nSafe foam-tipped arrows & masks\nAll equipment included\nGreat for youth\, teens\, and adults\nPay by the hour\, per person\n\nWhether you’re practicing your aim\, blowing off steam\, or just looking for something different to do\, Open Play Archery Tag delivers nonstop excitement. \nReserve your spot today — space is limited per session! \nLearn More
URL:https://peelcompton.org/event/warrior-wednesday-archery-tag-open-play/2026-08-12/
LOCATION:The Quiver Archery Range\, 1701 SW F St\, Bentonville\, AR\, United States
CATEGORIES:The Quiver Archery Range
ATTACH;FMTTYPE=image/png:https://peelcompton.org/wp-content/uploads/2026/04/383.png
ORGANIZER;CN="Peel Compton Foundation":MAILTO:info@peelcompton.org
END:VEVENT
BEGIN:VEVENT
DTSTART;TZID=America/Chicago:20260819T160000
DTEND;TZID=America/Chicago:20260819T200000
DTSTAMP:20260422T210614
CREATED:20260422T131703Z
LAST-MODIFIED:20260422T132122Z
UID:10003118-1787155200-1787169600@peelcompton.org
SUMMARY:Warrior Wednesday | Archery Tag Open Play
DESCRIPTION:Looking for action-packed fun? Join our Open Play Archery Tag sessions! This is your chance to jump into the game\, meet new players\, and experience the thrill of archery combat in a safe\, supervised environment. \nOpen Play is perfect for individuals\, small groups\, and walk-ins. We’ll organize teams on-site\, or you can bring your own teammates (or competitors!) and jump straight into the action. No experience is necessary — our staff provides all equipment and conducts a full safety briefing before play begins\, so everyone can feel confident and ready to compete. \n\nSafe foam-tipped arrows & masks\nAll equipment included\nGreat for youth\, teens\, and adults\nPay by the hour\, per person\n\nWhether you’re practicing your aim\, blowing off steam\, or just looking for something different to do\, Open Play Archery Tag delivers nonstop excitement. \nReserve your spot today — space is limited per session! \nLearn More
URL:https://peelcompton.org/event/warrior-wednesday-archery-tag-open-play/2026-08-19/
LOCATION:The Quiver Archery Range\, 1701 SW F St\, Bentonville\, AR\, United States
CATEGORIES:The Quiver Archery Range
ATTACH;FMTTYPE=image/png:https://peelcompton.org/wp-content/uploads/2026/04/383.png
ORGANIZER;CN="Peel Compton Foundation":MAILTO:info@peelcompton.org
END:VEVENT
BEGIN:VEVENT
DTSTART;TZID=America/Chicago:20260826T160000
DTEND;TZID=America/Chicago:20260826T200000
DTSTAMP:20260422T210614
CREATED:20260422T131703Z
LAST-MODIFIED:20260422T132122Z
UID:10003119-1787760000-1787774400@peelcompton.org
SUMMARY:Warrior Wednesday | Archery Tag Open Play
DESCRIPTION:Looking for action-packed fun? Join our Open Play Archery Tag sessions! This is your chance to jump into the game\, meet new players\, and experience the thrill of archery combat in a safe\, supervised environment. \nOpen Play is perfect for individuals\, small groups\, and walk-ins. We’ll organize teams on-site\, or you can bring your own teammates (or competitors!) and jump straight into the action. No experience is necessary — our staff provides all equipment and conducts a full safety briefing before play begins\, so everyone can feel confident and ready to compete. \n\nSafe foam-tipped arrows & masks\nAll equipment included\nGreat for youth\, teens\, and adults\nPay by the hour\, per person\n\nWhether you’re practicing your aim\, blowing off steam\, or just looking for something different to do\, Open Play Archery Tag delivers nonstop excitement. \nReserve your spot today — space is limited per session! \nLearn More
URL:https://peelcompton.org/event/warrior-wednesday-archery-tag-open-play/2026-08-26/
LOCATION:The Quiver Archery Range\, 1701 SW F St\, Bentonville\, AR\, United States
CATEGORIES:The Quiver Archery Range
ATTACH;FMTTYPE=image/png:https://peelcompton.org/wp-content/uploads/2026/04/383.png
ORGANIZER;CN="Peel Compton Foundation":MAILTO:info@peelcompton.org
END:VEVENT
END:VCALENDAR