BEGIN:VCALENDAR
VERSION:2.0
PRODID:-//Peel Compton Foundation - ECPv6.15.20//NONSGML v1.0//EN
CALSCALE:GREGORIAN
METHOD:PUBLISH
X-ORIGINAL-URL:https://peelcompton.org
X-WR-CALDESC:Events for Peel Compton Foundation
REFRESH-INTERVAL;VALUE=DURATION:PT1H
X-Robots-Tag:noindex
X-PUBLISHED-TTL:PT1H
BEGIN:VTIMEZONE
TZID:America/Chicago
BEGIN:DAYLIGHT
TZOFFSETFROM:-0600
TZOFFSETTO:-0500
TZNAME:CDT
DTSTART:20240310T080000
END:DAYLIGHT
BEGIN:STANDARD
TZOFFSETFROM:-0500
TZOFFSETTO:-0600
TZNAME:CST
DTSTART:20241103T070000
END:STANDARD
BEGIN:DAYLIGHT
TZOFFSETFROM:-0600
TZOFFSETTO:-0500
TZNAME:CDT
DTSTART:20250309T080000
END:DAYLIGHT
BEGIN:STANDARD
TZOFFSETFROM:-0500
TZOFFSETTO:-0600
TZNAME:CST
DTSTART:20251102T070000
END:STANDARD
BEGIN:DAYLIGHT
TZOFFSETFROM:-0600
TZOFFSETTO:-0500
TZNAME:CDT
DTSTART:20260308T080000
END:DAYLIGHT
BEGIN:STANDARD
TZOFFSETFROM:-0500
TZOFFSETTO:-0600
TZNAME:CST
DTSTART:20261101T070000
END:STANDARD
END:VTIMEZONE
BEGIN:VEVENT
DTSTART;TZID=America/Chicago:20250418T070000
DTEND;TZID=America/Chicago:20250418T150000
DTSTAMP:20260422T044112
CREATED:20250701T191216Z
LAST-MODIFIED:20250714T213710Z
UID:10000334-1744959600-1744988400@peelcompton.org
SUMMARY:Dr. Compton Native Tree & Plant Sale: Spring
DESCRIPTION:Stop by the annual Spring Dr. Compton Native Tree & Plant Sale to shop over 70 varieties of perennial\, ornamental grasses\, vines\, shrubs\, and trees. This year’s sale will also feature Pollinator Trays\, Erosion Control Trays\, and Full Plug Trays. \n The sale will take place at the Compton Gardens Maintenance Office located at 407 NE B St.\, Bentonville\, AR. Walk-ups are welcome\, no reservation needed. \n April 14 | 7am-6pm \n April 15 | 7am-3pm \n April 16 | 7am-3pm \n April 17 | 7am-3pm \n April 18 | 7am-3pm \n   \n [fusion_button link=”Learn More” title=”” target=”_self” link_attributes=”” aria_role_button=”0″ alignment_medium=”” alignment_small=”” alignment=”” modal=”” hide_on_mobile=”small-visibility\,medium-visibility\,large-visibility” sticky_display=”normal\,sticky” class=”” id=”” color=”default” button_gradient_top_color_hover=”” hue=”” saturation=”” lightness=”” alpha=”” button_gradient_top_color=”” button_gradient_bottom_color_hover=”” button_gradient_bottom_color=”” gradient_start_position=”” gradient_end_position=”” gradient_type=”” radial_direction=”” linear_angle=”180″ accent_hover_color=”” accent_color=”” type=”” bevel_color=”” bevel_color_hover=”” border_top=”” border_right=”” border_bottom=”” border_left=”” border_radius_top_left=”” border_radius_top_right=”” border_radius_bottom_right=”” border_radius_bottom_left=”” border_hover_color=”” border_color=”” size=”” padding_top=”” padding_right=”” padding_bottom=”” padding_left=”” fusion_font_family_button_font=”” fusion_font_variant_button_font=”” font_size=”” line_height=”” letter_spacing=”” text_transform=”” stretch=”default” margin_top=”” margin_right=”” margin_bottom=”” margin_left=”” icon=”” icon_position=”left” icon_divider=”no” hover_transition=”none” animation_type=”” animation_direction=”left” animation_color=”” animation_speed=”0.3″ animation_delay=”0″ animation_offset=””]https://peelcompton.org/events/plant-sale/[/fusion_button]
URL:https://peelcompton.org/event/dr-compton-native-tree-plant-sale-spring-5/
LOCATION:AR
CATEGORIES:Compton Gardens & Arboretum
ATTACH;FMTTYPE=image/png:https://peelcompton.org/wp-content/uploads/2025/07/AmiliaWebsite-Photos-69-pF83wI.png
END:VEVENT
BEGIN:VEVENT
DTSTART;TZID=America/Chicago:20250417T070000
DTEND;TZID=America/Chicago:20250417T150000
DTSTAMP:20260422T044112
CREATED:20250701T191214Z
LAST-MODIFIED:20250714T213718Z
UID:10000333-1744873200-1744902000@peelcompton.org
SUMMARY:Dr. Compton Native Tree & Plant Sale: Spring
DESCRIPTION:Stop by the annual Spring Dr. Compton Native Tree & Plant Sale to shop over 70 varieties of perennial\, ornamental grasses\, vines\, shrubs\, and trees. This year’s sale will also feature Pollinator Trays\, Erosion Control Trays\, and Full Plug Trays. \n The sale will take place at the Compton Gardens Maintenance Office located at 407 NE B St.\, Bentonville\, AR. Walk-ups are welcome\, no reservation needed. \n April 14 | 7am-6pm \n April 15 | 7am-3pm \n April 16 | 7am-3pm \n April 17 | 7am-3pm \n April 18 | 7am-3pm \n   \n [fusion_button link=”Learn More” title=”” target=”_self” link_attributes=”” aria_role_button=”0″ alignment_medium=”” alignment_small=”” alignment=”” modal=”” hide_on_mobile=”small-visibility\,medium-visibility\,large-visibility” sticky_display=”normal\,sticky” class=”” id=”” color=”default” button_gradient_top_color_hover=”” hue=”” saturation=”” lightness=”” alpha=”” button_gradient_top_color=”” button_gradient_bottom_color_hover=”” button_gradient_bottom_color=”” gradient_start_position=”” gradient_end_position=”” gradient_type=”” radial_direction=”” linear_angle=”180″ accent_hover_color=”” accent_color=”” type=”” bevel_color=”” bevel_color_hover=”” border_top=”” border_right=”” border_bottom=”” border_left=”” border_radius_top_left=”” border_radius_top_right=”” border_radius_bottom_right=”” border_radius_bottom_left=”” border_hover_color=”” border_color=”” size=”” padding_top=”” padding_right=”” padding_bottom=”” padding_left=”” fusion_font_family_button_font=”” fusion_font_variant_button_font=”” font_size=”” line_height=”” letter_spacing=”” text_transform=”” stretch=”default” margin_top=”” margin_right=”” margin_bottom=”” margin_left=”” icon=”” icon_position=”left” icon_divider=”no” hover_transition=”none” animation_type=”” animation_direction=”left” animation_color=”” animation_speed=”0.3″ animation_delay=”0″ animation_offset=””]https://peelcompton.org/events/plant-sale/[/fusion_button]
URL:https://peelcompton.org/event/dr-compton-native-tree-plant-sale-spring-4/
LOCATION:AR
CATEGORIES:Compton Gardens & Arboretum
ATTACH;FMTTYPE=image/png:https://peelcompton.org/wp-content/uploads/2025/07/AmiliaWebsite-Photos-69-pF83wI.png
END:VEVENT
BEGIN:VEVENT
DTSTART;TZID=America/Chicago:20250416T070000
DTEND;TZID=America/Chicago:20250416T150000
DTSTAMP:20260422T044112
CREATED:20250701T191213Z
LAST-MODIFIED:20250714T213725Z
UID:10000332-1744786800-1744815600@peelcompton.org
SUMMARY:Dr. Compton Native Tree & Plant Sale: Spring
DESCRIPTION:Stop by the annual Spring Dr. Compton Native Tree & Plant Sale to shop over 70 varieties of perennial\, ornamental grasses\, vines\, shrubs\, and trees. This year’s sale will also feature Pollinator Trays\, Erosion Control Trays\, and Full Plug Trays. \n The sale will take place at the Compton Gardens Maintenance Office located at 407 NE B St.\, Bentonville\, AR. Walk-ups are welcome\, no reservation needed. \n April 14 | 7am-6pm \n April 15 | 7am-3pm \n April 16 | 7am-3pm \n April 17 | 7am-3pm \n April 18 | 7am-3pm \n   \n [fusion_button link=”Learn More” title=”” target=”_self” link_attributes=”” aria_role_button=”0″ alignment_medium=”” alignment_small=”” alignment=”” modal=”” hide_on_mobile=”small-visibility\,medium-visibility\,large-visibility” sticky_display=”normal\,sticky” class=”” id=”” color=”default” button_gradient_top_color_hover=”” hue=”” saturation=”” lightness=”” alpha=”” button_gradient_top_color=”” button_gradient_bottom_color_hover=”” button_gradient_bottom_color=”” gradient_start_position=”” gradient_end_position=”” gradient_type=”” radial_direction=”” linear_angle=”180″ accent_hover_color=”” accent_color=”” type=”” bevel_color=”” bevel_color_hover=”” border_top=”” border_right=”” border_bottom=”” border_left=”” border_radius_top_left=”” border_radius_top_right=”” border_radius_bottom_right=”” border_radius_bottom_left=”” border_hover_color=”” border_color=”” size=”” padding_top=”” padding_right=”” padding_bottom=”” padding_left=”” fusion_font_family_button_font=”” fusion_font_variant_button_font=”” font_size=”” line_height=”” letter_spacing=”” text_transform=”” stretch=”default” margin_top=”” margin_right=”” margin_bottom=”” margin_left=”” icon=”” icon_position=”left” icon_divider=”no” hover_transition=”none” animation_type=”” animation_direction=”left” animation_color=”” animation_speed=”0.3″ animation_delay=”0″ animation_offset=””]https://peelcompton.org/events/plant-sale/[/fusion_button]
URL:https://peelcompton.org/event/dr-compton-native-tree-plant-sale-spring-3/
LOCATION:AR
CATEGORIES:Compton Gardens & Arboretum
ATTACH;FMTTYPE=image/png:https://peelcompton.org/wp-content/uploads/2025/07/AmiliaWebsite-Photos-69-pF83wI.png
END:VEVENT
BEGIN:VEVENT
DTSTART;TZID=America/Chicago:20250415T070000
DTEND;TZID=America/Chicago:20250415T150000
DTSTAMP:20260422T044112
CREATED:20250701T191203Z
LAST-MODIFIED:20250714T213740Z
UID:10000331-1744700400-1744729200@peelcompton.org
SUMMARY:Dr. Compton Native Tree & Plant Sale: Spring
DESCRIPTION:Stop by the annual Spring Dr. Compton Native Tree & Plant Sale to shop over 70 varieties of perennial\, ornamental grasses\, vines\, shrubs\, and trees. This year’s sale will also feature Pollinator Trays\, Erosion Control Trays\, and Full Plug Trays. \n The sale will take place at the Compton Gardens Maintenance Office located at 407 NE B St.\, Bentonville\, AR. Walk-ups are welcome\, no reservation needed. \n April 14 | 7am-6pm \n April 15 | 7am-3pm \n April 16 | 7am-3pm \n April 17 | 7am-3pm \n April 18 | 7am-3pm \n   \n [fusion_button link=”Learn More” title=”” target=”_self” link_attributes=”” aria_role_button=”0″ alignment_medium=”” alignment_small=”” alignment=”” modal=”” hide_on_mobile=”small-visibility\,medium-visibility\,large-visibility” sticky_display=”normal\,sticky” class=”” id=”” color=”default” button_gradient_top_color_hover=”” hue=”” saturation=”” lightness=”” alpha=”” button_gradient_top_color=”” button_gradient_bottom_color_hover=”” button_gradient_bottom_color=”” gradient_start_position=”” gradient_end_position=”” gradient_type=”” radial_direction=”” linear_angle=”180″ accent_hover_color=”” accent_color=”” type=”” bevel_color=”” bevel_color_hover=”” border_top=”” border_right=”” border_bottom=”” border_left=”” border_radius_top_left=”” border_radius_top_right=”” border_radius_bottom_right=”” border_radius_bottom_left=”” border_hover_color=”” border_color=”” size=”” padding_top=”” padding_right=”” padding_bottom=”” padding_left=”” fusion_font_family_button_font=”” fusion_font_variant_button_font=”” font_size=”” line_height=”” letter_spacing=”” text_transform=”” stretch=”default” margin_top=”” margin_right=”” margin_bottom=”” margin_left=”” icon=”” icon_position=”left” icon_divider=”no” hover_transition=”none” animation_type=”” animation_direction=”left” animation_color=”” animation_speed=”0.3″ animation_delay=”0″ animation_offset=””]https://peelcompton.org/events/plant-sale/[/fusion_button]
URL:https://peelcompton.org/event/dr-compton-native-tree-plant-sale-spring-2/
LOCATION:AR
CATEGORIES:Compton Gardens & Arboretum
ATTACH;FMTTYPE=image/png:https://peelcompton.org/wp-content/uploads/2025/07/AmiliaWebsite-Photos-69-pF83wI.png
END:VEVENT
END:VCALENDAR