BEGIN:VCALENDAR
VERSION:2.0
PRODID:-//Peel Compton Foundation - ECPv6.15.20//NONSGML v1.0//EN
CALSCALE:GREGORIAN
METHOD:PUBLISH
X-WR-CALNAME:Peel Compton Foundation
X-ORIGINAL-URL:https://peelcompton.org
X-WR-CALDESC:Events for Peel Compton Foundation
REFRESH-INTERVAL;VALUE=DURATION:PT1H
X-Robots-Tag:noindex
X-PUBLISHED-TTL:PT1H
BEGIN:VTIMEZONE
TZID:America/Chicago
BEGIN:DAYLIGHT
TZOFFSETFROM:-0600
TZOFFSETTO:-0500
TZNAME:CDT
DTSTART:20250309T080000
END:DAYLIGHT
BEGIN:STANDARD
TZOFFSETFROM:-0500
TZOFFSETTO:-0600
TZNAME:CST
DTSTART:20251102T070000
END:STANDARD
BEGIN:DAYLIGHT
TZOFFSETFROM:-0600
TZOFFSETTO:-0500
TZNAME:CDT
DTSTART:20260308T080000
END:DAYLIGHT
BEGIN:STANDARD
TZOFFSETFROM:-0500
TZOFFSETTO:-0600
TZNAME:CST
DTSTART:20261101T070000
END:STANDARD
BEGIN:DAYLIGHT
TZOFFSETFROM:-0600
TZOFFSETTO:-0500
TZNAME:CDT
DTSTART:20270314T080000
END:DAYLIGHT
BEGIN:STANDARD
TZOFFSETFROM:-0500
TZOFFSETTO:-0600
TZNAME:CST
DTSTART:20271107T070000
END:STANDARD
END:VTIMEZONE
BEGIN:VEVENT
DTSTART;TZID=America/Chicago:20260423T100000
DTEND;TZID=America/Chicago:20260423T150000
DTSTAMP:20260423T012737
CREATED:20260114T204946Z
LAST-MODIFIED:20260114T204946Z
UID:10002151-1776938400-1776956400@peelcompton.org
SUMMARY:ThinkWell Outdoors: Nature Explorers
DESCRIPTION:ThinkWell Outdoors programs are nature hybrid schools that seek to connect children and their families back with nature\, themselves\, and each other through inquiry and play-based emergent education. It is an (almost) all-weather program that provides an opportunity for students to play\, explore\, and learn together in an outdoor environment. They will wonder and wander\, get curiously creative\, build connection through community\, and deepen into respectful reciprocity with themselves\, each other\, and the land.  \nFor our Nature Explorers Program (ages 5-10): Each week we’ll explore natural science\, geography\, civics\, and history through play\, emergent learning\, music\, movement\, STEAM activities\, and wandering in nature together. \nRegister
URL:https://peelcompton.org/event/thinkwell-outdoors-nature-explorers-2/2026-04-23/
LOCATION:Coler Mountain Bike Preserve\, 2500 NW Grove Lane\, Bentonville\, AR\, United States
CATEGORIES:Coler Mountain Bike Preserve
ATTACH;FMTTYPE=image/png:https://peelcompton.org/wp-content/uploads/2026/01/AmiliaWebsite-Photos-1020-x-680-px-2026-01-14T144724.386.png
END:VEVENT
BEGIN:VEVENT
DTSTART;TZID=America/Chicago:20260423T100000
DTEND;TZID=America/Chicago:20260423T150000
DTSTAMP:20260423T012737
CREATED:20260114T205056Z
LAST-MODIFIED:20260114T205056Z
UID:10002162-1776938400-1776956400@peelcompton.org
SUMMARY:ThinkWell Outdoors: Los Exploradores
DESCRIPTION:ThinkWell Outdoors programs are nature hybrid schools that seek to connect children and their families back with nature\, themselves\, and each other through inquiry and play-based emergent education. It is an (almost) all-weather program that provides an opportunity for students to play\, explore\, and learn together in an outdoor environment. They will wonder and wander\, get curiously creative\, build connection through community\, and deepen into respectful reciprocity with themselves\, each other\, and the land.  \nFor our Los Exploradores Program (ages 4-6): This is our pilot Spanish Immersion program. Each week we will be playing and exploring in nature together. There will be free play\, games\, music\, movement\, and crafting.  \nRegister
URL:https://peelcompton.org/event/thinkwell-outdoors-los-exploradores/2026-04-23/
LOCATION:Coler Mountain Bike Preserve\, 2500 NW Grove Lane\, Bentonville\, AR\, United States
CATEGORIES:Coler Mountain Bike Preserve
ATTACH;FMTTYPE=image/png:https://peelcompton.org/wp-content/uploads/2026/01/AmiliaWebsite-Photos-1020-x-680-px-2026-01-14T144724.386.png
END:VEVENT
BEGIN:VEVENT
DTSTART;TZID=America/Chicago:20260423T163000
DTEND;TZID=America/Chicago:20260423T193000
DTSTAMP:20260423T012737
CREATED:20260320T140615Z
LAST-MODIFIED:20260320T140640Z
UID:10002973-1776961800-1776972600@peelcompton.org
SUMMARY:Oz Trails Town Series Short Track
DESCRIPTION:Join Pro Bike Center for the Oz Trails Town Series Short Track \nWater Tower at Coler Mountain Bike Preserve \nRegister
URL:https://peelcompton.org/event/oz-trails-town-series-short-track/2026-04-23/
LOCATION:Water Tower at Coler Mountain Bike Preserve\, 9355 NW 12th Dr\, Bentonville\, AR\, 72712\, United States
CATEGORIES:Coler Mountain Bike Preserve
ATTACH;FMTTYPE=image/jpeg:https://peelcompton.org/wp-content/uploads/2026/03/653712733_122115626421221138_1528066398022819884_n.jpg
END:VEVENT
BEGIN:VEVENT
DTSTART;TZID=America/Chicago:20260425T080000
DTEND;TZID=America/Chicago:20260425T110000
DTSTAMP:20260423T012737
CREATED:20260325T205839Z
LAST-MODIFIED:20260325T205839Z
UID:10003025-1777104000-1777114800@peelcompton.org
SUMMARY:2 Day - Drop the Hammer Progression for Intermediate Riders
DESCRIPTION:Are you ready to Drop the Hammer?\nIt’s one of Bentonville’s must-hit features — and if you’re tired of just staring it down\, this 2-day event is built for you. 2 days\, 6 hours\, one goal…check that box! \nWhat to Expect:\nDay 1 – 8AM – 11AM We’ll meet at Slaughter Pen and use both The Ride Series Ground School and the Purpose-Built Skills Park drops to dial in body position\, timing\, and technique — working progressively bigger throughout the session. \nDay 2 – 8AM – 11AM We’ll start back at Slaughter Pen to sharpen up\, then pedal over to Drop the Hammer to put it all together. After sending it\, we’ll work on linking multiple drops with confidence and flow. \nYou’ll leave with: \n\nSolid drop technique\nThe mindset to tackle intimidating features\nThe skills to keep progressing on your MTB journey\n\nIs this for you? Well\, only you can decide that…but we’re gonna give you some guidelines 😉 \n\nYou’re consistently hitting the largest intermediate drop at the Skills Park\nYou’re comfortable with the drops on Huntley Air Raid and Mad Hatter\nYou’re ready to lock in both mentally and physically to check this one off!\n\n*This session requires full enrollment in order to proceed. \n  \nRegister
URL:https://peelcompton.org/event/2-day-drop-the-hammer-progression-for-intermediate-riders/2026-04-25/
LOCATION:Coler Mountain Bike Preserve\, 2500 NW Grove Lane\, Bentonville\, AR\, United States
CATEGORIES:Coler Mountain Bike Preserve
ATTACH;FMTTYPE=image/png:https://peelcompton.org/wp-content/uploads/2025/09/AmiliaWebsite-Photos-1020-x-680-px-2025-09-25T102344.893.png
END:VEVENT
BEGIN:VEVENT
DTSTART;TZID=America/Chicago:20260426T080000
DTEND;TZID=America/Chicago:20260426T110000
DTSTAMP:20260423T012737
CREATED:20260325T205839Z
LAST-MODIFIED:20260325T205839Z
UID:10003026-1777190400-1777201200@peelcompton.org
SUMMARY:2 Day - Drop the Hammer Progression for Intermediate Riders
DESCRIPTION:Are you ready to Drop the Hammer?\nIt’s one of Bentonville’s must-hit features — and if you’re tired of just staring it down\, this 2-day event is built for you. 2 days\, 6 hours\, one goal…check that box! \nWhat to Expect:\nDay 1 – 8AM – 11AM We’ll meet at Slaughter Pen and use both The Ride Series Ground School and the Purpose-Built Skills Park drops to dial in body position\, timing\, and technique — working progressively bigger throughout the session. \nDay 2 – 8AM – 11AM We’ll start back at Slaughter Pen to sharpen up\, then pedal over to Drop the Hammer to put it all together. After sending it\, we’ll work on linking multiple drops with confidence and flow. \nYou’ll leave with: \n\nSolid drop technique\nThe mindset to tackle intimidating features\nThe skills to keep progressing on your MTB journey\n\nIs this for you? Well\, only you can decide that…but we’re gonna give you some guidelines 😉 \n\nYou’re consistently hitting the largest intermediate drop at the Skills Park\nYou’re comfortable with the drops on Huntley Air Raid and Mad Hatter\nYou’re ready to lock in both mentally and physically to check this one off!\n\n*This session requires full enrollment in order to proceed. \n  \nRegister
URL:https://peelcompton.org/event/2-day-drop-the-hammer-progression-for-intermediate-riders/2026-04-26/
LOCATION:Coler Mountain Bike Preserve\, 2500 NW Grove Lane\, Bentonville\, AR\, United States
CATEGORIES:Coler Mountain Bike Preserve
ATTACH;FMTTYPE=image/png:https://peelcompton.org/wp-content/uploads/2025/09/AmiliaWebsite-Photos-1020-x-680-px-2025-09-25T102344.893.png
END:VEVENT
BEGIN:VEVENT
DTSTART;TZID=America/Chicago:20260428T173000
DTEND;TZID=America/Chicago:20260428T193000
DTSTAMP:20260423T012737
CREATED:20260312T155057Z
LAST-MODIFIED:20260421T182447Z
UID:10002712-1777397400-1777404600@peelcompton.org
SUMMARY:Tour de Coler Weekly Group Ride
DESCRIPTION:Tour de Coler Weekly Group Ride \nJoin us every Tuesday for Tour de Coler\, our free weekly group mountain bike ride at Coler Mountain Bike Preserve. Riders of all experience levels are welcome. We break into groups based on ability and riding style\, so you can find the right pace and terrain for you. \nMeet at The Grove Parking Lot and spend the evening exploring the trails with a great community of riders. No registration required. Just show up and ride. \nScheduleEvery TuesdayMid-March through October: 5:30–7:30 PMNovember through Mid-March: 4:00–6:00 PM \nLocationThe Grove Parking Lot2500 NW Grove Lane (off NW 3rd St) \nCompletely free. No registration necessary. \n 
URL:https://peelcompton.org/event/tour-de-coler-weekly-group-ride-24-3/2026-04-28/
LOCATION:Coler Mountain Bike Preserve\, 2500 NW Grove Lane\, Bentonville\, AR\, United States
CATEGORIES:Coler Mountain Bike Preserve
ATTACH;FMTTYPE=image/png:https://peelcompton.org/wp-content/uploads/2025/07/Tour-de-Coler-krJKHG.png
END:VEVENT
BEGIN:VEVENT
DTSTART;TZID=America/Chicago:20260429T100000
DTEND;TZID=America/Chicago:20260429T150000
DTSTAMP:20260423T012738
CREATED:20260114T204752Z
LAST-MODIFIED:20260114T204841Z
UID:10002078-1777456800-1777474800@peelcompton.org
SUMMARY:ThinkWell Outdoors: Nature Explorers
DESCRIPTION:ThinkWell Outdoors programs are nature hybrid schools that seek to connect children and their families back with nature\, themselves\, and each other through inquiry and play-based emergent education. It is an (almost) all-weather program that provides an opportunity for students to play\, explore\, and learn together in an outdoor environment. They will wonder and wander\, get curiously creative\, build connection through community\, and deepen into respectful reciprocity with themselves\, each other\, and the land.  \nFor our Nature Explorers Program (ages 5-10): Each week we’ll explore natural science\, geography\, civics\, and history through play\, emergent learning\, music\, movement\, STEAM activities\, and wandering in nature together. \nRegister
URL:https://peelcompton.org/event/thinkwell-outdoors-nature-explorers/2026-04-29/
LOCATION:Coler Mountain Bike Preserve\, 2500 NW Grove Lane\, Bentonville\, AR\, United States
CATEGORIES:Coler Mountain Bike Preserve
ATTACH;FMTTYPE=image/png:https://peelcompton.org/wp-content/uploads/2026/01/AmiliaWebsite-Photos-1020-x-680-px-2026-01-14T144724.386.png
END:VEVENT
BEGIN:VEVENT
DTSTART;TZID=America/Chicago:20260429T173000
DTEND;TZID=America/Chicago:20260429T193000
DTSTAMP:20260423T012738
CREATED:20251003T155205Z
LAST-MODIFIED:20260421T182217Z
UID:10002276-1777483800-1777491000@peelcompton.org
SUMMARY:Mountain Biking - Intro to Drops
DESCRIPTION:Ready to land those drops? Coler’s Intro to Drops Class is the perfect place for you to expand your skill set. Coler’s PMBIA certified instructors will walk you through all aspects of navigating drops- including body position\, bike position\, and landing. This class will help provide a solid foundation for you to take your skills to the next level! \nNo refunds will be issued for this purchase unless Peel Compton Foundation cancels the program due to low participation or weather. \n  \nSign Up Now \nThanks to our sponsor:
URL:https://peelcompton.org/event/mountain-biking-intro-to-drops-7/2026-04-29/
LOCATION:Coler Mountain Bike Preserve\, 2500 NW Grove Lane\, Bentonville\, AR\, United States
CATEGORIES:Coler Mountain Bike Preserve
ATTACH;FMTTYPE=image/png:https://peelcompton.org/wp-content/uploads/2025/07/Mountain-Biking-Intro-to-Drops-qro6pz.png
ORGANIZER;CN="Peel Compton Foundation":MAILTO:info@peelcompton.org
END:VEVENT
BEGIN:VEVENT
DTSTART;TZID=America/Chicago:20260430T100000
DTEND;TZID=America/Chicago:20260430T150000
DTSTAMP:20260423T012738
CREATED:20260114T204946Z
LAST-MODIFIED:20260114T204946Z
UID:10002152-1777543200-1777561200@peelcompton.org
SUMMARY:ThinkWell Outdoors: Nature Explorers
DESCRIPTION:ThinkWell Outdoors programs are nature hybrid schools that seek to connect children and their families back with nature\, themselves\, and each other through inquiry and play-based emergent education. It is an (almost) all-weather program that provides an opportunity for students to play\, explore\, and learn together in an outdoor environment. They will wonder and wander\, get curiously creative\, build connection through community\, and deepen into respectful reciprocity with themselves\, each other\, and the land.  \nFor our Nature Explorers Program (ages 5-10): Each week we’ll explore natural science\, geography\, civics\, and history through play\, emergent learning\, music\, movement\, STEAM activities\, and wandering in nature together. \nRegister
URL:https://peelcompton.org/event/thinkwell-outdoors-nature-explorers-2/2026-04-30/
LOCATION:Coler Mountain Bike Preserve\, 2500 NW Grove Lane\, Bentonville\, AR\, United States
CATEGORIES:Coler Mountain Bike Preserve
ATTACH;FMTTYPE=image/png:https://peelcompton.org/wp-content/uploads/2026/01/AmiliaWebsite-Photos-1020-x-680-px-2026-01-14T144724.386.png
END:VEVENT
BEGIN:VEVENT
DTSTART;TZID=America/Chicago:20260430T100000
DTEND;TZID=America/Chicago:20260430T150000
DTSTAMP:20260423T012738
CREATED:20260114T205056Z
LAST-MODIFIED:20260114T205056Z
UID:10002163-1777543200-1777561200@peelcompton.org
SUMMARY:ThinkWell Outdoors: Los Exploradores
DESCRIPTION:ThinkWell Outdoors programs are nature hybrid schools that seek to connect children and their families back with nature\, themselves\, and each other through inquiry and play-based emergent education. It is an (almost) all-weather program that provides an opportunity for students to play\, explore\, and learn together in an outdoor environment. They will wonder and wander\, get curiously creative\, build connection through community\, and deepen into respectful reciprocity with themselves\, each other\, and the land.  \nFor our Los Exploradores Program (ages 4-6): This is our pilot Spanish Immersion program. Each week we will be playing and exploring in nature together. There will be free play\, games\, music\, movement\, and crafting.  \nRegister
URL:https://peelcompton.org/event/thinkwell-outdoors-los-exploradores/2026-04-30/
LOCATION:Coler Mountain Bike Preserve\, 2500 NW Grove Lane\, Bentonville\, AR\, United States
CATEGORIES:Coler Mountain Bike Preserve
ATTACH;FMTTYPE=image/png:https://peelcompton.org/wp-content/uploads/2026/01/AmiliaWebsite-Photos-1020-x-680-px-2026-01-14T144724.386.png
END:VEVENT
BEGIN:VEVENT
DTSTART;TZID=America/Chicago:20260430T163000
DTEND;TZID=America/Chicago:20260430T193000
DTSTAMP:20260423T012738
CREATED:20260320T140615Z
LAST-MODIFIED:20260320T140640Z
UID:10002974-1777566600-1777577400@peelcompton.org
SUMMARY:Oz Trails Town Series Short Track
DESCRIPTION:Join Pro Bike Center for the Oz Trails Town Series Short Track \nWater Tower at Coler Mountain Bike Preserve \nRegister
URL:https://peelcompton.org/event/oz-trails-town-series-short-track/2026-04-30/
LOCATION:Water Tower at Coler Mountain Bike Preserve\, 9355 NW 12th Dr\, Bentonville\, AR\, 72712\, United States
CATEGORIES:Coler Mountain Bike Preserve
ATTACH;FMTTYPE=image/jpeg:https://peelcompton.org/wp-content/uploads/2026/03/653712733_122115626421221138_1528066398022819884_n.jpg
END:VEVENT
END:VCALENDAR