BEGIN:VCALENDAR
VERSION:2.0
PRODID:-//Peel Compton Foundation - ECPv6.15.20//NONSGML v1.0//EN
CALSCALE:GREGORIAN
METHOD:PUBLISH
X-ORIGINAL-URL:https://peelcompton.org
X-WR-CALDESC:Events for Peel Compton Foundation
REFRESH-INTERVAL;VALUE=DURATION:PT1H
X-Robots-Tag:noindex
X-PUBLISHED-TTL:PT1H
BEGIN:VTIMEZONE
TZID:America/Chicago
BEGIN:DAYLIGHT
TZOFFSETFROM:-0600
TZOFFSETTO:-0500
TZNAME:CDT
DTSTART:20250309T080000
END:DAYLIGHT
BEGIN:STANDARD
TZOFFSETFROM:-0500
TZOFFSETTO:-0600
TZNAME:CST
DTSTART:20251102T070000
END:STANDARD
BEGIN:DAYLIGHT
TZOFFSETFROM:-0600
TZOFFSETTO:-0500
TZNAME:CDT
DTSTART:20260308T080000
END:DAYLIGHT
BEGIN:STANDARD
TZOFFSETFROM:-0500
TZOFFSETTO:-0600
TZNAME:CST
DTSTART:20261101T070000
END:STANDARD
BEGIN:DAYLIGHT
TZOFFSETFROM:-0600
TZOFFSETTO:-0500
TZNAME:CDT
DTSTART:20270314T080000
END:DAYLIGHT
BEGIN:STANDARD
TZOFFSETFROM:-0500
TZOFFSETTO:-0600
TZNAME:CST
DTSTART:20271107T070000
END:STANDARD
END:VTIMEZONE
BEGIN:VEVENT
DTSTART;TZID=America/Chicago:20260429T100000
DTEND;TZID=America/Chicago:20260429T150000
DTSTAMP:20260424T015456
CREATED:20260114T204752Z
LAST-MODIFIED:20260114T204841Z
UID:10002078-1777456800-1777474800@peelcompton.org
SUMMARY:ThinkWell Outdoors: Nature Explorers
DESCRIPTION:ThinkWell Outdoors programs are nature hybrid schools that seek to connect children and their families back with nature\, themselves\, and each other through inquiry and play-based emergent education. It is an (almost) all-weather program that provides an opportunity for students to play\, explore\, and learn together in an outdoor environment. They will wonder and wander\, get curiously creative\, build connection through community\, and deepen into respectful reciprocity with themselves\, each other\, and the land.  \nFor our Nature Explorers Program (ages 5-10): Each week we’ll explore natural science\, geography\, civics\, and history through play\, emergent learning\, music\, movement\, STEAM activities\, and wandering in nature together. \nRegister
URL:https://peelcompton.org/event/thinkwell-outdoors-nature-explorers/2026-04-29/
LOCATION:Coler Mountain Bike Preserve\, 2500 NW Grove Lane\, Bentonville\, AR\, United States
CATEGORIES:Coler Mountain Bike Preserve
ATTACH;FMTTYPE=image/png:https://peelcompton.org/wp-content/uploads/2026/01/AmiliaWebsite-Photos-1020-x-680-px-2026-01-14T144724.386.png
END:VEVENT
BEGIN:VEVENT
DTSTART;TZID=America/Chicago:20260429T173000
DTEND;TZID=America/Chicago:20260429T193000
DTSTAMP:20260424T015456
CREATED:20251003T155205Z
LAST-MODIFIED:20260421T182217Z
UID:10002276-1777483800-1777491000@peelcompton.org
SUMMARY:Mountain Biking - Intro to Drops
DESCRIPTION:Ready to land those drops? Coler’s Intro to Drops Class is the perfect place for you to expand your skill set. Coler’s PMBIA certified instructors will walk you through all aspects of navigating drops- including body position\, bike position\, and landing. This class will help provide a solid foundation for you to take your skills to the next level! \nNo refunds will be issued for this purchase unless Peel Compton Foundation cancels the program due to low participation or weather. \n  \nSign Up Now \nThanks to our sponsor:
URL:https://peelcompton.org/event/mountain-biking-intro-to-drops-7/2026-04-29/
LOCATION:Coler Mountain Bike Preserve\, 2500 NW Grove Lane\, Bentonville\, AR\, United States
CATEGORIES:Coler Mountain Bike Preserve
ATTACH;FMTTYPE=image/png:https://peelcompton.org/wp-content/uploads/2025/07/Mountain-Biking-Intro-to-Drops-qro6pz.png
ORGANIZER;CN="Peel Compton Foundation":MAILTO:info@peelcompton.org
END:VEVENT
END:VCALENDAR