BEGIN:VCALENDAR
VERSION:2.0
PRODID:-//Peel Compton Foundation - ECPv6.15.20//NONSGML v1.0//EN
CALSCALE:GREGORIAN
METHOD:PUBLISH
X-ORIGINAL-URL:https://peelcompton.org
X-WR-CALDESC:Events for Peel Compton Foundation
REFRESH-INTERVAL;VALUE=DURATION:PT1H
X-Robots-Tag:noindex
X-PUBLISHED-TTL:PT1H
BEGIN:VTIMEZONE
TZID:America/Chicago
BEGIN:DAYLIGHT
TZOFFSETFROM:-0600
TZOFFSETTO:-0500
TZNAME:CDT
DTSTART:20250309T080000
END:DAYLIGHT
BEGIN:STANDARD
TZOFFSETFROM:-0500
TZOFFSETTO:-0600
TZNAME:CST
DTSTART:20251102T070000
END:STANDARD
BEGIN:DAYLIGHT
TZOFFSETFROM:-0600
TZOFFSETTO:-0500
TZNAME:CDT
DTSTART:20260308T080000
END:DAYLIGHT
BEGIN:STANDARD
TZOFFSETFROM:-0500
TZOFFSETTO:-0600
TZNAME:CST
DTSTART:20261101T070000
END:STANDARD
BEGIN:DAYLIGHT
TZOFFSETFROM:-0600
TZOFFSETTO:-0500
TZNAME:CDT
DTSTART:20270314T080000
END:DAYLIGHT
BEGIN:STANDARD
TZOFFSETFROM:-0500
TZOFFSETTO:-0600
TZNAME:CST
DTSTART:20271107T070000
END:STANDARD
END:VTIMEZONE
BEGIN:VEVENT
DTSTART;TZID=America/Chicago:20260502T080000
DTEND;TZID=America/Chicago:20260502T100000
DTSTAMP:20260423T030358
CREATED:20251211T150659Z
LAST-MODIFIED:20260421T182103Z
UID:10001968-1777708800-1777716000@peelcompton.org
SUMMARY:Level 1 Mountain Biking Basics
DESCRIPTION:Learn all the essentials to become a better rider! We cover bike safety checks\, gear\, the three essentials to mountain biking\, riding positions\, mounting/dismounting\, braking techniques\, shifting\, and trail etiquette. Coler’s PMBIA certified instructors will guide you through the skills you need to gain confidence on your bike and build a solid base of mountain biking skills. This class was designed for those who are new to mountain biking or haven’t had formal instruction previously. \nNo refunds will be issued for this purchase unless Peel Compton Foundation cancels the program due to low participation or weather. \n  \nSign Up Now \n 
URL:https://peelcompton.org/event/level-1-mountain-biking-basics-9/2026-05-02/
LOCATION:Coler Mountain Bike Preserve\, 2500 NW Grove Lane\, Bentonville\, AR\, United States
CATEGORIES:Coler Mountain Bike Preserve
ATTACH;FMTTYPE=image/jpeg:https://peelcompton.org/wp-content/uploads/2025/12/DSC_7530-scaled.jpg
ORGANIZER;CN="Peel Compton Foundation":MAILTO:info@peelcompton.org
END:VEVENT
BEGIN:VEVENT
DTSTART;TZID=America/Chicago:20260502T103000
DTEND;TZID=America/Chicago:20260502T123000
DTSTAMP:20260423T030358
CREATED:20251211T151817Z
LAST-MODIFIED:20260421T182820Z
UID:10002187-1777717800-1777725000@peelcompton.org
SUMMARY:Mountain Biking: Intro to Jumps
DESCRIPTION:Ready to land those jumps? Coler’s Intro to Jumps Class is the perfect place for you to expand your skill set. Coler’s PMBIA certified instructors will walk you through all aspects of navigating jumps- including body position\, bike position\, and landing. This class will help provide a solid foundation for you to take your skills to the next level! \nNo refunds will be issued for this purchase unless Peel Compton Foundation cancels the program due to low participation or weather. \n  \nSign Up Now \nThanks to our sponsor:
URL:https://peelcompton.org/event/mountain-biking-intro-to-jumps-6/2026-05-02/
LOCATION:Coler Mountain Bike Preserve\, 2500 NW Grove Lane\, Bentonville\, AR\, United States
CATEGORIES:Coler Mountain Bike Preserve
ATTACH;FMTTYPE=image/jpeg:https://peelcompton.org/wp-content/uploads/2025/12/DSC_0332-Enhanced-NR-scaled.jpg
END:VEVENT
BEGIN:VEVENT
DTSTART;TZID=America/Chicago:20260506T100000
DTEND;TZID=America/Chicago:20260506T150000
DTSTAMP:20260423T030358
CREATED:20260114T204752Z
LAST-MODIFIED:20260114T204841Z
UID:10002079-1778061600-1778079600@peelcompton.org
SUMMARY:ThinkWell Outdoors: Nature Explorers
DESCRIPTION:ThinkWell Outdoors programs are nature hybrid schools that seek to connect children and their families back with nature\, themselves\, and each other through inquiry and play-based emergent education. It is an (almost) all-weather program that provides an opportunity for students to play\, explore\, and learn together in an outdoor environment. They will wonder and wander\, get curiously creative\, build connection through community\, and deepen into respectful reciprocity with themselves\, each other\, and the land.  \nFor our Nature Explorers Program (ages 5-10): Each week we’ll explore natural science\, geography\, civics\, and history through play\, emergent learning\, music\, movement\, STEAM activities\, and wandering in nature together. \nRegister
URL:https://peelcompton.org/event/thinkwell-outdoors-nature-explorers/2026-05-06/
LOCATION:Coler Mountain Bike Preserve\, 2500 NW Grove Lane\, Bentonville\, AR\, United States
CATEGORIES:Coler Mountain Bike Preserve
ATTACH;FMTTYPE=image/png:https://peelcompton.org/wp-content/uploads/2026/01/AmiliaWebsite-Photos-1020-x-680-px-2026-01-14T144724.386.png
END:VEVENT
BEGIN:VEVENT
DTSTART;TZID=America/Chicago:20260507T100000
DTEND;TZID=America/Chicago:20260507T150000
DTSTAMP:20260423T030358
CREATED:20260114T204946Z
LAST-MODIFIED:20260114T204946Z
UID:10002153-1778148000-1778166000@peelcompton.org
SUMMARY:ThinkWell Outdoors: Nature Explorers
DESCRIPTION:ThinkWell Outdoors programs are nature hybrid schools that seek to connect children and their families back with nature\, themselves\, and each other through inquiry and play-based emergent education. It is an (almost) all-weather program that provides an opportunity for students to play\, explore\, and learn together in an outdoor environment. They will wonder and wander\, get curiously creative\, build connection through community\, and deepen into respectful reciprocity with themselves\, each other\, and the land.  \nFor our Nature Explorers Program (ages 5-10): Each week we’ll explore natural science\, geography\, civics\, and history through play\, emergent learning\, music\, movement\, STEAM activities\, and wandering in nature together. \nRegister
URL:https://peelcompton.org/event/thinkwell-outdoors-nature-explorers-2/2026-05-07/
LOCATION:Coler Mountain Bike Preserve\, 2500 NW Grove Lane\, Bentonville\, AR\, United States
CATEGORIES:Coler Mountain Bike Preserve
ATTACH;FMTTYPE=image/png:https://peelcompton.org/wp-content/uploads/2026/01/AmiliaWebsite-Photos-1020-x-680-px-2026-01-14T144724.386.png
END:VEVENT
BEGIN:VEVENT
DTSTART;TZID=America/Chicago:20260507T100000
DTEND;TZID=America/Chicago:20260507T150000
DTSTAMP:20260423T030358
CREATED:20260114T205056Z
LAST-MODIFIED:20260114T205056Z
UID:10002164-1778148000-1778166000@peelcompton.org
SUMMARY:ThinkWell Outdoors: Los Exploradores
DESCRIPTION:ThinkWell Outdoors programs are nature hybrid schools that seek to connect children and their families back with nature\, themselves\, and each other through inquiry and play-based emergent education. It is an (almost) all-weather program that provides an opportunity for students to play\, explore\, and learn together in an outdoor environment. They will wonder and wander\, get curiously creative\, build connection through community\, and deepen into respectful reciprocity with themselves\, each other\, and the land.  \nFor our Los Exploradores Program (ages 4-6): This is our pilot Spanish Immersion program. Each week we will be playing and exploring in nature together. There will be free play\, games\, music\, movement\, and crafting.  \nRegister
URL:https://peelcompton.org/event/thinkwell-outdoors-los-exploradores/2026-05-07/
LOCATION:Coler Mountain Bike Preserve\, 2500 NW Grove Lane\, Bentonville\, AR\, United States
CATEGORIES:Coler Mountain Bike Preserve
ATTACH;FMTTYPE=image/png:https://peelcompton.org/wp-content/uploads/2026/01/AmiliaWebsite-Photos-1020-x-680-px-2026-01-14T144724.386.png
END:VEVENT
BEGIN:VEVENT
DTSTART;TZID=America/Chicago:20260520T060000
DTEND;TZID=America/Chicago:20260520T073000
DTSTAMP:20260423T030358
CREATED:20260401T214002Z
LAST-MODIFIED:20260401T214124Z
UID:10003035-1779256800-1779262200@peelcompton.org
SUMMARY:Paradise Found 5k 8-Week Training Program
DESCRIPTION:Weekly Group Runs • 60–90 Minutes • All Levels Welcome • $125 \nThis program is designed to help you build confidence\, endurance\, and trail skills so you can successfully complete the Paradise Found 5K trail run. We’ll meet once per week for 8 weeks\, focusing on time on foot\, trail-specific skills\, and having fun outdoors. We’ll meet every Wednesday morning from 6 AM to 7:30 AM from May 20 to July 8.  \nThe Paradise Found 5k is on July 11! \nCost of training program includes race registration! \nRegister
URL:https://peelcompton.org/event/paradise-found-5k-8-week-training-program/2026-05-20/
LOCATION:Coler Mountain Bike Preserve\, 2500 NW Grove Lane\, Bentonville\, AR\, United States
CATEGORIES:Coler Mountain Bike Preserve
ATTACH;FMTTYPE=image/png:https://peelcompton.org/wp-content/uploads/2026/04/AmiliaWebsite-Photos-1020-x-680-px-2026-04-01T164039.081.png
ORGANIZER;CN="Peel Compton Foundation":MAILTO:info@peelcompton.org
END:VEVENT
BEGIN:VEVENT
DTSTART;TZID=America/Chicago:20260527T060000
DTEND;TZID=America/Chicago:20260527T073000
DTSTAMP:20260423T030358
CREATED:20260401T214002Z
LAST-MODIFIED:20260401T214124Z
UID:10003036-1779861600-1779867000@peelcompton.org
SUMMARY:Paradise Found 5k 8-Week Training Program
DESCRIPTION:Weekly Group Runs • 60–90 Minutes • All Levels Welcome • $125 \nThis program is designed to help you build confidence\, endurance\, and trail skills so you can successfully complete the Paradise Found 5K trail run. We’ll meet once per week for 8 weeks\, focusing on time on foot\, trail-specific skills\, and having fun outdoors. We’ll meet every Wednesday morning from 6 AM to 7:30 AM from May 20 to July 8.  \nThe Paradise Found 5k is on July 11! \nCost of training program includes race registration! \nRegister
URL:https://peelcompton.org/event/paradise-found-5k-8-week-training-program/2026-05-27/
LOCATION:Coler Mountain Bike Preserve\, 2500 NW Grove Lane\, Bentonville\, AR\, United States
CATEGORIES:Coler Mountain Bike Preserve
ATTACH;FMTTYPE=image/png:https://peelcompton.org/wp-content/uploads/2026/04/AmiliaWebsite-Photos-1020-x-680-px-2026-04-01T164039.081.png
ORGANIZER;CN="Peel Compton Foundation":MAILTO:info@peelcompton.org
END:VEVENT
END:VCALENDAR