BEGIN:VCALENDAR
VERSION:2.0
PRODID:-//Peel Compton Foundation - ECPv6.15.20//NONSGML v1.0//EN
CALSCALE:GREGORIAN
METHOD:PUBLISH
X-WR-CALNAME:Peel Compton Foundation
X-ORIGINAL-URL:https://peelcompton.org
X-WR-CALDESC:Events for Peel Compton Foundation
REFRESH-INTERVAL;VALUE=DURATION:PT1H
X-Robots-Tag:noindex
X-PUBLISHED-TTL:PT1H
BEGIN:VTIMEZONE
TZID:America/Chicago
BEGIN:DAYLIGHT
TZOFFSETFROM:-0600
TZOFFSETTO:-0500
TZNAME:CDT
DTSTART:20250309T080000
END:DAYLIGHT
BEGIN:STANDARD
TZOFFSETFROM:-0500
TZOFFSETTO:-0600
TZNAME:CST
DTSTART:20251102T070000
END:STANDARD
BEGIN:DAYLIGHT
TZOFFSETFROM:-0600
TZOFFSETTO:-0500
TZNAME:CDT
DTSTART:20260308T080000
END:DAYLIGHT
BEGIN:STANDARD
TZOFFSETFROM:-0500
TZOFFSETTO:-0600
TZNAME:CST
DTSTART:20261101T070000
END:STANDARD
BEGIN:DAYLIGHT
TZOFFSETFROM:-0600
TZOFFSETTO:-0500
TZNAME:CDT
DTSTART:20270314T080000
END:DAYLIGHT
BEGIN:STANDARD
TZOFFSETFROM:-0500
TZOFFSETTO:-0600
TZNAME:CST
DTSTART:20271107T070000
END:STANDARD
END:VTIMEZONE
BEGIN:VEVENT
DTSTART;TZID=America/Chicago:20260615T080000
DTEND;TZID=America/Chicago:20260619T143000
DTSTAMP:20260424T012917
CREATED:20251229T214152Z
LAST-MODIFIED:20251230T172105Z
UID:10001991-1781510400-1781879400@peelcompton.org
SUMMARY:Explore It All! Summer Camp
DESCRIPTION:Ages: 7-12\, $250/week\nJune 15th-19th\n8:00am-2:30pm \nDesigned for campers who want to explore all that the Peel Compton Foundation has to offer! This multi-site adventure will take place across Osage Park\, Peel Museum & Botanical Garden\, and Coler MTB Preserve. Campers will get the chance to immerse themselves in a variety of outdoor experiences\, from hands-on nature exploration to fun recreation and unique challenges\, while discovering the beauty and diversity of these special places. It’s the perfect opportunity for kids to broaden their outdoor skills\, deepen their appreciation for local natural spaces\, and create unforgettable summer memories! \nDaily activities can include: \n\nTrail adventures and a biking day at Coler (campers bring their own gear)\nYoga\, mindfulness\, and nature-based wellness\nNature art projects and creative exploration\nLeave No Trace skills and outdoor stewardship\nCreek and critter discoveries\nPlant\, pollinator\, and wildlife ID across all properties\nOutdoor skills like shelter building and teamwork challenges\n\nLunch is not provided\, so campers MUST bring their own lunch each day. We will offer a mid-morning snack\, but we still encourage campers to bring snacks that work best for their allergies and preferences. The camp fee includes all five mornings of programming and activities. \nIf you need any accommodations to attend this program or help to sign up\, please reach out to the Program staff to see how we can help you join our program. \nRegister
URL:https://peelcompton.org/event/explore-it-all-summer-camp/
LOCATION:AR
CATEGORIES:Coler Mountain Bike Preserve,Osage Park,Peel Museum & Botanical Garden
ATTACH;FMTTYPE=image/png:https://peelcompton.org/wp-content/uploads/2025/12/AmiliaWebsite-Photos-1020-x-680-px-2025-12-30T111928.968.png
ORGANIZER;CN="Peel Compton Foundation":MAILTO:info@peelcompton.org
END:VEVENT
BEGIN:VEVENT
DTSTART;TZID=America/Chicago:20260618T130000
DTEND;TZID=America/Chicago:20260618T140000
DTSTAMP:20260424T012917
CREATED:20251211T152110Z
LAST-MODIFIED:20251211T152111Z
UID:10001356-1781787600-1781791200@peelcompton.org
SUMMARY:Homeschool Archery Club
DESCRIPTION:Join our Homeschool Archery Club\, a welcoming and relaxed space for homeschool families to connect and enjoy the sport of archery together! This club is open to all experience levels—from complete beginners to seasoned archers. Whether you’re just curious about trying something new or looking to improve your aim\, this is the perfect opportunity to have fun and build skills in a safe\, supportive environment. \nWe provide: \n\nBasic instruction and guidance\nAll necessary archery equipment\nA safe shooting environment\nCertified staff on hand for supervision and support\n\nThis is a casual\, community-centered meetup designed to encourage connection\, skill-building\, and plenty of target practice for both kids and adults. Come shoot\, socialize\, and be part of a growing homeschool archery community! \n$10 fee for non-members\, free for members! \nAll minors must be accompanied by an adult\, and well-behaved children under 8 must remain in the spectating area with an adult present at all times. \nRegister
URL:https://peelcompton.org/event/homeschool-archery-club-2/2026-06-18/
LOCATION:The Quiver Archery Range\, 1701 SW F St\, Bentonville\, AR\, United States
CATEGORIES:The Quiver Archery Range
ATTACH;FMTTYPE=image/jpeg:https://peelcompton.org/wp-content/uploads/2025/09/DSC_4449-scaled.jpg
ORGANIZER;CN="Peel Compton Foundation":MAILTO:info@peelcompton.org
END:VEVENT
BEGIN:VEVENT
DTSTART;TZID=America/Chicago:20260618T173000
DTEND;TZID=America/Chicago:20260618T190000
DTSTAMP:20260424T012917
CREATED:20260422T132711Z
LAST-MODIFIED:20260422T132711Z
UID:10003173-1781803800-1781809200@peelcompton.org
SUMMARY:June Summer Series: Atlatl Watermelon Hunt
DESCRIPTION:Step back in time and try the atlatl—a prehistoric spear-thrower used by early hunters before the invention of the bow! Learn how to launch darts with this ancient tool\, then take aim at a juicy target… yes\, real watermelons. \nFun\, hands-on\, and surprisingly satisfying—come throw like it’s 10\,000 BC! \nRegister\n 
URL:https://peelcompton.org/event/june-summer-series-atlatl-watermelon-hunt/
LOCATION:The Quiver Archery Range\, 1701 SW F St\, Bentonville\, AR\, United States
CATEGORIES:The Quiver Archery Range
ATTACH;FMTTYPE=image/png:https://peelcompton.org/wp-content/uploads/2026/04/AmiliaWebsite-Photos-1020-x-680-px-2026-04-22T082629.336.png
ORGANIZER;CN="Peel Compton Foundation":MAILTO:info@peelcompton.org
END:VEVENT
END:VCALENDAR