BEGIN:VCALENDAR
VERSION:2.0
PRODID:-//Peel Compton Foundation - ECPv6.15.20//NONSGML v1.0//EN
CALSCALE:GREGORIAN
METHOD:PUBLISH
X-WR-CALNAME:Peel Compton Foundation
X-ORIGINAL-URL:https://peelcompton.org
X-WR-CALDESC:Events for Peel Compton Foundation
REFRESH-INTERVAL;VALUE=DURATION:PT1H
X-Robots-Tag:noindex
X-PUBLISHED-TTL:PT1H
BEGIN:VTIMEZONE
TZID:America/Chicago
BEGIN:DAYLIGHT
TZOFFSETFROM:-0600
TZOFFSETTO:-0500
TZNAME:CDT
DTSTART:20250309T080000
END:DAYLIGHT
BEGIN:STANDARD
TZOFFSETFROM:-0500
TZOFFSETTO:-0600
TZNAME:CST
DTSTART:20251102T070000
END:STANDARD
BEGIN:DAYLIGHT
TZOFFSETFROM:-0600
TZOFFSETTO:-0500
TZNAME:CDT
DTSTART:20260308T080000
END:DAYLIGHT
BEGIN:STANDARD
TZOFFSETFROM:-0500
TZOFFSETTO:-0600
TZNAME:CST
DTSTART:20261101T070000
END:STANDARD
BEGIN:DAYLIGHT
TZOFFSETFROM:-0600
TZOFFSETTO:-0500
TZNAME:CDT
DTSTART:20270314T080000
END:DAYLIGHT
BEGIN:STANDARD
TZOFFSETFROM:-0500
TZOFFSETTO:-0600
TZNAME:CST
DTSTART:20271107T070000
END:STANDARD
END:VTIMEZONE
BEGIN:VEVENT
DTSTART;TZID=America/Chicago:20260601T080000
DTEND;TZID=America/Chicago:20260605T120000
DTSTAMP:20260421T001324
CREATED:20250701T182748Z
LAST-MODIFIED:20251229T211919Z
UID:10000012-1780300800-1780660800@peelcompton.org
SUMMARY:Explore Osage Summer Camp
DESCRIPTION:Ages: 7-12\, $190/week\nJune 1st-5th\n8:00am-12:00pm \nLet your kids have the best week ever at Osage Park this summer! We will embark on a journey through the wild wetlands discovering this unique natural space right at our fingertips! \nWe will also engage in recreation activities unique to Osage Park such as archery at The Quiver Archery Range that will take place each day along with other activities. \nDaily activities will include: \n\nWetland and prairie conservation\nNature Art\nFishing\nPickleball games\nWater games/activities\nArchery for all levels!\n\nBreakfast and lunch are not provided. We will offer a mid-morning snack\, but we encourage campers to bring their own due to allergies or personal preferences. The camp fee includes all five mornings of programming and activities. \nIf you need any accommodations to attend this program or help to sign up\, please reach out to the Program staff to see how we can help you join our program. \n  \nRegister
URL:https://peelcompton.org/event/explore-osage-summer-camp/
LOCATION:Osage Park\, 700 SW 16th St\, Bentonville\, AR\, United States
CATEGORIES:Osage Park
ATTACH;FMTTYPE=image/png:https://peelcompton.org/wp-content/uploads/2025/12/272.png
ORGANIZER;CN="Peel Compton Foundation":MAILTO:info@peelcompton.org
END:VEVENT
BEGIN:VEVENT
DTSTART;TZID=America/Chicago:20260601T173000
DTEND;TZID=America/Chicago:20260601T193000
DTSTAMP:20260421T001324
CREATED:20251204T153013Z
LAST-MODIFIED:20260213T204005Z
UID:10002057-1780335000-1780342200@peelcompton.org
SUMMARY:Mountain Biking: Intro to Cornering
DESCRIPTION:Coler’s Mountain Biking Intro to Cornering Class is the perfect place for you to expand your skill set. Coler’s PMBIA certified instructors will walk you through all aspects of cornering – including body position\, bike position\, and more. This class will help provide a solid foundation for you to take your skills to the next level! \nNo refunds will be issued for this purchase unless Peel Compton Foundation cancels the program due to low participation or weather. \n  \nSign Up Now
URL:https://peelcompton.org/event/mountain-biking-intro-to-cornering-6/2026-06-01/
LOCATION:Coler Mountain Bike Preserve\, 2500 NW Grove Lane\, Bentonville\, AR\, United States
CATEGORIES:Coler Mountain Bike Preserve
ATTACH;FMTTYPE=image/png:https://peelcompton.org/wp-content/uploads/2025/12/AmiliaWebsite-Photos-1020-x-680-px-2026-01-12T115018.000.png
ORGANIZER;CN="Peel Compton Foundation":MAILTO:info@peelcompton.org
END:VEVENT
BEGIN:VEVENT
DTSTART;TZID=America/Chicago:20260601T180000
DTEND;TZID=America/Chicago:20260601T190000
DTSTAMP:20260421T001324
CREATED:20260323T212241Z
LAST-MODIFIED:20260323T212241Z
UID:10002987-1780336800-1780340400@peelcompton.org
SUMMARY:Pickleball Lessons: Beginner
DESCRIPTION:Join coach Kip Lacey for pickleball lessons at Osage Park. Lessons will meet once a week (Monday evenings) for 8 weeks (May 4th-June 22nd) \nBeginner Clinics \nFor new players who have never played pickleball or have recently begun playing\, the clinics cover: \n\nGrips (Continental\, Eastern\, Semi-Western)\nRules and Scoring\nDinking (Purpose\, Techniques\, Strategy)\nTransitioning from Baseline to Non-Volley Zone\nBeginner Drills\n\n  \nSign Up Now
URL:https://peelcompton.org/event/pickleball-lessons-beginner-20/2026-06-01/
LOCATION:Osage Park\, 700 SW 16th St\, Bentonville\, AR\, United States
CATEGORIES:Osage Park
ATTACH;FMTTYPE=image/png:https://peelcompton.org/wp-content/uploads/2025/07/Beginner-Pickleball-Lessons-1-9TVjG6.png
ORGANIZER;CN="Peel Compton Foundation":MAILTO:info@peelcompton.org
END:VEVENT
BEGIN:VEVENT
DTSTART;TZID=America/Chicago:20260601T190000
DTEND;TZID=America/Chicago:20260601T200000
DTSTAMP:20260421T001324
CREATED:20260323T212346Z
LAST-MODIFIED:20260323T212346Z
UID:10003003-1780340400-1780344000@peelcompton.org
SUMMARY:Pickleball Lessons: Intermediate
DESCRIPTION:Join coach Kip Lacey at Osage Park for pickleball lessons at Osage Park. Lessons will meet once a week (Monday evenings) for 8 weeks (May 4th-June 22nd) \nIntermediate Lessons \nFor players who have been playing a bit and have a solid grasp on the basics and scoring. For players who want to take their abilities to the next level. 3.0-3.5 level \nTopics Covered:  \n1. Dinking (purpose\, techniques\, strategy\, shifting\, shadowing) \n2. Transitioning from baseline to non-volley zones (drops\, drives\, and location) \n3. Volleys (roll volleys\, punch volleys) \n4. Offensive shots \n5. Defensive shots \n6. Serving and returns \n7. Intermediate drills \n  \nSign Up Now
URL:https://peelcompton.org/event/pickleball-lessons-intermediate-11/2026-06-01/
LOCATION:Osage Park\, 700 SW 16th St\, Bentonville\, AR\, United States
CATEGORIES:Osage Park
ATTACH;FMTTYPE=image/png:https://peelcompton.org/wp-content/uploads/2025/07/Intermediate-Pickleball-Lessons-1-Ievdqg.png
END:VEVENT
BEGIN:VEVENT
DTSTART;TZID=America/Chicago:20260601T200000
DTEND;TZID=America/Chicago:20260601T210000
DTSTAMP:20260421T001324
CREATED:20260323T212506Z
LAST-MODIFIED:20260323T212506Z
UID:10003019-1780344000-1780347600@peelcompton.org
SUMMARY:Pickleball Lessons: Advanced
DESCRIPTION:Join coach Kip Lacey at Osage Park for pickleball lessons at Osage Park. Lessons will meet once a week (Monday evenings) for 8 weeks (May 4th-June 22nd) \nFor players who are 3.5 and above. Players who have played tournaments and are seeking to reach the upper levels. For players looking to refine their skills and develop the stretegy and mentality to achieve. \nTopics Covered: \n\nDinking (purpose\, techniques\, strategy\, shifting\, shadowing)\nAdvanced Transitioning from baseline to non-volley zone (drops\, drives\, and location)\nVolleys (roll volleys\, punch volleys\, reset volleys)\nAdvanced offensive shots\nDefensive shots\nServing and returns placement strategy\nAdvanced drills and games\n\n  \nSign Up Now
URL:https://peelcompton.org/event/pickleball-lessons-advanced-11/2026-06-01/
LOCATION:Osage Park\, 700 SW 16th St\, Bentonville\, AR\, United States
CATEGORIES:Osage Park
ATTACH;FMTTYPE=image/png:https://peelcompton.org/wp-content/uploads/2025/07/Advanced-Pickleball-Lessons-LG16KR.png
ORGANIZER;CN="Peel Compton Foundation":MAILTO:info@peelcompton.org
END:VEVENT
END:VCALENDAR