BEGIN:VCALENDAR
VERSION:2.0
PRODID:-//Peel Compton Foundation - ECPv6.15.20//NONSGML v1.0//EN
CALSCALE:GREGORIAN
METHOD:PUBLISH
X-ORIGINAL-URL:https://peelcompton.org
X-WR-CALDESC:Events for Peel Compton Foundation
REFRESH-INTERVAL;VALUE=DURATION:PT1H
X-Robots-Tag:noindex
X-PUBLISHED-TTL:PT1H
BEGIN:VTIMEZONE
TZID:America/Chicago
BEGIN:DAYLIGHT
TZOFFSETFROM:-0600
TZOFFSETTO:-0500
TZNAME:CDT
DTSTART:20250309T080000
END:DAYLIGHT
BEGIN:STANDARD
TZOFFSETFROM:-0500
TZOFFSETTO:-0600
TZNAME:CST
DTSTART:20251102T070000
END:STANDARD
BEGIN:DAYLIGHT
TZOFFSETFROM:-0600
TZOFFSETTO:-0500
TZNAME:CDT
DTSTART:20260308T080000
END:DAYLIGHT
BEGIN:STANDARD
TZOFFSETFROM:-0500
TZOFFSETTO:-0600
TZNAME:CST
DTSTART:20261101T070000
END:STANDARD
BEGIN:DAYLIGHT
TZOFFSETFROM:-0600
TZOFFSETTO:-0500
TZNAME:CDT
DTSTART:20270314T080000
END:DAYLIGHT
BEGIN:STANDARD
TZOFFSETFROM:-0500
TZOFFSETTO:-0600
TZNAME:CST
DTSTART:20271107T070000
END:STANDARD
END:VTIMEZONE
BEGIN:VEVENT
DTSTART;TZID=America/Chicago:20260530T080000
DTEND;TZID=America/Chicago:20260530T100000
DTSTAMP:20260419T235247
CREATED:20251211T150659Z
LAST-MODIFIED:20251223T161044Z
UID:10001970-1780128000-1780135200@peelcompton.org
SUMMARY:Level 1 Mountain Biking Basics
DESCRIPTION:Learn all the essentials to become a better rider! We cover bike safety checks\, gear\, the three essentials to mountain biking\, riding positions\, mounting/dismounting\, braking techniques\, shifting\, and trail etiquette. Coler’s PMBIA certified instructors will guide you through the skills you need to gain confidence on your bike and build a solid base of mountain biking skills. This class was designed for those who are new to mountain biking or haven’t had formal instruction previously. \nNo refunds will be issued for this purchase unless Peel Compton Foundation cancels the program due to low participation or weather. \n  \nSign Up Now \n 
URL:https://peelcompton.org/event/level-1-mountain-biking-basics-9/2026-05-30/
LOCATION:Coler Mountain Bike Preserve\, 2500 NW Grove Lane\, Bentonville\, AR\, United States
CATEGORIES:Coler Mountain Bike Preserve
ATTACH;FMTTYPE=image/jpeg:https://peelcompton.org/wp-content/uploads/2025/12/DSC_7530-scaled.jpg
ORGANIZER;CN="Peel Compton Foundation":MAILTO:info@peelcompton.org
END:VEVENT
BEGIN:VEVENT
DTSTART;TZID=America/Chicago:20260530T100000
DTEND;TZID=America/Chicago:20260530T120000
DTSTAMP:20260419T235247
CREATED:20250701T190428Z
LAST-MODIFIED:20260128T221546Z
UID:10002173-1780135200-1780142400@peelcompton.org
SUMMARY:USA Archery Pin Shoot
DESCRIPTION:On the last Saturday of each month\, Club Members have the chance to earn their USA Archery JOAD or Adult Achievement Pins\, provided they are members of both USA Archery & The Quiver. \nThis is a great opportunity for archers of all ages to track their progress and earn recognition for their skills and dedication! \nFor more information on the program visit: USA Archery Achievement Awards Program \nMandatory membership(s): \n\nThe Quiver Family Membership\nThe Quiver Individual Membership\n\n  \nRegister
URL:https://peelcompton.org/event/usa-archery-pin-shoots/2026-05-30/
LOCATION:The Quiver Archery Range\, 1701 SW F St\, Bentonville\, AR\, United States
CATEGORIES:The Quiver Archery Range
ATTACH;FMTTYPE=image/png:https://peelcompton.org/wp-content/uploads/2025/07/Pin-Shoots-qEzylT.png
END:VEVENT
BEGIN:VEVENT
DTSTART;TZID=America/Chicago:20260530T103000
DTEND;TZID=America/Chicago:20260530T123000
DTSTAMP:20260419T235247
CREATED:20251003T155205Z
LAST-MODIFIED:20260129T195344Z
UID:10002277-1780137000-1780144200@peelcompton.org
SUMMARY:Mountain Biking - Intro to Drops
DESCRIPTION:Ready to land those drops? Coler’s Intro to Drops Class is the perfect place for you to expand your skill set. Coler’s PMBIA certified instructors will walk you through all aspects of navigating drops- including body position\, bike position\, and landing. This class will help provide a solid foundation for you to take your skills to the next level! \nNo refunds will be issued for this purchase unless Peel Compton Foundation cancels the program due to low participation or weather. \n  \nSign Up Now \nThanks to our sponsor:
URL:https://peelcompton.org/event/mountain-biking-intro-to-drops-7/2026-05-30/
LOCATION:Coler Mountain Bike Preserve\, 2500 NW Grove Lane\, Bentonville\, AR\, United States
CATEGORIES:Coler Mountain Bike Preserve
ATTACH;FMTTYPE=image/png:https://peelcompton.org/wp-content/uploads/2025/07/Mountain-Biking-Intro-to-Drops-qro6pz.png
ORGANIZER;CN="Peel Compton Foundation":MAILTO:info@peelcompton.org
END:VEVENT
END:VCALENDAR