BEGIN:VCALENDAR
VERSION:2.0
PRODID:-//Peel Compton Foundation - ECPv6.15.20//NONSGML v1.0//EN
CALSCALE:GREGORIAN
METHOD:PUBLISH
X-ORIGINAL-URL:https://peelcompton.org
X-WR-CALDESC:Events for Peel Compton Foundation
REFRESH-INTERVAL;VALUE=DURATION:PT1H
X-Robots-Tag:noindex
X-PUBLISHED-TTL:PT1H
BEGIN:VTIMEZONE
TZID:America/Chicago
BEGIN:DAYLIGHT
TZOFFSETFROM:-0600
TZOFFSETTO:-0500
TZNAME:CDT
DTSTART:20250309T080000
END:DAYLIGHT
BEGIN:STANDARD
TZOFFSETFROM:-0500
TZOFFSETTO:-0600
TZNAME:CST
DTSTART:20251102T070000
END:STANDARD
BEGIN:DAYLIGHT
TZOFFSETFROM:-0600
TZOFFSETTO:-0500
TZNAME:CDT
DTSTART:20260308T080000
END:DAYLIGHT
BEGIN:STANDARD
TZOFFSETFROM:-0500
TZOFFSETTO:-0600
TZNAME:CST
DTSTART:20261101T070000
END:STANDARD
BEGIN:DAYLIGHT
TZOFFSETFROM:-0600
TZOFFSETTO:-0500
TZNAME:CDT
DTSTART:20270314T080000
END:DAYLIGHT
BEGIN:STANDARD
TZOFFSETFROM:-0500
TZOFFSETTO:-0600
TZNAME:CST
DTSTART:20271107T070000
END:STANDARD
END:VTIMEZONE
BEGIN:VEVENT
DTSTART;TZID=America/Chicago:20260523T100000
DTEND;TZID=America/Chicago:20260523T120000
DTSTAMP:20260419T140245
CREATED:20250701T192133Z
LAST-MODIFIED:20260323T212906Z
UID:10000439-1779530400-1779537600@peelcompton.org
SUMMARY:Virtual Tournament: Spring
DESCRIPTION:The USA Archery Virtual Tournament offers an exciting opportunity to experience a national-level competition while testing your skills against archers from across the country—all from the convenience of your local archery range. \nWho Can Compete?\nAny recreational or competitive archer who is a current member of USA Archery and The Quiver is eligible to participate. \n📎 See the link for age classes\, divisions\, distances\, and target faces. \nHow Do You Participate?\nOutdoor Virtual Tournament Procedures: \n\nArchers will shoot an official Virtual Tournament outdoor distance round consisting of 36 arrows\, shot as:\n\n6 ends of 6 arrows\n\n\nThree archers will double-score the round\, with a club leader present.\nTie-breakers are determined first by the number of 10s\, and if still tied\, by the number of X’s.\n\nAwards\n\nResults will be posted online after the conclusion of each quarter.\nCertificates will be awarded to 1st\, 2nd\, and 3rd place finishers in each division\, for both individual and team categories.\n\nMandatory membership(s): \n\nThe Quiver Family Membership\nThe Quiver Individual Membership\n\nRegister
URL:https://peelcompton.org/event/virtual-tournament-spring/
LOCATION:The Quiver Archery Range\, 1701 SW F St\, Bentonville\, AR\, United States
CATEGORIES:The Quiver Archery Range
ATTACH;FMTTYPE=image/png:https://peelcompton.org/wp-content/uploads/2025/07/Virtual-Tournament-tC4V73.png
END:VEVENT
BEGIN:VEVENT
DTSTART;TZID=America/Chicago:20260523T130000
DTEND;TZID=America/Chicago:20260523T140000
DTSTAMP:20260419T140245
CREATED:20250701T185959Z
LAST-MODIFIED:20260327T181729Z
UID:10002003-1779541200-1779544800@peelcompton.org
SUMMARY:Try Archery
DESCRIPTION:Want to try archery\, but don’t know where to start? Sign up for our Try Archery program and learn from our certified archery instructors! \nIn this program\, you’ll be introduced to shooting and range safety before taking aim and participating in archery games with balloons! Everything is provided\, just come ready to learn and have some fun! \nAdded bonus: If you enjoy this program and want to take the next step in your archer journey\, your registration fee can be applied to an annual membership at The Quiver. \nPrograms at The Quiver are led by Level 1+ USA Archery & Safesport Certified Staff \n  \n\n\n\n\n\n\n\nSign Up Now
URL:https://peelcompton.org/event/try-archery-42/2026-05-23/
LOCATION:The Quiver Archery Range\, 1701 SW F St\, Bentonville\, AR\, United States
CATEGORIES:The Quiver Archery Range
ATTACH;FMTTYPE=image/png:https://peelcompton.org/wp-content/uploads/2025/07/AmiliaWebsite-Photos-1020-x-680-px-2026-01-06T094347.259.png
END:VEVENT
END:VCALENDAR