BEGIN:VCALENDAR
VERSION:2.0
PRODID:-//Peel Compton Foundation - ECPv6.15.20//NONSGML v1.0//EN
CALSCALE:GREGORIAN
METHOD:PUBLISH
X-ORIGINAL-URL:https://peelcompton.org
X-WR-CALDESC:Events for Peel Compton Foundation
REFRESH-INTERVAL;VALUE=DURATION:PT1H
X-Robots-Tag:noindex
X-PUBLISHED-TTL:PT1H
BEGIN:VTIMEZONE
TZID:America/Chicago
BEGIN:DAYLIGHT
TZOFFSETFROM:-0600
TZOFFSETTO:-0500
TZNAME:CDT
DTSTART:20250309T080000
END:DAYLIGHT
BEGIN:STANDARD
TZOFFSETFROM:-0500
TZOFFSETTO:-0600
TZNAME:CST
DTSTART:20251102T070000
END:STANDARD
BEGIN:DAYLIGHT
TZOFFSETFROM:-0600
TZOFFSETTO:-0500
TZNAME:CDT
DTSTART:20260308T080000
END:DAYLIGHT
BEGIN:STANDARD
TZOFFSETFROM:-0500
TZOFFSETTO:-0600
TZNAME:CST
DTSTART:20261101T070000
END:STANDARD
BEGIN:DAYLIGHT
TZOFFSETFROM:-0600
TZOFFSETTO:-0500
TZNAME:CDT
DTSTART:20270314T080000
END:DAYLIGHT
BEGIN:STANDARD
TZOFFSETFROM:-0500
TZOFFSETTO:-0600
TZNAME:CST
DTSTART:20271107T070000
END:STANDARD
END:VTIMEZONE
BEGIN:VEVENT
DTSTART;TZID=America/Chicago:20260520T060000
DTEND;TZID=America/Chicago:20260520T073000
DTSTAMP:20260419T181441
CREATED:20260401T214002Z
LAST-MODIFIED:20260401T214124Z
UID:10003035-1779256800-1779262200@peelcompton.org
SUMMARY:Paradise Found 5k 8-Week Training Program
DESCRIPTION:Weekly Group Runs • 60–90 Minutes • All Levels Welcome • $125 \nThis program is designed to help you build confidence\, endurance\, and trail skills so you can successfully complete the Paradise Found 5K trail run. We’ll meet once per week for 8 weeks\, focusing on time on foot\, trail-specific skills\, and having fun outdoors. We’ll meet every Wednesday morning from 6 AM to 7:30 AM from May 20 to July 8.  \nThe Paradise Found 5k is on July 11! \nCost of training program includes race registration! \nRegister
URL:https://peelcompton.org/event/paradise-found-5k-8-week-training-program/2026-05-20/
LOCATION:Coler Mountain Bike Preserve\, 2500 NW Grove Lane\, Bentonville\, AR\, United States
CATEGORIES:Coler Mountain Bike Preserve
ATTACH;FMTTYPE=image/png:https://peelcompton.org/wp-content/uploads/2026/04/AmiliaWebsite-Photos-1020-x-680-px-2026-04-01T164039.081.png
ORGANIZER;CN="Peel Compton Foundation":MAILTO:info@peelcompton.org
END:VEVENT
END:VCALENDAR