BEGIN:VCALENDAR
VERSION:2.0
PRODID:-//Peel Compton Foundation - ECPv6.15.20//NONSGML v1.0//EN
CALSCALE:GREGORIAN
METHOD:PUBLISH
X-WR-CALNAME:Peel Compton Foundation
X-ORIGINAL-URL:https://peelcompton.org
X-WR-CALDESC:Events for Peel Compton Foundation
REFRESH-INTERVAL;VALUE=DURATION:PT1H
X-Robots-Tag:noindex
X-PUBLISHED-TTL:PT1H
BEGIN:VTIMEZONE
TZID:America/Chicago
BEGIN:DAYLIGHT
TZOFFSETFROM:-0600
TZOFFSETTO:-0500
TZNAME:CDT
DTSTART:20250309T080000
END:DAYLIGHT
BEGIN:STANDARD
TZOFFSETFROM:-0500
TZOFFSETTO:-0600
TZNAME:CST
DTSTART:20251102T070000
END:STANDARD
BEGIN:DAYLIGHT
TZOFFSETFROM:-0600
TZOFFSETTO:-0500
TZNAME:CDT
DTSTART:20260308T080000
END:DAYLIGHT
BEGIN:STANDARD
TZOFFSETFROM:-0500
TZOFFSETTO:-0600
TZNAME:CST
DTSTART:20261101T070000
END:STANDARD
BEGIN:DAYLIGHT
TZOFFSETFROM:-0600
TZOFFSETTO:-0500
TZNAME:CDT
DTSTART:20270314T080000
END:DAYLIGHT
BEGIN:STANDARD
TZOFFSETFROM:-0500
TZOFFSETTO:-0600
TZNAME:CST
DTSTART:20271107T070000
END:STANDARD
END:VTIMEZONE
BEGIN:VEVENT
DTSTART;TZID=America/Chicago:20260213T170000
DTEND;TZID=America/Chicago:20260213T200000
DTSTAMP:20260424T023718
CREATED:20250701T190232Z
LAST-MODIFIED:20260109T153533Z
UID:10000280-1771002000-1771012800@peelcompton.org
SUMMARY:Campfire Cooking: Valentine's Date
DESCRIPTION:Looking for a unique way to spend Valentine’s Day? Join us for a cozy\, hands-on campfire cooking class designed for couples! In this special edition\, you and your partner will learn how to create a romantic meal over an open flame\, including appetizers\, a main course\, and decadent dessert—all infused with smoky campfire flavor. \nGuided by our experienced programs staff\, you’ll pick up tips on campfire cooking techniques\, share laughs around the fire\, and enjoy a rustic\, candle-lit setting under the stars. Perfect for foodies\, adventurers\, or anyone looking for an unforgettable date night with a dash of wilderness charm! \nRegistration is per couple (2 people)\, so please only register once. \nRegister\n  \nThis event is SOLD OUT! Looking for more Valentine’s ideas? Click here! \nMore Valentine’s Ideas\n 
URL:https://peelcompton.org/event/campfire-cooking-valentines-date/
LOCATION:Coler Campground\, 2003 NW Homestead Ln\, Bentonville\, 72712\, United States
CATEGORIES:Coler Mountain Bike Preserve
ATTACH;FMTTYPE=image/png:https://peelcompton.org/wp-content/uploads/2025/12/AmiliaWebsite-Photos-1020-x-680-px-2025-12-30T102041.984.png
ORGANIZER;CN="Peel Compton Foundation":MAILTO:info@peelcompton.org
END:VEVENT
END:VCALENDAR