BEGIN:VCALENDAR
VERSION:2.0
PRODID:-//Peel Compton Foundation - ECPv6.15.20//NONSGML v1.0//EN
CALSCALE:GREGORIAN
METHOD:PUBLISH
X-ORIGINAL-URL:https://peelcompton.org
X-WR-CALDESC:Events for Peel Compton Foundation
REFRESH-INTERVAL;VALUE=DURATION:PT1H
X-Robots-Tag:noindex
X-PUBLISHED-TTL:PT1H
BEGIN:VTIMEZONE
TZID:America/Chicago
BEGIN:DAYLIGHT
TZOFFSETFROM:-0600
TZOFFSETTO:-0500
TZNAME:CDT
DTSTART:20250309T080000
END:DAYLIGHT
BEGIN:STANDARD
TZOFFSETFROM:-0500
TZOFFSETTO:-0600
TZNAME:CST
DTSTART:20251102T070000
END:STANDARD
BEGIN:DAYLIGHT
TZOFFSETFROM:-0600
TZOFFSETTO:-0500
TZNAME:CDT
DTSTART:20260308T080000
END:DAYLIGHT
BEGIN:STANDARD
TZOFFSETFROM:-0500
TZOFFSETTO:-0600
TZNAME:CST
DTSTART:20261101T070000
END:STANDARD
BEGIN:DAYLIGHT
TZOFFSETFROM:-0600
TZOFFSETTO:-0500
TZNAME:CDT
DTSTART:20270314T080000
END:DAYLIGHT
BEGIN:STANDARD
TZOFFSETFROM:-0500
TZOFFSETTO:-0600
TZNAME:CST
DTSTART:20271107T070000
END:STANDARD
END:VTIMEZONE
BEGIN:VEVENT
DTSTART;TZID=America/Chicago:20260207T090000
DTEND;TZID=America/Chicago:20260207T110000
DTSTAMP:20260419T194424
CREATED:20251211T150659Z
LAST-MODIFIED:20251223T161044Z
UID:10001964-1770454800-1770462000@peelcompton.org
SUMMARY:Level 1 Mountain Biking Basics
DESCRIPTION:Learn all the essentials to become a better rider! We cover bike safety checks\, gear\, the three essentials to mountain biking\, riding positions\, mounting/dismounting\, braking techniques\, shifting\, and trail etiquette. Coler’s PMBIA certified instructors will guide you through the skills you need to gain confidence on your bike and build a solid base of mountain biking skills. This class was designed for those who are new to mountain biking or haven’t had formal instruction previously. \nNo refunds will be issued for this purchase unless Peel Compton Foundation cancels the program due to low participation or weather. \n  \nSign Up Now \n 
URL:https://peelcompton.org/event/level-1-mountain-biking-basics-9/2026-02-07/
LOCATION:Coler Mountain Bike Preserve\, 2500 NW Grove Lane\, Bentonville\, AR\, United States
CATEGORIES:Coler Mountain Bike Preserve
ATTACH;FMTTYPE=image/jpeg:https://peelcompton.org/wp-content/uploads/2025/12/DSC_7530-scaled.jpg
ORGANIZER;CN="Peel Compton Foundation":MAILTO:info@peelcompton.org
END:VEVENT
BEGIN:VEVENT
DTSTART;TZID=America/Chicago:20260207T100000
DTEND;TZID=America/Chicago:20260207T120000
DTSTAMP:20260419T194424
CREATED:20250701T190428Z
LAST-MODIFIED:20260128T221546Z
UID:10002268-1770458400-1770465600@peelcompton.org
SUMMARY:USA Archery Pin Shoot
DESCRIPTION:On the last Saturday of each month\, Club Members have the chance to earn their USA Archery JOAD or Adult Achievement Pins\, provided they are members of both USA Archery & The Quiver. \nThis is a great opportunity for archers of all ages to track their progress and earn recognition for their skills and dedication! \nFor more information on the program visit: USA Archery Achievement Awards Program \nMandatory membership(s): \n\nThe Quiver Family Membership\nThe Quiver Individual Membership\n\n  \nRegister
URL:https://peelcompton.org/event/usa-archery-pin-shoots/2026-02-07/
LOCATION:The Quiver Archery Range\, 1701 SW F St\, Bentonville\, AR\, United States
CATEGORIES:The Quiver Archery Range
ATTACH;FMTTYPE=image/png:https://peelcompton.org/wp-content/uploads/2025/07/Pin-Shoots-qEzylT.png
END:VEVENT
BEGIN:VEVENT
DTSTART;TZID=America/Chicago:20260207T100000
DTEND;TZID=America/Chicago:20260207T170000
DTSTAMP:20260419T194424
CREATED:20260105T204839Z
LAST-MODIFIED:20260213T202201Z
UID:10001954-1770458400-1770483600@peelcompton.org
SUMMARY:3D Archery Days
DESCRIPTION:Get ready to experience the wild side of archery at The Quiver! On the first weekend of each month\, we bring out our collection of 3D\, animal-shaped targets for you to shoot at. From deer to our fierce velociraptor\, take aim at a variety of unique critters. Of course\, our regular targets will also be available. \nThis is a FREE event for members! \nWhen you register\, you’ll get access to shoot for one hour at your convenience—just come during the event hours and enjoy the experience. Whether you’re looking to hone your skills or just have fun with some wild targets\, it’s an exciting way to spend your time at The Quiver! \nSign Up Now
URL:https://peelcompton.org/event/3d-days-26-2/2026-02-07/
LOCATION:The Quiver Archery Range\, 1701 SW F St\, Bentonville\, AR\, United States
CATEGORIES:The Quiver Archery Range
ATTACH;FMTTYPE=image/png:https://peelcompton.org/wp-content/uploads/2025/12/AmiliaWebsite-Photos-1020-x-680-px-2026-01-05T144805.483.png
END:VEVENT
BEGIN:VEVENT
DTSTART;TZID=America/Chicago:20260207T103000
DTEND;TZID=America/Chicago:20260207T120000
DTSTAMP:20260419T194424
CREATED:20250701T182836Z
LAST-MODIFIED:20260108T214555Z
UID:10000029-1770460200-1770465600@peelcompton.org
SUMMARY:Victorian Galentines & Florals
DESCRIPTION:Treat yourself to a relaxed\, creative Saturday morning filled with florals & history\, with a Valentine’s twist! Whether you’re coming with friends or flying solo\, this Galentine’s-style gathering is designed to feel welcoming and fun. No experience required! \nDuring this guided\, hands-on class\, you’ll: \n\nCreate a full take-home floral arrangement using seasonal blooms (all materials included)\nDesign a Victorian-inspired Valentine’s card: sweet\, cheeky\, or even a playful “Sour Valentine”\nSip complimentary mimosas\, plus light treats and non-alcoholic beverages\, as you create\nDiscover the surprising origins of Valentine’s Day traditions\, thoughtfully woven into the experience\n\nPerfect for: \n\nFriends looking for a unique Galentine’s outing\nSolo attendees wanting a low-pressure way to meet new people\nAnyone who loves florals\, history\, and getting creative\n\nSpots are intentionally limited to keep the experience intimate. Advance registration is required\, and this class is expected to fill. \nPlease note: Tickets are non-refundable unless the program is canceled by the Peel Compton Foundation due to low enrollment or weather. \nReserve your spot and make something beautiful & unique this Valentine’s season! \nSave Your Spot
URL:https://peelcompton.org/event/victorian-galentines-florals/
LOCATION:Peel Museum & Botanical Garden\, 400 S. Walton Blvd\, Bentonville\, AR\, United States
CATEGORIES:Peel Museum & Botanical Garden
ATTACH;FMTTYPE=image/png:https://peelcompton.org/wp-content/uploads/2025/07/AmiliaWebsite-Photos-1020-x-680-px-2025-12-22T151448.418.png
ORGANIZER;CN="Peel Compton Foundation":MAILTO:info@peelcompton.org
END:VEVENT
BEGIN:VEVENT
DTSTART;TZID=America/Chicago:20260207T113000
DTEND;TZID=America/Chicago:20260207T133000
DTSTAMP:20260419T194425
CREATED:20251204T153013Z
LAST-MODIFIED:20260213T204005Z
UID:10002052-1770463800-1770471000@peelcompton.org
SUMMARY:Mountain Biking: Intro to Cornering
DESCRIPTION:Coler’s Mountain Biking Intro to Cornering Class is the perfect place for you to expand your skill set. Coler’s PMBIA certified instructors will walk you through all aspects of cornering – including body position\, bike position\, and more. This class will help provide a solid foundation for you to take your skills to the next level! \nNo refunds will be issued for this purchase unless Peel Compton Foundation cancels the program due to low participation or weather. \n  \nSign Up Now
URL:https://peelcompton.org/event/mountain-biking-intro-to-cornering-6/2026-02-07/
LOCATION:Coler Mountain Bike Preserve\, 2500 NW Grove Lane\, Bentonville\, AR\, United States
CATEGORIES:Coler Mountain Bike Preserve
ATTACH;FMTTYPE=image/png:https://peelcompton.org/wp-content/uploads/2025/12/AmiliaWebsite-Photos-1020-x-680-px-2026-01-12T115018.000.png
ORGANIZER;CN="Peel Compton Foundation":MAILTO:info@peelcompton.org
END:VEVENT
BEGIN:VEVENT
DTSTART;TZID=America/Chicago:20260207T153000
DTEND;TZID=America/Chicago:20260207T173000
DTSTAMP:20260419T194425
CREATED:20251230T164142Z
LAST-MODIFIED:20251230T164142Z
UID:10001992-1770478200-1770485400@peelcompton.org
SUMMARY:Lovestruck Valentine's Date
DESCRIPTION:Make your Valentine’s date a bullseye with Couples’ Archery!\nEnjoy a fun and lighthearted session filled with games that test how well you know each other\, plus playful challenges that let you team up—or compete—against other couples. \nThis event welcomes archers of every experience level\, from total beginners to seasoned shooters. Pricing is per couple\, making it an easy and unique date-night choice. \nSimply register both participants in the same transaction\, and an automatic discount will be applied at checkout to bring the total to $60 per couple. \nCome make memories\, share some laughs\, and aim for the heart—literally and figuratively! \nRegister
URL:https://peelcompton.org/event/lovestruck-valentines-couples-archery-bentonville-ar/
LOCATION:The Quiver Archery Range\, 1701 SW F St\, Bentonville\, AR\, United States
CATEGORIES:The Quiver Archery Range
ATTACH;FMTTYPE=image/png:https://peelcompton.org/wp-content/uploads/2025/12/AmiliaWebsite-Photos-1020-x-680-px-2025-12-30T102536.820.png
ORGANIZER;CN="Peel Compton Foundation":MAILTO:info@peelcompton.org
END:VEVENT
END:VCALENDAR