BEGIN:VCALENDAR
VERSION:2.0
PRODID:-//Peel Compton Foundation - ECPv6.15.20//NONSGML v1.0//EN
CALSCALE:GREGORIAN
METHOD:PUBLISH
X-WR-CALNAME:Peel Compton Foundation
X-ORIGINAL-URL:https://peelcompton.org
X-WR-CALDESC:Events for Peel Compton Foundation
REFRESH-INTERVAL;VALUE=DURATION:PT1H
X-Robots-Tag:noindex
X-PUBLISHED-TTL:PT1H
BEGIN:VTIMEZONE
TZID:America/Chicago
BEGIN:DAYLIGHT
TZOFFSETFROM:-0600
TZOFFSETTO:-0500
TZNAME:CDT
DTSTART:20240310T080000
END:DAYLIGHT
BEGIN:STANDARD
TZOFFSETFROM:-0500
TZOFFSETTO:-0600
TZNAME:CST
DTSTART:20241103T070000
END:STANDARD
BEGIN:DAYLIGHT
TZOFFSETFROM:-0600
TZOFFSETTO:-0500
TZNAME:CDT
DTSTART:20250309T080000
END:DAYLIGHT
BEGIN:STANDARD
TZOFFSETFROM:-0500
TZOFFSETTO:-0600
TZNAME:CST
DTSTART:20251102T070000
END:STANDARD
BEGIN:DAYLIGHT
TZOFFSETFROM:-0600
TZOFFSETTO:-0500
TZNAME:CDT
DTSTART:20260308T080000
END:DAYLIGHT
BEGIN:STANDARD
TZOFFSETFROM:-0500
TZOFFSETTO:-0600
TZNAME:CST
DTSTART:20261101T070000
END:STANDARD
END:VTIMEZONE
BEGIN:VEVENT
DTSTART;TZID=America/Chicago:20251025T070000
DTEND;TZID=America/Chicago:20251025T170000
DTSTAMP:20260420T191844
CREATED:20250728T213127Z
LAST-MODIFIED:20250728T213127Z
UID:10000864-1761375600-1761411600@peelcompton.org
SUMMARY:Monster Match Pickleball Tournament
DESCRIPTION:Monster Match Pickleball Tournament\n\n\n\n\nPresented by Reebok & Reign Storm Clean Energy | October 25 & 26\, 2025\nJoin us for the 2nd Annual Monster Match Pickleball Tournament presented by Reign Energy and Reebok! Show off your skills\, meet new players\, and compete for prizes. There are divisions for all levels of play\, so join us for a spooky pickleball weekend! We HIGHLY encourage all teams to dress in costume because some sweet prizes may be involved! \nSign Up Now
URL:https://peelcompton.org/event/monster-match-pickleball-tournament-3/2025-10-25/
LOCATION:Osage Park\, 700 SW 16th St\, Bentonville\, AR\, United States
CATEGORIES:Osage Park
ATTACH;FMTTYPE=image/jpeg:https://peelcompton.org/wp-content/uploads/2025/07/20241027-201-scaled.jpg
ORGANIZER;CN="Peel Compton Foundation":MAILTO:info@peelcompton.org
END:VEVENT
BEGIN:VEVENT
DTSTART;TZID=America/Chicago:20251025T100000
DTEND;TZID=America/Chicago:20251025T170000
DTSTAMP:20260420T191844
CREATED:20250701T183651Z
LAST-MODIFIED:20250909T155902Z
UID:10001388-1761386400-1761411600@peelcompton.org
SUMMARY:Pumpkin Shootin' Days
DESCRIPTION:It’s spooky season and we’re bringing out pumpkins for visitors to shoot at! \nThis event is FREE for members of The Quiver! \nRegister
URL:https://peelcompton.org/event/pumpkin-shootin-days/2025-10-25/
LOCATION:The Quiver Archery Range\, 1701 SW F St\, Bentonville\, AR\, United States
CATEGORIES:The Quiver Archery Range
ATTACH;FMTTYPE=image/png:https://peelcompton.org/wp-content/uploads/2025/07/Pumpkin-Shootin-1-sfkQ8o.png
ORGANIZER;CN="Peel Compton Foundation":MAILTO:info@peelcompton.org
END:VEVENT
BEGIN:VEVENT
DTSTART;TZID=America/Chicago:20251025T103000
DTEND;TZID=America/Chicago:20251025T113000
DTSTAMP:20260420T191844
CREATED:20250701T192526Z
LAST-MODIFIED:20250722T214547Z
UID:10000856-1761388200-1761391800@peelcompton.org
SUMMARY:USA Archery Pin Shoot
DESCRIPTION:On the last Saturday of each month\, Club Members have the chance to earn their USA Archery JOAD or Adult Achievement Pins\, provided they are members of both USA Archery & The Quiver. \nThis is a great opportunity for archers of all ages to track their progress and earn recognition for their skills and dedication! \nFor more information on the program visit: USA Archery Achievement Awards Program \nMandatory membership(s): \n\nThe Quiver Family Membership\nThe Quiver Individual Membership\n\n  \nSign Up Now
URL:https://peelcompton.org/event/usa-archery-pin-shoots-8/2025-10-25/
LOCATION:The Quiver Archery Range\, 1701 SW F St\, Bentonville\, AR\, United States
CATEGORIES:The Quiver Archery Range
ATTACH;FMTTYPE=image/png:https://peelcompton.org/wp-content/uploads/2025/07/Pin-Shoots-rqtAhF.png
END:VEVENT
BEGIN:VEVENT
DTSTART;TZID=America/Chicago:20251025T130000
DTEND;TZID=America/Chicago:20251025T140000
DTSTAMP:20260420T191844
CREATED:20250701T190029Z
LAST-MODIFIED:20250730T212827Z
UID:10000239-1761397200-1761400800@peelcompton.org
SUMMARY:Try Archery
DESCRIPTION:Interested in trying archery but unsure where to start? Our Try Archery program is the perfect way to dive into this exciting sport! Whether you’re completely new to archery or just curious about learning\, this program is designed to give you a fun and informative introduction to shooting\, safety\, and skills\, all in a welcoming environment. \n\n\n\n\n\n\n\n\n\n\nLed by our certified archery instructors\, this program covers all the basics you need to get started. You’ll first be introduced to proper shooting techniques\, the types of equipment used\, and most importantly\, range safety. This ensures you feel confident and prepared before you take your first shot. Once you’ve got the basics down\, it’s time to have some fun! We’ll jump into a series of exciting archery games\, including balloon popping challenges where you can test your aim and accuracy. It’s a great way to practice while having fun and getting comfortable with your bow and arrow. \nThe best part? Everything you need is provided! From bows and arrows to safety gear\, we’ve got you covered. All you need to do is show up ready to learn\, have fun\, and enjoy a new experience. It’s a fantastic opportunity to discover whether archery is the right fit for you. \nImportant registration details: Don’t wait too long to sign up! Registration closes two days before the event at midnight\, so make sure to secure your spot before time runs out. \nAdded bonus: If you enjoy your Try Archery experience and want to continue your archery journey\, you can apply your registration fee towards an annual membership at The Quiver\, which provides access to even more archery programs\, events\, and benefits. \nSign up today and embark on your exciting archery adventure! \n\n\n\n\n\n\n\n\n\n\nSign Up Now
URL:https://peelcompton.org/event/try-archery-52/
LOCATION:The Quiver Archery Range\, 1701 SW F St\, Bentonville\, AR\, United States
CATEGORIES:The Quiver Archery Range
ATTACH;FMTTYPE=image/png:https://peelcompton.org/wp-content/uploads/2025/07/Try-Archery-11-wx5ulz.png
END:VEVENT
BEGIN:VEVENT
DTSTART;TZID=America/Chicago:20251025T130000
DTEND;TZID=America/Chicago:20251025T150000
DTSTAMP:20260420T191844
CREATED:20250902T150450Z
LAST-MODIFIED:20250902T150450Z
UID:10001308-1761397200-1761404400@peelcompton.org
SUMMARY:Advanced MTB Jump Clinic
DESCRIPTION:Crank it up MTB & Coler MTB Advanced Jump Clinic\nWhat You’ll Learn:\nThis 2 hour course will help you learn Advanced jump skills. Anneke and Nate will explain the process of jumping\, how to build confidence while getting air in a safe way\, enhancing your airtime and improving overall bike skills. \nThis advanced clinic will be held at Coler Mountain Bike Preserve and the trail we’ll be teaching on will be Cease and Desist. This is perfect trail to progress you’re jumping and build that confidence. \n\nStep-by-step breakdown of jumping technique\nHow to build momentum and flow on jumps and trail features\nHow to approach airtime with control and confidence\nKey bike-body positions for safe landings\nPersonalized video feedback during the session\nSmall group sizes for plenty of 1-on-1 attention\n\n  \nSign Up Now
URL:https://peelcompton.org/event/advanced-mtb-jump-clinic-2/
LOCATION:Coler Mountain Bike Preserve\, 2500 NW Grove Lane\, Bentonville\, AR\, United States
CATEGORIES:Coler Mountain Bike Preserve
ATTACH;FMTTYPE=image/png:https://peelcompton.org/wp-content/uploads/2025/07/Anneke-Beerten-mcviVP.png
END:VEVENT
BEGIN:VEVENT
DTSTART;TZID=America/Chicago:20251025T163000
DTEND;TZID=America/Chicago:20251025T183000
DTSTAMP:20260420T191844
CREATED:20250908T193528Z
LAST-MODIFIED:20250908T193528Z
UID:10001387-1761409800-1761417000@peelcompton.org
SUMMARY:Date Night... If You Dare!
DESCRIPTION:So you’re all boo’d up this Halloween…dare to try couples’ archery? You’ll enjoy games designed to see how well you know one another and challenge your competitive side with other couples in a spooktastic way… \nCostumes encouraged! \nThis event is perfect for archers of all ability levels\, and the price is by the couple! \nRegister both participants in the same transaction\, and an automatic discount will be applied at checkout to make the total $60/couple. \nPrograms at The Quiver are led by Level 1 USA Archery & Safesport Certified Staff \nRegister
URL:https://peelcompton.org/event/date-night-if-you-dare-2/
LOCATION:The Quiver Archery Range\, 1701 SW F St\, Bentonville\, AR\, United States
CATEGORIES:The Quiver Archery Range
ATTACH;FMTTYPE=image/png:https://peelcompton.org/wp-content/uploads/2025/09/AmiliaWebsite-Photos-1020-x-680-px-2025-09-08T143316.889.png
ORGANIZER;CN="Peel Compton Foundation":MAILTO:info@peelcompton.org
END:VEVENT
END:VCALENDAR