BEGIN:VCALENDAR
VERSION:2.0
PRODID:-//Peel Compton Foundation - ECPv6.15.20//NONSGML v1.0//EN
CALSCALE:GREGORIAN
METHOD:PUBLISH
X-WR-CALNAME:Peel Compton Foundation
X-ORIGINAL-URL:https://peelcompton.org
X-WR-CALDESC:Events for Peel Compton Foundation
REFRESH-INTERVAL;VALUE=DURATION:PT1H
X-Robots-Tag:noindex
X-PUBLISHED-TTL:PT1H
BEGIN:VTIMEZONE
TZID:America/Chicago
BEGIN:DAYLIGHT
TZOFFSETFROM:-0600
TZOFFSETTO:-0500
TZNAME:CDT
DTSTART:20240310T080000
END:DAYLIGHT
BEGIN:STANDARD
TZOFFSETFROM:-0500
TZOFFSETTO:-0600
TZNAME:CST
DTSTART:20241103T070000
END:STANDARD
BEGIN:DAYLIGHT
TZOFFSETFROM:-0600
TZOFFSETTO:-0500
TZNAME:CDT
DTSTART:20250309T080000
END:DAYLIGHT
BEGIN:STANDARD
TZOFFSETFROM:-0500
TZOFFSETTO:-0600
TZNAME:CST
DTSTART:20251102T070000
END:STANDARD
BEGIN:DAYLIGHT
TZOFFSETFROM:-0600
TZOFFSETTO:-0500
TZNAME:CDT
DTSTART:20260308T080000
END:DAYLIGHT
BEGIN:STANDARD
TZOFFSETFROM:-0500
TZOFFSETTO:-0600
TZNAME:CST
DTSTART:20261101T070000
END:STANDARD
END:VTIMEZONE
BEGIN:VEVENT
DTSTART;TZID=America/Chicago:20251021T160000
DTEND;TZID=America/Chicago:20251021T180000
DTSTAMP:20260425T100515
CREATED:20250701T191557Z
LAST-MODIFIED:20260226T205939Z
UID:10001644-1761062400-1761069600@peelcompton.org
SUMMARY:Tour de Coler Weekly Group Ride
DESCRIPTION:Tour de Coler Weekly Group Ride \nJoin us every Tuesday for Tour de Coler\, our free weekly group mountain bike ride at Coler Mountain Bike Preserve. Riders of all experience levels are welcome. We break into groups based on ability and riding style\, so you can find the right pace and terrain for you. \nMeet at The Grove Parking Lot and spend the evening exploring the trails with a great community of riders. No registration required. Just show up and ride. \nScheduleEvery TuesdayMid-March through October: 5:30–7:30 PMNovember through Mid-March: 4:00–6:00 PM \nLocationThe Grove Parking Lot2500 NW Grove Lane (off NW 3rd St) \nCompletely free. No registration necessary. \n 
URL:https://peelcompton.org/event/tour-de-coler-weekly-group-ride-24/2025-10-21/
LOCATION:Coler Mountain Bike Preserve\, 2500 NW Grove Lane\, Bentonville\, AR\, United States
CATEGORIES:Coler Mountain Bike Preserve
ATTACH;FMTTYPE=image/png:https://peelcompton.org/wp-content/uploads/2025/07/Tour-de-Coler-krJKHG.png
END:VEVENT
BEGIN:VEVENT
DTSTART;TZID=America/Chicago:20251021T173000
DTEND;TZID=America/Chicago:20251021T183000
DTSTAMP:20260425T100515
CREATED:20250806T205400Z
LAST-MODIFIED:20251003T162745Z
UID:10000870-1761067800-1761071400@peelcompton.org
SUMMARY:Mourning Tour: How the Victorians Grieved
DESCRIPTION:Join us at Peel Museum this October as Museum Manager\, Chelsea Stewart\, leads you through an exclusive discussion and tour exploring some of the mourning practices from the Victorian Period and why they were important as an expression of grief. \nCongressman Peel suffered losses in his family including his oldest son and his wife\, Mary Emaline. During this tour\, we will take a look at some of the ways Samuel Peel may have mourned his family members based on the standards set by Queen Victoria when her husband\, Prince Albert\, died in 1861. These practices influenced Americans throughout the Victorian Period and gave rise to a few outlandish practices that seem odd and out of place in today’s world. \nWe will provide complimentary beverages for you to enjoy during this class! \n*Limited spots\, registration is required for this class* \nSign Up Now
URL:https://peelcompton.org/event/mourning-tour-how-the-victorians-grieved-2/
LOCATION:Peel Museum & Botanical Garden\, 400 S. Walton Blvd\, Bentonville\, AR\, United States
CATEGORIES:Peel Museum & Botanical Garden
ATTACH;FMTTYPE=image/png:https://peelcompton.org/wp-content/uploads/2025/08/AmiliaWebsite-Photos-1020-x-680-px-80.png
ORGANIZER;CN="Peel Compton Foundation":MAILTO:info@peelcompton.org
END:VEVENT
END:VCALENDAR