BEGIN:VCALENDAR
VERSION:2.0
PRODID:-//Peel Compton Foundation - ECPv6.15.20//NONSGML v1.0//EN
CALSCALE:GREGORIAN
METHOD:PUBLISH
X-WR-CALNAME:Peel Compton Foundation
X-ORIGINAL-URL:https://peelcompton.org
X-WR-CALDESC:Events for Peel Compton Foundation
REFRESH-INTERVAL;VALUE=DURATION:PT1H
X-Robots-Tag:noindex
X-PUBLISHED-TTL:PT1H
BEGIN:VTIMEZONE
TZID:America/Chicago
BEGIN:DAYLIGHT
TZOFFSETFROM:-0600
TZOFFSETTO:-0500
TZNAME:CDT
DTSTART:20240310T080000
END:DAYLIGHT
BEGIN:STANDARD
TZOFFSETFROM:-0500
TZOFFSETTO:-0600
TZNAME:CST
DTSTART:20241103T070000
END:STANDARD
BEGIN:DAYLIGHT
TZOFFSETFROM:-0600
TZOFFSETTO:-0500
TZNAME:CDT
DTSTART:20250309T080000
END:DAYLIGHT
BEGIN:STANDARD
TZOFFSETFROM:-0500
TZOFFSETTO:-0600
TZNAME:CST
DTSTART:20251102T070000
END:STANDARD
BEGIN:DAYLIGHT
TZOFFSETFROM:-0600
TZOFFSETTO:-0500
TZNAME:CDT
DTSTART:20260308T080000
END:DAYLIGHT
BEGIN:STANDARD
TZOFFSETFROM:-0500
TZOFFSETTO:-0600
TZNAME:CST
DTSTART:20261101T070000
END:STANDARD
END:VTIMEZONE
BEGIN:VEVENT
DTSTART;TZID=America/Chicago:20250927T070000
DTEND;TZID=America/Chicago:20250927T120000
DTSTAMP:20260420T215603
CREATED:20250716T134409Z
LAST-MODIFIED:20250716T134409Z
UID:10000650-1758956400-1758974400@peelcompton.org
SUMMARY:Dr. Compton Native Tree & Plant Sale: Fall
DESCRIPTION:Stop by the annual fall Dr. Compton Native Tree & Plant Sale to shop over 56 varieties of trees\, shrubs\, vines\, ornamental grasses\, perennials\, and hardy ferns – all cared for by our expert horticulture team. \nLearn More
URL:https://peelcompton.org/event/dr-compton-native-tree-plant-sale-fall/2025-09-27/
LOCATION:Compton Gardens & Arboretum\, 312 North Main Street\, Bentonville\, AR\, United States
CATEGORIES:Compton Gardens & Arboretum
ATTACH;FMTTYPE=image/png:https://peelcompton.org/wp-content/uploads/2025/07/AmiliaWebsite-Photos-1020-x-680-px-62.png
ORGANIZER;CN="Peel Compton Foundation":MAILTO:info@peelcompton.org
END:VEVENT
BEGIN:VEVENT
DTSTART;TZID=America/Chicago:20250927T080000
DTEND;TZID=America/Chicago:20250927T190000
DTSTAMP:20260420T215603
CREATED:20250806T211744Z
LAST-MODIFIED:20250806T211744Z
UID:10000881-1758960000-1758999600@peelcompton.org
SUMMARY:Pre-Season 3D Days
DESCRIPTION:Every Friday through Sunday in September\, we’re bringing out our Game face so you can prep for Hunting season! \nGet ready to experience the wild side of archery at The Quiver! On the first weekend of each month\, we bring out our collection of 3D\, animal-shaped targets for you to shoot at. From deer to our fierce velociraptor\, take aim at a variety of unique critters. Of course\, our regular targets will also be available. \nThis is a FREE event for members!  \nWhen you register\, you’ll get access to shoot for one hour at your convenience—just come during the event hours and enjoy the experience. Whether you’re looking to hone your skills or just have fun with some wild targets\, it’s an exciting way to spend your time at The Quiver! \nSign Up Now \n 
URL:https://peelcompton.org/event/pre-season-3d-days/2025-09-27/
LOCATION:The Quiver Archery Range\, 1701 SW F St\, Bentonville\, AR\, United States
CATEGORIES:The Quiver Archery Range
ATTACH;FMTTYPE=image/png:https://peelcompton.org/wp-content/uploads/2025/08/3D-Days-3.png
ORGANIZER;CN="Peel Compton Foundation":MAILTO:info@peelcompton.org
END:VEVENT
BEGIN:VEVENT
DTSTART;TZID=America/Chicago:20250927T090000
DTEND;TZID=America/Chicago:20250927T100000
DTSTAMP:20260420T215603
CREATED:20250812T133625Z
LAST-MODIFIED:20250812T133625Z
UID:10001158-1758963600-1758967200@peelcompton.org
SUMMARY:Beginner Archery Class
DESCRIPTION:Ready to take the next step in your archery journey? If you’re looking to deepen your knowledge\, increase your skills\, and learn more about the art of archery\, this class is for you! If you’ve recently been to the range\, know the whistle commands\, and have a basic understanding of how to shoot an arrow at a target\, you’re ready for this next level of training. \nJoin this small\, personalized class designed for archers of all levels. Whether you’re shooting a traditional\, compound\, recurve\, or barebow\, our instructors will tailor the curriculum to meet your specific needs. We’ll focus on the essential steps of shooting\, building a solid foundation based on the National Training System’s progressive approach. Expect plenty of practice and skill development as you refine your technique. \nIn this course\, you’ll learn the technical terminology for parts of the bow and arrow\, explore different equipment options\, and gain the skills necessary to shoot accurately\, score your shots\, and journal your progress for future success. \nWhat to Expect: \n\nTailored basic instruction for all bow types (traditional\, compound\, recurve\, barebow\, and more)\nFocus on foundational shooting techniques and progression\nUnderstanding equipment options and terminology\nLearn to score and tracking your archery journey\n\nCourse Details: \n\n4-session package (book all 4 classes together)\nMinimum of 3 participants required for the class to run\n\nThis program is suitable for adults and children ages 10 and up. \nAll programs at The Quiver are led by USA Archery & SafeSport Certified instructors. \nLessons are curated by a USA Archery Level 3 Coach \nRegister
URL:https://peelcompton.org/event/beginner-archery-class-5/2025-09-27/
LOCATION:The Quiver Archery Range\, 1701 SW F St\, Bentonville\, AR\, United States
CATEGORIES:The Quiver Archery Range
ATTACH;FMTTYPE=image/jpeg:https://peelcompton.org/wp-content/uploads/2025/04/beginner-1.jpg
ORGANIZER;CN="Peel Compton Foundation":MAILTO:info@peelcompton.org
END:VEVENT
BEGIN:VEVENT
DTSTART;TZID=America/Chicago:20250927T103000
DTEND;TZID=America/Chicago:20250927T113000
DTSTAMP:20260420T215603
CREATED:20250701T192526Z
LAST-MODIFIED:20250722T214547Z
UID:10000855-1758969000-1758972600@peelcompton.org
SUMMARY:USA Archery Pin Shoot
DESCRIPTION:On the last Saturday of each month\, Club Members have the chance to earn their USA Archery JOAD or Adult Achievement Pins\, provided they are members of both USA Archery & The Quiver. \nThis is a great opportunity for archers of all ages to track their progress and earn recognition for their skills and dedication! \nFor more information on the program visit: USA Archery Achievement Awards Program \nMandatory membership(s): \n\nThe Quiver Family Membership\nThe Quiver Individual Membership\n\n  \nSign Up Now
URL:https://peelcompton.org/event/usa-archery-pin-shoots-8/2025-09-27/
LOCATION:The Quiver Archery Range\, 1701 SW F St\, Bentonville\, AR\, United States
CATEGORIES:The Quiver Archery Range
ATTACH;FMTTYPE=image/png:https://peelcompton.org/wp-content/uploads/2025/07/Pin-Shoots-rqtAhF.png
END:VEVENT
BEGIN:VEVENT
DTSTART;TZID=America/Chicago:20250927T130000
DTEND;TZID=America/Chicago:20250927T140000
DTSTAMP:20260420T215604
CREATED:20250701T190017Z
LAST-MODIFIED:20250730T212718Z
UID:10000236-1758978000-1758981600@peelcompton.org
SUMMARY:Try Archery
DESCRIPTION:Interested in trying archery but unsure where to start? Our Try Archery program is the perfect way to dive into this exciting sport! Whether you’re completely new to archery or just curious about learning\, this program is designed to give you a fun and informative introduction to shooting\, safety\, and skills\, all in a welcoming environment. \n\n\n\n\n\n\n\n\n\n\nLed by our certified archery instructors\, this program covers all the basics you need to get started. You’ll first be introduced to proper shooting techniques\, the types of equipment used\, and most importantly\, range safety. This ensures you feel confident and prepared before you take your first shot. Once you’ve got the basics down\, it’s time to have some fun! We’ll jump into a series of exciting archery games\, including balloon popping challenges where you can test your aim and accuracy. It’s a great way to practice while having fun and getting comfortable with your bow and arrow. \nThe best part? Everything you need is provided! From bows and arrows to safety gear\, we’ve got you covered. All you need to do is show up ready to learn\, have fun\, and enjoy a new experience. It’s a fantastic opportunity to discover whether archery is the right fit for you. \nImportant registration details: Don’t wait too long to sign up! Registration closes two days before the event at midnight\, so make sure to secure your spot before time runs out. \nAdded bonus: If you enjoy your Try Archery experience and want to continue your archery journey\, you can apply your registration fee towards an annual membership at The Quiver\, which provides access to even more archery programs\, events\, and benefits. \nSign up today and embark on your exciting archery adventure! \n\n\n\n\n\n\n\n\n\n\nSign Up Now
URL:https://peelcompton.org/event/try-archery-49/
LOCATION:The Quiver Archery Range\, 1701 SW F St\, Bentonville\, AR\, United States
CATEGORIES:The Quiver Archery Range
ATTACH;FMTTYPE=image/png:https://peelcompton.org/wp-content/uploads/2025/07/Try-Archery-11-wx5ulz.png
END:VEVENT
BEGIN:VEVENT
DTSTART;TZID=America/Chicago:20250927T130000
DTEND;TZID=America/Chicago:20250927T150000
DTSTAMP:20260420T215604
CREATED:20250902T150229Z
LAST-MODIFIED:20250902T150229Z
UID:10001307-1758978000-1758985200@peelcompton.org
SUMMARY:Advanced MTB Jump Clinic
DESCRIPTION:Crank it up MTB & Coler MTB Advanced Jump Clinic\nWhat You’ll Learn:\nThis 2 hour course will help you learn Advanced jump skills. Anneke and Nate will explain the process of jumping\, how to build confidence while getting air in a safe way\, enhancing your airtime and improving overall bike skills. \nThis advanced clinic will be held at Coler Mountain Bike Preserve and the trail we’ll be teaching on will be Cease and Desist. This is perfect trail to progress you’re jumping and build that confidence. \n\nStep-by-step breakdown of jumping technique\nHow to build momentum and flow on jumps and trail features\nHow to approach airtime with control and confidence\nKey bike-body positions for safe landings\nPersonalized video feedback during the session\nSmall group sizes for plenty of 1-on-1 attention\n\n  \nSign Up Now
URL:https://peelcompton.org/event/advanced-mtb-jump-clinic/
LOCATION:Coler Mountain Bike Preserve\, 2500 NW Grove Lane\, Bentonville\, AR\, United States
CATEGORIES:Coler Mountain Bike Preserve
ATTACH;FMTTYPE=image/png:https://peelcompton.org/wp-content/uploads/2025/07/Anneke-Beerten-mcviVP.png
END:VEVENT
END:VCALENDAR