BEGIN:VCALENDAR
VERSION:2.0
PRODID:-//Peel Compton Foundation - ECPv6.15.20//NONSGML v1.0//EN
CALSCALE:GREGORIAN
METHOD:PUBLISH
X-ORIGINAL-URL:https://peelcompton.org
X-WR-CALDESC:Events for Peel Compton Foundation
REFRESH-INTERVAL;VALUE=DURATION:PT1H
X-Robots-Tag:noindex
X-PUBLISHED-TTL:PT1H
BEGIN:VTIMEZONE
TZID:America/Chicago
BEGIN:DAYLIGHT
TZOFFSETFROM:-0600
TZOFFSETTO:-0500
TZNAME:CDT
DTSTART:20240310T080000
END:DAYLIGHT
BEGIN:STANDARD
TZOFFSETFROM:-0500
TZOFFSETTO:-0600
TZNAME:CST
DTSTART:20241103T070000
END:STANDARD
BEGIN:DAYLIGHT
TZOFFSETFROM:-0600
TZOFFSETTO:-0500
TZNAME:CDT
DTSTART:20250309T080000
END:DAYLIGHT
BEGIN:STANDARD
TZOFFSETFROM:-0500
TZOFFSETTO:-0600
TZNAME:CST
DTSTART:20251102T070000
END:STANDARD
BEGIN:DAYLIGHT
TZOFFSETFROM:-0600
TZOFFSETTO:-0500
TZNAME:CDT
DTSTART:20260308T080000
END:DAYLIGHT
BEGIN:STANDARD
TZOFFSETFROM:-0500
TZOFFSETTO:-0600
TZNAME:CST
DTSTART:20261101T070000
END:STANDARD
END:VTIMEZONE
BEGIN:VEVENT
DTSTART;TZID=America/Chicago:20250925T070000
DTEND;TZID=America/Chicago:20250925T150000
DTSTAMP:20260423T230432
CREATED:20250716T134409Z
LAST-MODIFIED:20250716T134409Z
UID:10000648-1758783600-1758812400@peelcompton.org
SUMMARY:Dr. Compton Native Tree & Plant Sale: Fall
DESCRIPTION:Stop by the annual fall Dr. Compton Native Tree & Plant Sale to shop over 56 varieties of trees\, shrubs\, vines\, ornamental grasses\, perennials\, and hardy ferns – all cared for by our expert horticulture team. \nLearn More
URL:https://peelcompton.org/event/dr-compton-native-tree-plant-sale-fall/2025-09-25/
LOCATION:Compton Gardens & Arboretum\, 312 North Main Street\, Bentonville\, AR\, United States
CATEGORIES:Compton Gardens & Arboretum
ATTACH;FMTTYPE=image/png:https://peelcompton.org/wp-content/uploads/2025/07/AmiliaWebsite-Photos-1020-x-680-px-62.png
ORGANIZER;CN="Peel Compton Foundation":MAILTO:info@peelcompton.org
END:VEVENT
BEGIN:VEVENT
DTSTART;TZID=America/Chicago:20250925T130000
DTEND;TZID=America/Chicago:20250925T140000
DTSTAMP:20260423T230432
CREATED:20250908T154921Z
LAST-MODIFIED:20250908T154921Z
UID:10001318-1758805200-1758808800@peelcompton.org
SUMMARY:Homeschool Archery Club
DESCRIPTION:Join our Homeschool Archery Club\, a welcoming and relaxed space for homeschool families to connect and enjoy the sport of archery together! This club is open to all experience levels—from complete beginners to seasoned archers. Whether you’re just curious about trying something new or looking to improve your aim\, this is the perfect opportunity to have fun and build skills in a safe\, supportive environment. \nWe provide: \n\nBasic instruction and guidance\nAll necessary archery equipment\nA safe shooting environment\nCertified staff on hand for supervision and support\n\nThis is a casual\, community-centered meetup designed to encourage connection\, skill-building\, and plenty of target practice for both kids and adults. Come shoot\, socialize\, and be part of a growing homeschool archery community! \n$10 fee for non-members\, free for members! \nAll minors must be accompanied by an adult\, and well-behaved children under 8 must remain in the spectating area with an adult present at all times. \nRegister
URL:https://peelcompton.org/event/homeschool-archery-club/2025-09-25/
LOCATION:The Quiver Archery Range\, 1701 SW F St\, Bentonville\, AR\, United States
CATEGORIES:The Quiver Archery Range
ATTACH;FMTTYPE=image/jpeg:https://peelcompton.org/wp-content/uploads/2025/09/DSC_4449-scaled.jpg
ORGANIZER;CN="Peel Compton Foundation":MAILTO:info@peelcompton.org
END:VEVENT
BEGIN:VEVENT
DTSTART;TZID=America/Chicago:20250925T150000
DTEND;TZID=America/Chicago:20250925T200000
DTSTAMP:20260423T230432
CREATED:20250908T155455Z
LAST-MODIFIED:20250908T182947Z
UID:10000869-1758812400-1758830400@peelcompton.org
SUMMARY:Oz Trails Town Series
DESCRIPTION:Oz Trails Town Series: Thunderdome ThrowdownAugust sessions have been moved to September! \nGet ready for a night of exciting head-to-head dual slalom racing on the blue and red courses at The Thunderdome in Coler Mountain Bike Preserve! This high-energy community event brings riders of all ages and skill levels together for some mid-week fun and competition. \nCheering and heckling are not only welcome—they’re strongly encouraged! \nSchedule: \n\n3:00–4:30 PM – Free Community JAM (all ages welcome) + Practice Laps\n4:30 PM – Beginner Juniors Boys & Girls (ages 9–13)\n5:00 PM – Junior Women (ages 9–16)\, Junior Men (ages 9–16)\, E-Bike Open\, Open Women\, Open Men\n6:30 PM – Semi-Finals\n7:00 PM – Finals + DJ\n\nLocation: Coler Grove\, Thunderdome at Coler Mountain Bike Preserve \nThis series gives junior riders the chance to earn USA Cycling points without the cost of traveling to weekend races. It also creates a professional-level race experience for the whole community\, right here at home. Whether you’re racing\, cheering\, or just enjoying the atmosphere\, it’s a night you won’t want to miss! \n\n\n\nSign Up Now \n 
URL:https://peelcompton.org/event/oz-trails-town-series-5-2/2025-09-25/
LOCATION:Coler Mountain Bike Preserve\, 2500 NW Grove Lane\, Bentonville\, AR\, United States
CATEGORIES:Coler Mountain Bike Preserve
ATTACH;FMTTYPE=image/png:https://peelcompton.org/wp-content/uploads/2025/07/AmiliaWebsite-Photos-1020-x-680-px-22-g4nRIL.png
ORGANIZER;CN="Peel Compton Foundation":MAILTO:info@peelcompton.org
END:VEVENT
END:VCALENDAR