BEGIN:VCALENDAR
VERSION:2.0
PRODID:-//Peel Compton Foundation - ECPv6.15.20//NONSGML v1.0//EN
CALSCALE:GREGORIAN
METHOD:PUBLISH
X-WR-CALNAME:Peel Compton Foundation
X-ORIGINAL-URL:https://peelcompton.org
X-WR-CALDESC:Events for Peel Compton Foundation
REFRESH-INTERVAL;VALUE=DURATION:PT1H
X-Robots-Tag:noindex
X-PUBLISHED-TTL:PT1H
BEGIN:VTIMEZONE
TZID:America/Chicago
BEGIN:DAYLIGHT
TZOFFSETFROM:-0600
TZOFFSETTO:-0500
TZNAME:CDT
DTSTART:20240310T080000
END:DAYLIGHT
BEGIN:STANDARD
TZOFFSETFROM:-0500
TZOFFSETTO:-0600
TZNAME:CST
DTSTART:20241103T070000
END:STANDARD
BEGIN:DAYLIGHT
TZOFFSETFROM:-0600
TZOFFSETTO:-0500
TZNAME:CDT
DTSTART:20250309T080000
END:DAYLIGHT
BEGIN:STANDARD
TZOFFSETFROM:-0500
TZOFFSETTO:-0600
TZNAME:CST
DTSTART:20251102T070000
END:STANDARD
BEGIN:DAYLIGHT
TZOFFSETFROM:-0600
TZOFFSETTO:-0500
TZNAME:CDT
DTSTART:20260308T080000
END:DAYLIGHT
BEGIN:STANDARD
TZOFFSETFROM:-0500
TZOFFSETTO:-0600
TZNAME:CST
DTSTART:20261101T070000
END:STANDARD
END:VTIMEZONE
BEGIN:VEVENT
DTSTART;TZID=America/Chicago:20250920T080000
DTEND;TZID=America/Chicago:20250920T100000
DTSTAMP:20260424T151333
CREATED:20250722T142912Z
LAST-MODIFIED:20251001T214013Z
UID:10000849-1758355200-1758362400@peelcompton.org
SUMMARY:Level 2 Mountain Biking Fundamentals
DESCRIPTION:Continue to build your bike knowledge with our Level 2 Bike Class! Coler’s PMBIA certified instructors will cover most of the ten fundamentals that are covered in the Bicycle Instructor Certification Program (BICP). This class provides invaluable in-person feedback\, allowing you to create bike habits that will keep you safe and continue to expand your skills as a rider. \nBuilding your bike skills requires a deep understanding of the basics\, so we highly recommend that you take or understand our Level 1 Bike Basics class first. If you are unsure of what course to sign up for\, please reach out. \nNo refunds will be issued for this purchase unless Peel Compton Foundation cancels the program due to low participation or weather. \nSign Up Now \nThanks to our sponsor:
URL:https://peelcompton.org/event/level-2-mountain-biking-fundamentals-6/2025-09-20/
LOCATION:Coler Mountain Bike Preserve\, 2500 NW Grove Lane\, Bentonville\, AR\, United States
CATEGORIES:Coler Mountain Bike Preserve
ATTACH;FMTTYPE=image/jpeg:https://peelcompton.org/wp-content/uploads/2025/07/DSC_7551-scaled.jpg
ORGANIZER;CN="Peel Compton Foundation":MAILTO:info@peelcompton.org
END:VEVENT
BEGIN:VEVENT
DTSTART;TZID=America/Chicago:20250920T080000
DTEND;TZID=America/Chicago:20250920T190000
DTSTAMP:20260424T151333
CREATED:20250715T213536Z
LAST-MODIFIED:20250730T190622Z
UID:10000633-1758355200-1758394800@peelcompton.org
SUMMARY:1001 Arrow Challenge
DESCRIPTION:Think you’ve got what it takes to shoot over a thousand arrows in one day? Step up and find out in the 1001 Arrow Challenge — the ultimate test of stamina\, consistency\, and pure archery determination. \nThe Challenge:\n\nShoot as many arrows as you can in a day.\nUse a lightweight bow to keep up your endurance.\nTake breaks\, pace yourself — come and go as you need throughout the day.\nNo pressure to hit the target — just get that arrow off the string and into the air!\n\nHow it Works:\n\nGrab an arrow counter from the front desk to track your shots.\nA timer will be running to help pace your ends.\nShoot solo or with friends\, as many arrows per end as you can handle.\nCome back for more rounds whenever you’re ready — just keep adding to your total.\n\nThe Reward:\n\nAll participants will receive a certificate with their final arrow count.\nShoot 1001 arrows or more? You’ll earn an exclusive Challenge Prize to mark your achievement!\n\nMissed the mark?\nDidn’t quite hit your goal? No worries — a Second Shot Challenge is coming soon. Train up and try again! \nPlan on coming to both? Sign up as a Session to get a discount! \nReady to push your limits? Grab your bow\, grab your counter\, and start clicking — let’s see how many you can shoot! \nSign Up Now
URL:https://peelcompton.org/event/1001-archery-challenge/2025-09-20/
LOCATION:The Quiver Archery Range\, 1701 SW F St\, Bentonville\, AR\, United States
CATEGORIES:The Quiver Archery Range
ATTACH;FMTTYPE=image/png:https://peelcompton.org/wp-content/uploads/2025/07/AmiliaWebsite-Photos-1020-x-680-px-59.png
ORGANIZER;CN="Peel Compton Foundation":MAILTO:info@peelcompton.org
END:VEVENT
BEGIN:VEVENT
DTSTART;TZID=America/Chicago:20250920T080000
DTEND;TZID=America/Chicago:20250920T190000
DTSTAMP:20260424T151333
CREATED:20250806T211744Z
LAST-MODIFIED:20250806T211744Z
UID:10000878-1758355200-1758394800@peelcompton.org
SUMMARY:Pre-Season 3D Days
DESCRIPTION:Every Friday through Sunday in September\, we’re bringing out our Game face so you can prep for Hunting season! \nGet ready to experience the wild side of archery at The Quiver! On the first weekend of each month\, we bring out our collection of 3D\, animal-shaped targets for you to shoot at. From deer to our fierce velociraptor\, take aim at a variety of unique critters. Of course\, our regular targets will also be available. \nThis is a FREE event for members!  \nWhen you register\, you’ll get access to shoot for one hour at your convenience—just come during the event hours and enjoy the experience. Whether you’re looking to hone your skills or just have fun with some wild targets\, it’s an exciting way to spend your time at The Quiver! \nSign Up Now \n 
URL:https://peelcompton.org/event/pre-season-3d-days/2025-09-20/
LOCATION:The Quiver Archery Range\, 1701 SW F St\, Bentonville\, AR\, United States
CATEGORIES:The Quiver Archery Range
ATTACH;FMTTYPE=image/png:https://peelcompton.org/wp-content/uploads/2025/08/3D-Days-3.png
ORGANIZER;CN="Peel Compton Foundation":MAILTO:info@peelcompton.org
END:VEVENT
BEGIN:VEVENT
DTSTART;TZID=America/Chicago:20250920T090000
DTEND;TZID=America/Chicago:20250920T100000
DTSTAMP:20260424T151334
CREATED:20250812T133625Z
LAST-MODIFIED:20250812T133625Z
UID:10001157-1758358800-1758362400@peelcompton.org
SUMMARY:Beginner Archery Class
DESCRIPTION:Ready to take the next step in your archery journey? If you’re looking to deepen your knowledge\, increase your skills\, and learn more about the art of archery\, this class is for you! If you’ve recently been to the range\, know the whistle commands\, and have a basic understanding of how to shoot an arrow at a target\, you’re ready for this next level of training. \nJoin this small\, personalized class designed for archers of all levels. Whether you’re shooting a traditional\, compound\, recurve\, or barebow\, our instructors will tailor the curriculum to meet your specific needs. We’ll focus on the essential steps of shooting\, building a solid foundation based on the National Training System’s progressive approach. Expect plenty of practice and skill development as you refine your technique. \nIn this course\, you’ll learn the technical terminology for parts of the bow and arrow\, explore different equipment options\, and gain the skills necessary to shoot accurately\, score your shots\, and journal your progress for future success. \nWhat to Expect: \n\nTailored basic instruction for all bow types (traditional\, compound\, recurve\, barebow\, and more)\nFocus on foundational shooting techniques and progression\nUnderstanding equipment options and terminology\nLearn to score and tracking your archery journey\n\nCourse Details: \n\n4-session package (book all 4 classes together)\nMinimum of 3 participants required for the class to run\n\nThis program is suitable for adults and children ages 10 and up. \nAll programs at The Quiver are led by USA Archery & SafeSport Certified instructors. \nLessons are curated by a USA Archery Level 3 Coach \nRegister
URL:https://peelcompton.org/event/beginner-archery-class-5/2025-09-20/
LOCATION:The Quiver Archery Range\, 1701 SW F St\, Bentonville\, AR\, United States
CATEGORIES:The Quiver Archery Range
ATTACH;FMTTYPE=image/jpeg:https://peelcompton.org/wp-content/uploads/2025/04/beginner-1.jpg
ORGANIZER;CN="Peel Compton Foundation":MAILTO:info@peelcompton.org
END:VEVENT
BEGIN:VEVENT
DTSTART;TZID=America/Chicago:20250920T103000
DTEND;TZID=America/Chicago:20250920T123000
DTSTAMP:20260424T151334
CREATED:20250722T142057Z
LAST-MODIFIED:20250826T144814Z
UID:10000848-1758364200-1758371400@peelcompton.org
SUMMARY:Mountain Biking - Intro to Cornering
DESCRIPTION:Coler’s Mountain Biking Intro to Cornering Class is the perfect place for you to expand your skill set. Coler’s PMBIA certified instructors will walk you through all aspects of cornering – including body position\, bike position\, and more. This class will help provide a solid foundation for you to take your skills to the next level! \nNo refunds will be issued for this purchase unless Peel Compton Foundation cancels the program due to low participation or weather. \n  \nSign Up Now \n  \nThanks to our sponsor:
URL:https://peelcompton.org/event/mountain-biking-intro-to-cornering-4/
LOCATION:Coler Mountain Bike Preserve\, 2500 NW Grove Lane\, Bentonville\, AR\, United States
CATEGORIES:Coler Mountain Bike Preserve
ATTACH;FMTTYPE=image/png:https://peelcompton.org/wp-content/uploads/2025/07/Mountain-Biking-Intro-to-Cornering-1-7kOFJw.png
END:VEVENT
END:VCALENDAR