BEGIN:VCALENDAR
VERSION:2.0
PRODID:-//Peel Compton Foundation - ECPv6.15.20//NONSGML v1.0//EN
CALSCALE:GREGORIAN
METHOD:PUBLISH
X-ORIGINAL-URL:https://peelcompton.org
X-WR-CALDESC:Events for Peel Compton Foundation
REFRESH-INTERVAL;VALUE=DURATION:PT1H
X-Robots-Tag:noindex
X-PUBLISHED-TTL:PT1H
BEGIN:VTIMEZONE
TZID:America/Chicago
BEGIN:DAYLIGHT
TZOFFSETFROM:-0600
TZOFFSETTO:-0500
TZNAME:CDT
DTSTART:20240310T080000
END:DAYLIGHT
BEGIN:STANDARD
TZOFFSETFROM:-0500
TZOFFSETTO:-0600
TZNAME:CST
DTSTART:20241103T070000
END:STANDARD
BEGIN:DAYLIGHT
TZOFFSETFROM:-0600
TZOFFSETTO:-0500
TZNAME:CDT
DTSTART:20250309T080000
END:DAYLIGHT
BEGIN:STANDARD
TZOFFSETFROM:-0500
TZOFFSETTO:-0600
TZNAME:CST
DTSTART:20251102T070000
END:STANDARD
BEGIN:DAYLIGHT
TZOFFSETFROM:-0600
TZOFFSETTO:-0500
TZNAME:CDT
DTSTART:20260308T080000
END:DAYLIGHT
BEGIN:STANDARD
TZOFFSETFROM:-0500
TZOFFSETTO:-0600
TZNAME:CST
DTSTART:20261101T070000
END:STANDARD
END:VTIMEZONE
BEGIN:VEVENT
DTSTART;TZID=America/Chicago:20250918T130000
DTEND;TZID=America/Chicago:20250918T140000
DTSTAMP:20260423T230358
CREATED:20250908T154921Z
LAST-MODIFIED:20250908T154921Z
UID:10001317-1758200400-1758204000@peelcompton.org
SUMMARY:Homeschool Archery Club
DESCRIPTION:Join our Homeschool Archery Club\, a welcoming and relaxed space for homeschool families to connect and enjoy the sport of archery together! This club is open to all experience levels—from complete beginners to seasoned archers. Whether you’re just curious about trying something new or looking to improve your aim\, this is the perfect opportunity to have fun and build skills in a safe\, supportive environment. \nWe provide: \n\nBasic instruction and guidance\nAll necessary archery equipment\nA safe shooting environment\nCertified staff on hand for supervision and support\n\nThis is a casual\, community-centered meetup designed to encourage connection\, skill-building\, and plenty of target practice for both kids and adults. Come shoot\, socialize\, and be part of a growing homeschool archery community! \n$10 fee for non-members\, free for members! \nAll minors must be accompanied by an adult\, and well-behaved children under 8 must remain in the spectating area with an adult present at all times. \nRegister
URL:https://peelcompton.org/event/homeschool-archery-club/2025-09-18/
LOCATION:The Quiver Archery Range\, 1701 SW F St\, Bentonville\, AR\, United States
CATEGORIES:The Quiver Archery Range
ATTACH;FMTTYPE=image/jpeg:https://peelcompton.org/wp-content/uploads/2025/09/DSC_4449-scaled.jpg
ORGANIZER;CN="Peel Compton Foundation":MAILTO:info@peelcompton.org
END:VEVENT
BEGIN:VEVENT
DTSTART;TZID=America/Chicago:20250918T150000
DTEND;TZID=America/Chicago:20250918T200000
DTSTAMP:20260423T230358
CREATED:20250908T155455Z
LAST-MODIFIED:20250908T182947Z
UID:10000868-1758207600-1758225600@peelcompton.org
SUMMARY:Oz Trails Town Series
DESCRIPTION:Oz Trails Town Series: Thunderdome ThrowdownAugust sessions have been moved to September! \nGet ready for a night of exciting head-to-head dual slalom racing on the blue and red courses at The Thunderdome in Coler Mountain Bike Preserve! This high-energy community event brings riders of all ages and skill levels together for some mid-week fun and competition. \nCheering and heckling are not only welcome—they’re strongly encouraged! \nSchedule: \n\n3:00–4:30 PM – Free Community JAM (all ages welcome) + Practice Laps\n4:30 PM – Beginner Juniors Boys & Girls (ages 9–13)\n5:00 PM – Junior Women (ages 9–16)\, Junior Men (ages 9–16)\, E-Bike Open\, Open Women\, Open Men\n6:30 PM – Semi-Finals\n7:00 PM – Finals + DJ\n\nLocation: Coler Grove\, Thunderdome at Coler Mountain Bike Preserve \nThis series gives junior riders the chance to earn USA Cycling points without the cost of traveling to weekend races. It also creates a professional-level race experience for the whole community\, right here at home. Whether you’re racing\, cheering\, or just enjoying the atmosphere\, it’s a night you won’t want to miss! \n\n\n\nSign Up Now \n 
URL:https://peelcompton.org/event/oz-trails-town-series-5-2/2025-09-18/
LOCATION:Coler Mountain Bike Preserve\, 2500 NW Grove Lane\, Bentonville\, AR\, United States
CATEGORIES:Coler Mountain Bike Preserve
ATTACH;FMTTYPE=image/png:https://peelcompton.org/wp-content/uploads/2025/07/AmiliaWebsite-Photos-1020-x-680-px-22-g4nRIL.png
ORGANIZER;CN="Peel Compton Foundation":MAILTO:info@peelcompton.org
END:VEVENT
BEGIN:VEVENT
DTSTART;TZID=America/Chicago:20250918T170000
DTEND;TZID=America/Chicago:20250918T190000
DTSTAMP:20260423T230358
CREATED:20250814T133607Z
LAST-MODIFIED:20250814T134415Z
UID:10001160-1758214800-1758222000@peelcompton.org
SUMMARY:From Orchard to Glass: Bentonville's Apple History
DESCRIPTION:Apples After Hours: Distillery Experience\nTicketed Evening Program\nStep deeper into Bentonville’s apple history with this unique collaboration between Peel Museum & Botanical Garden and RG Macon & Carson Distillery. This intimate evening program explores the fascinating connection between local apple orchards and the renowned brandy production that put Northwest Arkansas on the map. \nTwo Time Slots Available\n\n5:00 PM Session\n6:00 PM Session\n\nYour Experience Includes:\n\nIntimate\, Guided History Program Discover how apples shaped Northwest Arkansas in the early 1900s with expert-led storytelling that brings the past to life.\nHeirloom Orchard Exploration Explore heritage apple varieties still growing in the Peel orchard and learn about the agricultural practices that sustained generations of families.\nBehind-the-Scenes Distillery Experience Go where regular visitors can’t! Get exclusive access to distillery operations and learn how the Peel family’s orchards directly fueled the Macon Brothers’ renowned brandy production.\nCurated Tastings Enjoy one signature cocktail plus individual spirit samples that showcase the craftsmanship and flavors of traditional apple brandy making.\n\nThe Historic Connection\nLearn how this very collaboration between orchards and distilleries shaped our region’s economy and culture. Through historical artifacts\, vintage postcards\, and expert guidance\, you’ll understand why the Macon & Carson Distillery became legendary throughout Arkansas and beyond. \nAdditional Perks\nAll ticketed guests also have access to the free museum portion of Apples After Hours\, including self-guided tours\, staff interactions\, and late-night gift shop access. \nSpace is limited for this intimate experience. Reserve your preferred time slot today! \n\nBuy Tickets
URL:https://peelcompton.org/event/from-orchard-to-glass-bentonvilles-apple-history/
LOCATION:Peel Museum & Botanical Garden\, 400 S. Walton Blvd\, Bentonville\, AR\, United States
CATEGORIES:Peel Museum & Botanical Garden
ATTACH;FMTTYPE=image/png:https://peelcompton.org/wp-content/uploads/2025/08/AmiliaWebsite-Photos-1020-x-680-px-92.png
ORGANIZER;CN="Peel Compton Foundation":MAILTO:info@peelcompton.org
END:VEVENT
BEGIN:VEVENT
DTSTART;TZID=America/Chicago:20250918T170000
DTEND;TZID=America/Chicago:20250918T190000
DTSTAMP:20260423T230358
CREATED:20250814T135128Z
LAST-MODIFIED:20250814T135128Z
UID:10001161-1758214800-1758222000@peelcompton.org
SUMMARY:Apples After Hours: A Sweet Slice of History
DESCRIPTION:FREE After-Hours Museum Night\nTake a juicy bite out of history during this special late-night opening of the museum! Join us for an evening of self-paced exploration as we stay open late just for you. \nWhat to Expect\nExplore the museum at your own pace with free\, self-guided tours\, and meet our friendly staff and volunteers who are ready to greet you and share fascinating apple facts—from orchards to modern pies. Discover how apples shaped Northwest Arkansas in the early 1900s and learn about the agricultural heritage that made our region famous. \nBefore the evening ends\, stop by the museum gift shop\, which will be open late with keepsakes\, books\, and souvenirs. It’s the most delicious way to spend an evening at the museum! \nEvent Details\n\nCost: FREE admission\nRegistration: No registration required!\nFormat: Self-guided tours\nStaff: Available throughout the evening to share apple history and answer questions\nGift Shop: Open late with special souvenirs\n\nLooking for something more immersive? We’re also offering a special ticketed evening program featuring an intimate collaboration with RG Macon & Carson Distillery\, complete with guided tours\, tastings\, and behind-the-scenes experiences. Learn more about our premium Distillery Experience → \nPerfect for families\, history buffs\, and anyone curious about Northwest Arkansas’s agricultural heritage!
URL:https://peelcompton.org/event/apples-after-hours-a-sweet-slice-of-history/
LOCATION:Peel Museum & Botanical Garden\, 400 S. Walton Blvd\, Bentonville\, AR\, United States
CATEGORIES:Peel Museum & Botanical Garden
ATTACH;FMTTYPE=image/png:https://peelcompton.org/wp-content/uploads/2025/08/AmiliaWebsite-Photos-1020-x-680-px-93.png
ORGANIZER;CN="Peel Compton Foundation":MAILTO:info@peelcompton.org
END:VEVENT
END:VCALENDAR