BEGIN:VCALENDAR
VERSION:2.0
PRODID:-//Peel Compton Foundation - ECPv6.15.20//NONSGML v1.0//EN
CALSCALE:GREGORIAN
METHOD:PUBLISH
X-WR-CALNAME:Peel Compton Foundation
X-ORIGINAL-URL:https://peelcompton.org
X-WR-CALDESC:Events for Peel Compton Foundation
REFRESH-INTERVAL;VALUE=DURATION:PT1H
X-Robots-Tag:noindex
X-PUBLISHED-TTL:PT1H
BEGIN:VTIMEZONE
TZID:America/Chicago
BEGIN:DAYLIGHT
TZOFFSETFROM:-0600
TZOFFSETTO:-0500
TZNAME:CDT
DTSTART:20240310T080000
END:DAYLIGHT
BEGIN:STANDARD
TZOFFSETFROM:-0500
TZOFFSETTO:-0600
TZNAME:CST
DTSTART:20241103T070000
END:STANDARD
BEGIN:DAYLIGHT
TZOFFSETFROM:-0600
TZOFFSETTO:-0500
TZNAME:CDT
DTSTART:20250309T080000
END:DAYLIGHT
BEGIN:STANDARD
TZOFFSETFROM:-0500
TZOFFSETTO:-0600
TZNAME:CST
DTSTART:20251102T070000
END:STANDARD
BEGIN:DAYLIGHT
TZOFFSETFROM:-0600
TZOFFSETTO:-0500
TZNAME:CDT
DTSTART:20260308T080000
END:DAYLIGHT
BEGIN:STANDARD
TZOFFSETFROM:-0500
TZOFFSETTO:-0600
TZNAME:CST
DTSTART:20261101T070000
END:STANDARD
END:VTIMEZONE
BEGIN:VEVENT
DTSTART;VALUE=DATE:20250907
DTEND;VALUE=DATE:20250908
DTSTAMP:20260423T075946
CREATED:20250701T190148Z
LAST-MODIFIED:20250715T185855Z
UID:10000267-1757203200-1757289599@peelcompton.org
SUMMARY:3D Days
DESCRIPTION:Get ready for an unforgettable archery experience at The Quiver—where the wild side of archery comes to life! On the first weekend of every month\, we host 3D Days\, where we bring out an exciting array of 3D\, animal-shaped targets that will take your archery skills to the next level. Plus\, our regular targets will also be available for those who prefer the classic archery experience. \nThis event is completely FREE for The Quiver members! \nIt’s the perfect opportunity to try something new and immerse yourself in the thrilling world of 3D archery. Whether you’re an experienced archer or a beginner\, you’ll find the variety of targets to be both fun and challenging. \nWhen you register\, you’ll get access to one hour of shooting during the event hours\, giving you the flexibility to come by at a time that works for you. Simply show up\, pick your target\, and enjoy the experience. Whether you’re looking to improve your accuracy\, practice your skills\, or just have a blast with these wild and unique targets\, it’s an exciting way to spend your time at The Quiver. Don’t miss out on this monthly adventure! \nSign Up Now
URL:https://peelcompton.org/event/3d-days-18/
LOCATION:The Quiver Archery Range\, 1701 SW F St\, Bentonville\, AR\, United States
CATEGORIES:The Quiver Archery Range
ATTACH;FMTTYPE=image/png:https://peelcompton.org/wp-content/uploads/2025/07/3D-Days-2025-QkQWze.png
END:VEVENT
BEGIN:VEVENT
DTSTART;TZID=America/Chicago:20250907T080000
DTEND;TZID=America/Chicago:20250907T190000
DTSTAMP:20260423T075947
CREATED:20250716T140103Z
LAST-MODIFIED:20250716T140103Z
UID:10000656-1757232000-1757271600@peelcompton.org
SUMMARY:Sight-In Your Bow Weekend
DESCRIPTION:FREE FOR MEMBERS \nLooking for a chance to sight in your bow before deer season starts? We’ve got you covered! Come set up for anywhere between 20 and 70 Meters OR Yards. Please no broadheads or crossbows\, field points only. \nJust looking to shoot? We’re still open to anyone who’d like to come out and learn or practice\, bring your own equipment or borrow ours. \nSign up on the correct day\, then attend at a time of your convienence on that day.  \nRegistering for the event gives you access to shoot for an hour of your choosing. Come at your convenience. \nPrograms at The Quiver are led by Level 1 USA Archery & Safesport Certified Staff \n  \nSign Up Now
URL:https://peelcompton.org/event/sight-in-your-bow-weekend-3/2025-09-07/
LOCATION:The Quiver Archery Range\, 1701 SW F St\, Bentonville\, AR\, United States
CATEGORIES:The Quiver Archery Range
ATTACH;FMTTYPE=image/png:https://peelcompton.org/wp-content/uploads/2025/07/AmiliaWebsite-Photos-1020-x-680-px-64.png
ORGANIZER;CN="Peel Compton Foundation":MAILTO:info@peelcompton.org
END:VEVENT
BEGIN:VEVENT
DTSTART;TZID=America/Chicago:20250907T080000
DTEND;TZID=America/Chicago:20250907T190000
DTSTAMP:20260423T075947
CREATED:20250806T211744Z
LAST-MODIFIED:20250806T211744Z
UID:10000873-1757232000-1757271600@peelcompton.org
SUMMARY:Pre-Season 3D Days
DESCRIPTION:Every Friday through Sunday in September\, we’re bringing out our Game face so you can prep for Hunting season! \nGet ready to experience the wild side of archery at The Quiver! On the first weekend of each month\, we bring out our collection of 3D\, animal-shaped targets for you to shoot at. From deer to our fierce velociraptor\, take aim at a variety of unique critters. Of course\, our regular targets will also be available. \nThis is a FREE event for members!  \nWhen you register\, you’ll get access to shoot for one hour at your convenience—just come during the event hours and enjoy the experience. Whether you’re looking to hone your skills or just have fun with some wild targets\, it’s an exciting way to spend your time at The Quiver! \nSign Up Now \n 
URL:https://peelcompton.org/event/pre-season-3d-days/2025-09-07/
LOCATION:The Quiver Archery Range\, 1701 SW F St\, Bentonville\, AR\, United States
CATEGORIES:The Quiver Archery Range
ATTACH;FMTTYPE=image/png:https://peelcompton.org/wp-content/uploads/2025/08/3D-Days-3.png
ORGANIZER;CN="Peel Compton Foundation":MAILTO:info@peelcompton.org
END:VEVENT
END:VCALENDAR